BEGIN:VCALENDAR
VERSION:2.0
PRODID:-//Parada ponosa 2021 - ECPv6.15.20//NONSGML v1.0//EN
CALSCALE:GREGORIAN
METHOD:PUBLISH
X-WR-CALNAME:Parada ponosa 2021
X-ORIGINAL-URL:https://ljubljanapride.org/2021/en/
X-WR-CALDESC:Events for Parada ponosa 2021
REFRESH-INTERVAL;VALUE=DURATION:PT1H
X-Robots-Tag:noindex
X-PUBLISHED-TTL:PT1H
BEGIN:VTIMEZONE
TZID:Europe/Ljubljana
BEGIN:DAYLIGHT
TZOFFSETFROM:+0100
TZOFFSETTO:+0200
TZNAME:CEST
DTSTART:20200329T010000
END:DAYLIGHT
BEGIN:STANDARD
TZOFFSETFROM:+0200
TZOFFSETTO:+0100
TZNAME:CET
DTSTART:20201025T010000
END:STANDARD
BEGIN:DAYLIGHT
TZOFFSETFROM:+0100
TZOFFSETTO:+0200
TZNAME:CEST
DTSTART:20210328T010000
END:DAYLIGHT
BEGIN:STANDARD
TZOFFSETFROM:+0200
TZOFFSETTO:+0100
TZNAME:CET
DTSTART:20211031T010000
END:STANDARD
BEGIN:DAYLIGHT
TZOFFSETFROM:+0100
TZOFFSETTO:+0200
TZNAME:CEST
DTSTART:20220327T010000
END:DAYLIGHT
BEGIN:STANDARD
TZOFFSETFROM:+0200
TZOFFSETTO:+0100
TZNAME:CET
DTSTART:20221030T010000
END:STANDARD
END:VTIMEZONE
BEGIN:VEVENT
DTSTART;TZID=Europe/Ljubljana:20210617T143000
DTEND;TZID=Europe/Ljubljana:20210617T180000
DTSTAMP:20260421T003453
CREATED:20210525T082957Z
LAST-MODIFIED:20210608T132900Z
UID:180-1623940200-1623952800@ljubljanapride.org
SUMMARY:Conference: Inclusive Volunteering
DESCRIPTION:Organised by: Ljubljana Pride Association \nLanguage: English \n  \n\nThe conference is striving to respond to the question “What is inclusive volunteering and how can we practise it in (youth) organisations?” and it consists of three parts. First one focuses on the concept of inclusive volunteering as well as presentation of the publication “Inclusion and Support for the LGBTIQ+ Youth in (volunteering) projects in European Solidarity Corps Programme: Guidelines for the Organisations”. Second part will explore the specifics and challenges of inclusive volunteering the organisations face in their practise in the form of a panel discussion. In the last part\, different organisations will present their good practise examples of inclusive volunteering. \nLINK TO APPLICATION FORM: https://forms.gle/ZURSsb7KMpDPEzFx5 \nPRELIMINARY PROGRAMME: \n14.00–14.30: Arrival and registration \n14.30–14.50: Introductory speeches \n14.50–15.05: Input on the concept of Inclusive Volunteering \n15.05–15.20: Presentation of the publication Inclusion and Support of the LGBITQ+ Youth in (volunteering) projects of the European Solidarity Corps: Guidelines for the Organisations \n15.20–15.30: Coffee break \n15.30–16.30: Roundtable: Specifics and challenges of inclusive volunteering \n16.30–16.45: Coffee break \n16.45–17.45: Presentations of good practises of inclusive volunteering \n17.45–18.00: Conclusions and closing \n\nFor questions you can write to info@ljubljanapride.org.\n \n\n\nThe event is supported by the Europe for Citizens programme.\n 
URL:https://ljubljanapride.org/2021/en/event/conference-inclusive-volunteering/
LOCATION:Kino Šiška\, Trg prekomorskih brigad 3\, 1000 Ljubljana\, Slovenia
ATTACH;FMTTYPE=image/png:https://ljubljanapride.org/2021/wp-content/uploads/2021/05/Vklkjucujoce-prostovoljstvo_fb-2.png
END:VEVENT
END:VCALENDAR