BEGIN:VCALENDAR
VERSION:2.0
PRODID:-//Parada ponosa 2021 - ECPv6.15.20//NONSGML v1.0//EN
CALSCALE:GREGORIAN
METHOD:PUBLISH
X-WR-CALNAME:Parada ponosa 2021
X-ORIGINAL-URL:https://ljubljanapride.org/2021/en/
X-WR-CALDESC:Events for Parada ponosa 2021
REFRESH-INTERVAL;VALUE=DURATION:PT1H
X-Robots-Tag:noindex
X-PUBLISHED-TTL:PT1H
BEGIN:VTIMEZONE
TZID:Europe/Ljubljana
BEGIN:DAYLIGHT
TZOFFSETFROM:+0100
TZOFFSETTO:+0200
TZNAME:CEST
DTSTART:20200329T010000
END:DAYLIGHT
BEGIN:STANDARD
TZOFFSETFROM:+0200
TZOFFSETTO:+0100
TZNAME:CET
DTSTART:20201025T010000
END:STANDARD
BEGIN:DAYLIGHT
TZOFFSETFROM:+0100
TZOFFSETTO:+0200
TZNAME:CEST
DTSTART:20210328T010000
END:DAYLIGHT
BEGIN:STANDARD
TZOFFSETFROM:+0200
TZOFFSETTO:+0100
TZNAME:CET
DTSTART:20211031T010000
END:STANDARD
BEGIN:DAYLIGHT
TZOFFSETFROM:+0100
TZOFFSETTO:+0200
TZNAME:CEST
DTSTART:20220327T010000
END:DAYLIGHT
BEGIN:STANDARD
TZOFFSETFROM:+0200
TZOFFSETTO:+0100
TZNAME:CET
DTSTART:20221030T010000
END:STANDARD
END:VTIMEZONE
BEGIN:VEVENT
DTSTART;TZID=Europe/Ljubljana:20210616T090000
DTEND;TZID=Europe/Ljubljana:20210616T173000
DTSTAMP:20260421T071343
CREATED:20210525T081523Z
LAST-MODIFIED:20210604T121311Z
UID:169-1623834000-1623864600@ljubljanapride.org
SUMMARY:Home\, Sweet Home - International Conference on Housing Exclusion and Homelessness of LGBTIQ+ Youth  
DESCRIPTION:Organised by: Ljubljana Pride Association \nLanguage: Slovenian and English \n  \nThe Pride Parade Association invites you to Home\, Sweet Home – International Conference on Housing Exclusion and Homelessness of LGBTIQ+ Youth in cooperation with FEANTSA\, Association Quore and True Colors United. During the event we will present the results of the research titled Bivanjske razmere mladih LGBTIQ+ oseb v Sloveniji (Living Conditions of Young LGBTIQ + People in Slovenia) as well as address the field of housing exclusion and homelessness of young LGBTIQ + people by exploring good practices and experiences of our international partners.  \n  \nThe conference will take place between 9.00 and 17.30 on Wednesday\, 16. 06. 2021. in Ljubljana. Some parts of the event will be held only in Slovene\, with no organised translation. \n  \nAttendance is free of charge but registration is mandatory due to logistical reasons and limited numbers of participants. You can register until 13. 06. 2021 using the REGISTRATION FORM.  \n  \nWhen organizing the event\, all NIJZ guidelines for ensuring the safety of participants and guests will be taken into account. For additional information\, please contact us at vesna@ljubljanapride.org. \n  \nPRELIMINARY PROGRAMME:\n9.00–9.30: Arrival and registration \n9.30–9.45: Introduction \n9.45–11.00: Presentation of the results of the research Bivanjske razmere mladih LGBTIQ+ oseb v Sloveniji  \n11.00–11.15: Break \n11.15–11.45: Presentation of good practices – FEANTSA \n11.45–12.15: Presentation of good practices – True Colors United \n12.15–13.00: Break \n13.00–13.30: Presentation of good practices – Association Quore  \n13.30–14.00: Lunch break \n14.00–15.30: Round table on the possibilities and opportunities of addressing housing exclusion and homelessness of LGBTIQ+ youth in Slovenia at a systemic level \n15.30–15.45: Break and division into groups \n15.45–17.00: Group workshops: \n\nGroup 1: True Colors United workshop – specifics of working with homeless LGBTIQ+ youth\nGroup 2: possibilities and opportunities for systematically addressing housing exclusion and homelessness of LGBTIQ + youth in Slovenia in practice – a conversation with decision-makers\n\n17.00–17.30: Conclusion
URL:https://ljubljanapride.org/2021/en/event/home-sweet-home/
LOCATION:Mestna hiša Ljubljana\, Rdeča dvorana
ATTACH;FMTTYPE=image/png:https://ljubljanapride.org/2021/wp-content/uploads/2021/05/Ljubo-doma_fb-1.png
END:VEVENT
END:VCALENDAR