BEGIN:VCALENDAR
VERSION:2.0
PRODID:-//Parada ponosa 2021 - ECPv6.15.20//NONSGML v1.0//EN
CALSCALE:GREGORIAN
METHOD:PUBLISH
X-WR-CALNAME:Parada ponosa 2021
X-ORIGINAL-URL:https://ljubljanapride.org/2021/en/
X-WR-CALDESC:Events for Parada ponosa 2021
REFRESH-INTERVAL;VALUE=DURATION:PT1H
X-Robots-Tag:noindex
X-PUBLISHED-TTL:PT1H
BEGIN:VTIMEZONE
TZID:Europe/Ljubljana
BEGIN:DAYLIGHT
TZOFFSETFROM:+0100
TZOFFSETTO:+0200
TZNAME:CEST
DTSTART:20200329T010000
END:DAYLIGHT
BEGIN:STANDARD
TZOFFSETFROM:+0200
TZOFFSETTO:+0100
TZNAME:CET
DTSTART:20201025T010000
END:STANDARD
BEGIN:DAYLIGHT
TZOFFSETFROM:+0100
TZOFFSETTO:+0200
TZNAME:CEST
DTSTART:20210328T010000
END:DAYLIGHT
BEGIN:STANDARD
TZOFFSETFROM:+0200
TZOFFSETTO:+0100
TZNAME:CET
DTSTART:20211031T010000
END:STANDARD
BEGIN:DAYLIGHT
TZOFFSETFROM:+0100
TZOFFSETTO:+0200
TZNAME:CEST
DTSTART:20220327T010000
END:DAYLIGHT
BEGIN:STANDARD
TZOFFSETFROM:+0200
TZOFFSETTO:+0100
TZNAME:CET
DTSTART:20221030T010000
END:STANDARD
END:VTIMEZONE
BEGIN:VEVENT
DTSTART;TZID=Europe/Ljubljana:20210610T170000
DTEND;TZID=Europe/Ljubljana:20210610T190000
DTSTAMP:20260421T135900
CREATED:20210524T123330Z
LAST-MODIFIED:20210525T095603Z
UID:137-1623344400-1623351600@ljubljanapride.org
SUMMARY:Launch: Inclusive Organisations
DESCRIPTION:Organised by: Ljubljana Pride Association \nLanguage: Slovenian \n  \nThe event will be composed of two related launches\, the launch of the Network of Inclusive Organisations and the launch of the Slovene translation of Inclusive Organisations – Manual for Organisational Development.  \nLjubljana Pride decided to start connecting a wide number of Ljubljana-based (youth) organisations active in the area of inclusion of marginalised youth into a support and coordination network. The aim of the network is to empower the local organisations to actively engage in inclusive youth work and to support them in learning the tools and approaches needed to do so.  \nAdditionally\, this event will mark the occasion of launching the newly translated edition of Organisations – Manual for Organisational Development\, now available in Slovene.
URL:https://ljubljanapride.org/2021/en/event/launch-inclusive-organisations/
LOCATION:Desni atrij Mestne hiše\, Mestni trg 1\, Ljubljana /// Pritličje\, Mestni trg 2\, Ljubljana (odvisno od takrat veljavnih ukrepov)
END:VEVENT
END:VCALENDAR