BEGIN:VCALENDAR
VERSION:2.0
PRODID:-//Parada ponosa 2021 - ECPv6.15.20//NONSGML v1.0//EN
CALSCALE:GREGORIAN
METHOD:PUBLISH
X-WR-CALNAME:Parada ponosa 2021
X-ORIGINAL-URL:https://ljubljanapride.org/2021/en/
X-WR-CALDESC:Events for Parada ponosa 2021
REFRESH-INTERVAL;VALUE=DURATION:PT1H
X-Robots-Tag:noindex
X-PUBLISHED-TTL:PT1H
BEGIN:VTIMEZONE
TZID:Europe/Ljubljana
BEGIN:DAYLIGHT
TZOFFSETFROM:+0100
TZOFFSETTO:+0200
TZNAME:CEST
DTSTART:20200329T010000
END:DAYLIGHT
BEGIN:STANDARD
TZOFFSETFROM:+0200
TZOFFSETTO:+0100
TZNAME:CET
DTSTART:20201025T010000
END:STANDARD
BEGIN:DAYLIGHT
TZOFFSETFROM:+0100
TZOFFSETTO:+0200
TZNAME:CEST
DTSTART:20210328T010000
END:DAYLIGHT
BEGIN:STANDARD
TZOFFSETFROM:+0200
TZOFFSETTO:+0100
TZNAME:CET
DTSTART:20211031T010000
END:STANDARD
BEGIN:DAYLIGHT
TZOFFSETFROM:+0100
TZOFFSETTO:+0200
TZNAME:CEST
DTSTART:20220327T010000
END:DAYLIGHT
BEGIN:STANDARD
TZOFFSETFROM:+0200
TZOFFSETTO:+0100
TZNAME:CET
DTSTART:20221030T010000
END:STANDARD
END:VTIMEZONE
BEGIN:VEVENT
DTSTART;TZID=Europe/Ljubljana:20210618T190000
DTEND;TZID=Europe/Ljubljana:20210618T203000
DTSTAMP:20260420T225352
CREATED:20210525T085434Z
LAST-MODIFIED:20210601T115419Z
UID:196-1624042800-1624048200@ljubljanapride.org
SUMMARY:Literary event: “we lessen the grip of walls”
DESCRIPTION:Organised by: Ljubljana Pride Association \nLanguage: English\, Slovenian \n  \nFriday evening will begin with literature\, as Slovenian-Czech poet Aljaž Koprivnikar\, Slovak author Michal Tallo and Hungarian poet Panka Török will invite us to listen to some of their latest writing. Just before Slovenia takes over the presidency of the EU\, not hiding its appreciation for the politics of The Visegrád Group\, the young authors will present their poetry and help us map LGBTIQ+ art production in their home countries\, while simultaneously placing it in a broader social context.
URL:https://ljubljanapride.org/2021/en/event/literary-event-we-lessen-the-grip-of-walls/
LOCATION:Atrij ZRC\, Novi trg 2\, 1000 Ljubljana
ATTACH;FMTTYPE=image/png:https://ljubljanapride.org/2021/wp-content/uploads/2021/05/Popuscava_fb.png
END:VEVENT
END:VCALENDAR