BEGIN:VCALENDAR
VERSION:2.0
PRODID:-//Parada ponosa 2021 - ECPv6.15.20//NONSGML v1.0//EN
CALSCALE:GREGORIAN
METHOD:PUBLISH
X-WR-CALNAME:Parada ponosa 2021
X-ORIGINAL-URL:https://ljubljanapride.org/2021/en/
X-WR-CALDESC:Events for Parada ponosa 2021
REFRESH-INTERVAL;VALUE=DURATION:PT1H
X-Robots-Tag:noindex
X-PUBLISHED-TTL:PT1H
BEGIN:VTIMEZONE
TZID:Europe/Ljubljana
BEGIN:DAYLIGHT
TZOFFSETFROM:+0100
TZOFFSETTO:+0200
TZNAME:CEST
DTSTART:20200329T010000
END:DAYLIGHT
BEGIN:STANDARD
TZOFFSETFROM:+0200
TZOFFSETTO:+0100
TZNAME:CET
DTSTART:20201025T010000
END:STANDARD
BEGIN:DAYLIGHT
TZOFFSETFROM:+0100
TZOFFSETTO:+0200
TZNAME:CEST
DTSTART:20210328T010000
END:DAYLIGHT
BEGIN:STANDARD
TZOFFSETFROM:+0200
TZOFFSETTO:+0100
TZNAME:CET
DTSTART:20211031T010000
END:STANDARD
BEGIN:DAYLIGHT
TZOFFSETFROM:+0100
TZOFFSETTO:+0200
TZNAME:CEST
DTSTART:20220327T010000
END:DAYLIGHT
BEGIN:STANDARD
TZOFFSETFROM:+0200
TZOFFSETTO:+0100
TZNAME:CET
DTSTART:20221030T010000
END:STANDARD
END:VTIMEZONE
BEGIN:VEVENT
DTSTART;TZID=Europe/Ljubljana:20210612T170000
DTEND;TZID=Europe/Ljubljana:20210612T230000
DTSTAMP:20260421T123103
CREATED:20210524T123718Z
LAST-MODIFIED:20210525T095750Z
UID:145-1623517200-1623538800@ljubljanapride.org
SUMMARY:Ljubljana Pride Festival 2021 Opening: Pride Fundraiser
DESCRIPTION:Organised by: Ljubljana Pride Association \nLanguage: Slovenian and English \n  \nDear Ljubljana Pride supporters\, \n  \nThis year we are planning an even more visible and resonant festival than before and an unforgettable Pride Parade 2021\, so we are inviting you to the Pride Parade Festival 2021 Opening: Pride Fundraiser. All proceeds will go towards financing the Pride Parade 2021. \n  \nWe want to mark the opening of the Festival with a music and cultural programme – we know that by now everyone is eager for live events! We will publish the details of the programme and the performers shortly and we are also preparing a special surprise for you! We promise wild pleasures! 🙂 \n  \nIf you are unable to attend the event but nevertheless want to financially support the Pride Parade 2021\, you can make a voluntary donation to Društvo Parada ponosa\, Dunajska 10\, Ljubljana\, TRR number: SI56 6100 0001 2119 430\, at Delavska hranilnica d. d. \n  \nExcited to see you there! 
URL:https://ljubljanapride.org/2021/en/event/ljubljana-pride-festival-2021-opening-pride-fundraiser/
LOCATION:Vilharjeva 3 (notranje parkirišče)\, Ljubljana
ATTACH;FMTTYPE=image/png:https://ljubljanapride.org/2021/wp-content/uploads/2021/05/Pride-Fundraiser_fb.png
END:VEVENT
END:VCALENDAR