BEGIN:VCALENDAR
VERSION:2.0
PRODID:-//Parada ponosa 2021 - ECPv6.15.20//NONSGML v1.0//EN
CALSCALE:GREGORIAN
METHOD:PUBLISH
X-WR-CALNAME:Parada ponosa 2021
X-ORIGINAL-URL:https://ljubljanapride.org/2021/en/
X-WR-CALDESC:Events for Parada ponosa 2021
REFRESH-INTERVAL;VALUE=DURATION:PT1H
X-Robots-Tag:noindex
X-PUBLISHED-TTL:PT1H
BEGIN:VTIMEZONE
TZID:Europe/Ljubljana
BEGIN:DAYLIGHT
TZOFFSETFROM:+0100
TZOFFSETTO:+0200
TZNAME:CEST
DTSTART:20200329T010000
END:DAYLIGHT
BEGIN:STANDARD
TZOFFSETFROM:+0200
TZOFFSETTO:+0100
TZNAME:CET
DTSTART:20201025T010000
END:STANDARD
BEGIN:DAYLIGHT
TZOFFSETFROM:+0100
TZOFFSETTO:+0200
TZNAME:CEST
DTSTART:20210328T010000
END:DAYLIGHT
BEGIN:STANDARD
TZOFFSETFROM:+0200
TZOFFSETTO:+0100
TZNAME:CET
DTSTART:20211031T010000
END:STANDARD
BEGIN:DAYLIGHT
TZOFFSETFROM:+0100
TZOFFSETTO:+0200
TZNAME:CEST
DTSTART:20220327T010000
END:DAYLIGHT
BEGIN:STANDARD
TZOFFSETFROM:+0200
TZOFFSETTO:+0100
TZNAME:CET
DTSTART:20221030T010000
END:STANDARD
END:VTIMEZONE
BEGIN:VEVENT
DTSTART;TZID=Europe/Ljubljana:20210619T170000
DTEND;TZID=Europe/Ljubljana:20210619T230000
DTSTAMP:20260420T172632
CREATED:20210525T151951Z
LAST-MODIFIED:20210611T155636Z
UID:248-1624122000-1624143600@ljubljanapride.org
SUMMARY:Ljubljana Pride and Balkan Trans Inter March
DESCRIPTION:Organised by: Ljubljana Pride Association \nLanguage: Slovenian and English + sign language interpretation \n🏳️‍🌈 Preparation for Pride March 🏳️‍🌈\n———————————-\nSaturday\, 19th June\, 17:00 – 18:00\nGathering for Pride Parade \nMetelkova\, Masarykova 24\, Ljubljana \n🏳️‍🌈 Pride March 2021 and Balkan Trans Inter March (Ljubljana🏳️‍🌈\n——————\nSaturday\, 19th June\, 18:00 -19:00\nProtest March on the Streets of Ljubljana \n(Masarykova – Dunajska cesta – Slovenska cesta – Kongresni Trg) \n  \n🏳️‍🌈 Political and Cultural programme 🏳️‍🌈\n—————————————\nSaturday\, 19th June\, 19:00 – 23:00\nStage at Kongresni trg \nStage programme:\nSpeeches and Musical Intermezzo: r3NTG3n\nConcert: Lovekovski (Slo)\nConcert: Nipplepeople (Cro) \nKongresni trg \nPublic cultural events can be attended only by visitors who fulfill PCT requirements.
URL:https://ljubljanapride.org/2021/en/event/ljubljana-pride/
LOCATION:Metelkova in Kongresni trg
ATTACH;FMTTYPE=image/png:https://ljubljanapride.org/2021/wp-content/uploads/2021/05/Parada-ponosa_fb-1.png
END:VEVENT
END:VCALENDAR