BEGIN:VCALENDAR
VERSION:2.0
PRODID:-//Ljubljana Pride 2023 - ECPv6.0.13.1//NONSGML v1.0//EN
CALSCALE:GREGORIAN
METHOD:PUBLISH
X-ORIGINAL-URL:https://ljubljanapride.org/2023
X-WR-CALDESC:Events for Ljubljana Pride 2023
REFRESH-INTERVAL;VALUE=DURATION:PT1H
X-Robots-Tag:noindex
X-PUBLISHED-TTL:PT1H
BEGIN:VTIMEZONE
TZID:Europe/Helsinki
BEGIN:DAYLIGHT
TZOFFSETFROM:+0200
TZOFFSETTO:+0300
TZNAME:EEST
DTSTART:20230326T010000
END:DAYLIGHT
BEGIN:STANDARD
TZOFFSETFROM:+0300
TZOFFSETTO:+0200
TZNAME:EET
DTSTART:20231029T010000
END:STANDARD
END:VTIMEZONE
BEGIN:VEVENT
DTSTART;TZID=Europe/Helsinki:20230612T160000
DTEND;TZID=Europe/Helsinki:20230612T180000
DTSTAMP:20260421T081516
CREATED:20230426T084151Z
LAST-MODIFIED:20230610T194446Z
UID:361-1686585600-1686592800@ljubljanapride.org
SUMMARY:Dileme\, povezane z medicinsko nego interspolnih otrok
DESCRIPTION:Dileme\, povezane z medicinsko nego interspolnih otrok\nPogovor\n________________\nDogodek bo potekal v slovenščini. \nMedicinska nega interspolnih otrok in dojenčkov je bila v zadnjem desetletju deležna številnih kritik in sprememb. Toda še vedno vemo zelo malo o tem\, kaj se dogaja v procesu odločanja med starši in zdravniki. S tem dogodkom želimo zato odpreti debato o praksi sprejemanja odločitev glede medicinske obravnave interspolnih otrok in dojenčkov med zdravniki\, starši in interspolnimi otroki v evropskih državah\, s poudarkom na Sloveniji. Martin Gramc\, mlada_i raziskovalka_ec na Univerzi v Zürichu\, bo v sklopu dogodka predstavil_a zgodnje izsledke svoje raziskave in naslovil_a ključne medicinske in pravne dileme\, povezane z medicinsko nego interspolnih otrok. Z njo_im se bo pogovarjala Katja Sešek. \nDogodek je organiziran v sodelovanju z Univerzo v Zürichu in pod pokroviteljstvom Horizon 2020 projekta. \n_____ \nMartin Gramc je trenutno doktorska_i študent_ka na Inštitutu za biomedicinsko etiko in zgodovino medicine Univerze v Zürichu in prejemnica_k štipendije Marie Skłodowska-Curie. Raziskuje sodelovanje in etiko multidisciplinarnih zdravstvenih timov\, ki delujejo na področju skrbi za interspolne osebe. Na Fakulteti za družbene vede Univerze v Ljubljani je magistriral_a iz sociologije. Preden se je pridružil_a Inštitutu za biomedicinsko etiko in zgodovino medicine\, je Martin delal_a kot raziskovalna_i asistent_ka na Univerzi John Moores v Liverpoolu\, Univerzi v Ljubljani in Mirovnem inštitutu (Slovenija).
URL:https://ljubljanapride.org/2023/event/dileme-povezane-z-medicinsko-nego-interspolnih-otrok/
LOCATION:Velika sejna dvorana Mestne hiše Ljubljana\, Mestni trg 1\, LJUBLJANA
ATTACH;FMTTYPE=image/png:https://ljubljanapride.org/2023/wp-content/uploads/2023/04/Interspolnost_ig.png
END:VEVENT
BEGIN:VEVENT
DTSTART;TZID=Europe/Helsinki:20230610T200000
DTEND;TZID=Europe/Helsinki:20230611T000000
DTSTAMP:20260421T081516
CREATED:20230426T082228Z
LAST-MODIFIED:20230606T100811Z
UID:347-1686427200-1686441600@ljubljanapride.org
SUMMARY:Zastavnice_ki
DESCRIPTION:Zastavnice_ki\nPredpremiera dokumentarca\n________________\nDogodek bo potekal v slovenščini\, dokumentarec z angleškimi podnapisi. \nOrganizira: KSZ Sagar v sodelovanju z Društvom Parada ponosa in KUD Javk  \nLjubljansko Parado ponosa vsako leto pospremi spust največje mavrične zastave pri nas z grajskega stolpa. Mavrično zastavo je leta 1978 ustvaril Gilbert Baker\, saj je hotel dati LGBTIQ+ skupnosti pozitivno simbolično reprezentacijo\, hkrati pa si je želel\, da zastava raste skupaj s skupnostjo. Leta 2017 sta bili pod sloganom Več barv\, več ponosa zastavi poleg šestih osnovnih barv dodani še dve; vsaka barva simbolizira drugo komponento LGBTIQ+ identitete\, vse skupaj pa ponazarjajo raznolikost LGBTIQ+ skupnosti. \nV dokumentarcu Zastavnice_ki ima glavno vlogo prav teh osem barv. Skozi osebne zgodbe osmih posameznic_kov film obravnava odnos LGBTIQ+ oseb do mavrične zastave ter njen pomen za posameznice_ke in družbo. Kaj jim predstavlja posamezna barva? Katera barva prevladuje v njihovem življenju? Na kakšen način se nekdo identificira z mavrično zastavo ali nasploh z zastavo kot simbolom? Po predpremieri dokumentarca bodo režiser Miha Mohorič\, koscenaristka Petra Hrovatin in nastopajoče_i delile_i svoje misli o nastajanju filma\, sledilo pa bo razkošno druženje z napitki\, foto kotičkom in drugimi privlačnimi aktivnostmi. \n  \nZastavnice_ki\, dokumentarni film\, 60min \nRežiser: Miha Mohorič \nScenarij: Miha Mohorič\, Petra Hrovatin \nKamera: Miha Mohorič\, Petra Hrovatin \nMontaža: Petra Hrovatin\, Miha Mohorič \nProdukcija: Sagar kolektiv \nKoproducenti: Društvo Parada ponosa\, KUD Javk \nFilm sofinancira Slovenski filmski center. 
URL:https://ljubljanapride.org/2023/event/zastavnice_ki/
LOCATION:Stara mestna elektrarna\, Slomškova 18\, Ljubljana
ATTACH;FMTTYPE=image/png:https://ljubljanapride.org/2023/wp-content/uploads/2023/04/Zastavnice_ki_ig-Medium.png
END:VEVENT
BEGIN:VEVENT
DTSTART;TZID=Europe/Helsinki:20230610T180000
DTEND;TZID=Europe/Helsinki:20230610T200000
DTSTAMP:20260421T081516
CREATED:20230425T103252Z
LAST-MODIFIED:20230512T104026Z
UID:313-1686420000-1686427200@ljubljanapride.org
SUMMARY:Vodstvo po razstavi Mednarodna kvir solidarnost: Podobe trdoživosti in upanja (I in II)
DESCRIPTION:Vodstvo po razstavi Mednarodna kvir solidarnost: Podobe trdoživosti in upanja (I in II)\n________________\nDesni atrij Mestne hiše Ljubljana (Mestni trg 1\, Ljubljana) → Galerija Alkatraz\, AKC Metelkova mesto (Metelkova 8\, Ljubljana) \nDogodek bo potekal v slovenščini. \nVabimo vas na vodstvo po razstavi Mednarodna kvir solidarnost: Podobe trdoživosti in upanja s kuratorko Iris Pokovec. Vodstvo se bo pričelo ob 18. uri v Desnem atriju Mestne hiše\, kjer si bomo ogledale_i prvi del razstave in izvedele_i več o umetnicah_kih ter zgodbah o nastanku njihovih del. Ob 19. uri se bomo iz Mestne hiše skupaj odpravile_i proti AKC Metelkova mesto v Galerijo Alkatraz\, kjer si bomo ogledale_i še drugi del razstave z deli ukrajinskih LGBTIQ+ umetnic_kov. Opozorilo: vodstvo bo v slovenskem jeziku.
URL:https://ljubljanapride.org/2023/event/vodstvo-po-razstavi-mednarodna-kvir-solidarnost-podobe-trdozivosti-in-upanja-i-in-ii/
LOCATION:Desni Atrij Mestne hiše Ljubljana\, Mestni trg 1\, Ljubljana
ATTACH;FMTTYPE=image/png:https://ljubljanapride.org/2023/wp-content/uploads/2023/04/Vodstvo-po-razstavi-2.png
END:VEVENT
BEGIN:VEVENT
DTSTART;TZID=Europe/Helsinki:20230610T160000
DTEND;TZID=Europe/Helsinki:20230610T180000
DTSTAMP:20260421T081516
CREATED:20230425T102210Z
LAST-MODIFIED:20230602T102414Z
UID:304-1686412800-1686420000@ljubljanapride.org
SUMMARY:Z mladimi po LGBTIQ+ Ljubljani
DESCRIPTION:Z mladimi po LGBTIQ+ Ljubljani\nVodena tura\n________________\nDogodek bo potekal v angleščini. \nV Društvu Parada ponosa že od leta 2015 izvajamo vodene LGBTIQ+ ture za gostje_e Festivala Parada ponosa\, saj želimo obiskovalke_ce izobraževati o zgodovini in aktualnem stanju LGBTIQ+ aktivizma v Ljubljani in Sloveniji. V sodelovanju z LGBTIQ+ organizacijami\, aktivistkami_i in posameznicami_ki\, ki so pomembno prispevale_i k prelomnim dogodkom v boju za LGBTIQ+ pravice v preteklih 20. letih\, letos edinstven ogled Ljubljane skozi mavrična očala organiziramo tudi za širše občinstvo. Na raziskovanje vas bodo popeljale_i naše_i mlade_i prostovoljke_ci. \nTura je namenjena širši javnosti\, izvedena pa bo v angleškem jeziku. Zaradi omejenega števila mest v skupini je obvezna prijava preko spletnega obrazca: https://forms.gle/t3AwJfGY3KFdNPnc7 \nPrijave zbiramo do 09.06.2023. \n* LGBTIQ+ tura po Ljubljani traja približno dve uri in vključuje počasnejšo hojo po ljubljanskem mestnem jedru. Če imate glede dostopnosti ture več vprašanj se lahko obrnete na spletni naslov vesna@ljubljanapride.org in potrudile_i se bomo turo prilagoditi vašim potrebam.
URL:https://ljubljanapride.org/2023/event/z-mladimi-po-lgbtiq-ljubljani/
LOCATION:Mestna galerija Ljubljana\, Mestni trg 5\, Ljubljana\, Slovenija
ATTACH;FMTTYPE=image/png:https://ljubljanapride.org/2023/wp-content/uploads/2023/04/Vodena-tura_ig-7.png
END:VEVENT
BEGIN:VEVENT
DTSTART;TZID=Europe/Helsinki:20230609T190000
DTEND;TZID=Europe/Helsinki:20230609T203000
DTSTAMP:20260421T081516
CREATED:20230425T083008Z
LAST-MODIFIED:20230524T114247Z
UID:267-1686337200-1686342600@ljubljanapride.org
SUMMARY:Mednarodna kvir solidarnost: Podobe trdoživosti in upanja (II)
DESCRIPTION:Mednarodna kvir solidarnost: Podobe trdoživosti in upanja (II)\nRazstava\n________________\nDogodek bo potekal v slovenščini. \nOrganizira: Društvo Parada ponosa v sodelovanju z Galerijo Alkatraz. \nSvečano bomo odprle_i drugi del razstave vizualne umetnosti Mednarodna kvir solidarnost: Podobe trdoživosti in upanja. V središču razstave je ozaveščanje o preživetvenem boju in obstoju LGBTIQ+ oseb in skupnosti v Ukrajini v trenutnem vojnem stanju. Prikazuje pomen mednarodne kvir solidarnosti v življenju LGBTIQ+ oseb\, ki trenutno živijo v Ukrajini ali pa so pribežališče zaradi vojne morale poiskati drugod po Evropi in svetu. \nRazstavo si je v Galeriji Alkatraz mogoče ogledati do 30. junija\, vabimo pa tudi na prvi del razstave v Desnem atriju Mestne hiše. \n  \nUmetnice_ki: Oleksandr Halishchuk (Avstrija)\, Anton Karyuk (Litva)\, Oleksa Konopelko (Ukrajina)\, Lazutkina Elena (Nemčija) in Seymour Nezoriy (Ukrajina). \nKuratorka: Iris Pokovec
URL:https://ljubljanapride.org/2023/event/mednarodna-kvir-solidarnost-podobe-trdozivosti-in-upanja-ii/
LOCATION:Galerija Alkatraz\, AKC Metelkova mesto\, Metelkova 8\, Ljubljana
ATTACH;FMTTYPE=image/png:https://ljubljanapride.org/2023/wp-content/uploads/2023/04/Otvoritev-razstave-2_ig-2.png
END:VEVENT
BEGIN:VEVENT
DTSTART;TZID=Europe/Helsinki:20230609T130000
DTEND;TZID=Europe/Helsinki:20230609T170000
DTSTAMP:20260421T081516
CREATED:20230425T082327Z
LAST-MODIFIED:20230524T114746Z
UID:260-1686315600-1686330000@ljubljanapride.org
SUMMARY:Festivalska SQVOT dnevna
DESCRIPTION:Festivalska SQVOT dnevna\nSkupnostni dogodek\n________________\nDogodek bo potekal v slovenščini in angleščini. \nOrganizira: Društvo Parada ponosa v sodelovanju z društvom Škuc. \nVidnost LGBTIQ+ oseb je izrednega pomena tako za posameznice_ke kot tudi za celotno skupnost\, pripadnost LGBTIQ+ skupnosti pa nam lahko daje občutek\, da spadamo\, da smo videne_i in da smo skupaj močnejše_i. Zaradi podobnih izzivov in izkušenj se lažje podpiramo in spodbujamo med seboj\, kar je še posebej pomembno\, ko se počutimo osamljene_i in spregledane_i.\nSkupnostni dogodki\, ki jih organiziramo na SQVOT-u\, služijo kot vidni simboli našega obstoja ter pomena skupnosti za posameznico_ka. In nič drugače ne bo na festivalski izvedbi naše SQVOT Dnevne sobe\, kjer bomo ustvarjale_i izdelke v barvah skupnosti\, s katerimi bomo podprle_i svojo vidnost\, in ob tem razmišljale_i\, kaj vsaki_emu od nas pomenita vidnost in pripadnost LGBTIQ+ skupnosti. Svojo ustvarjalnost bomo pretopile_i v male kazalce naše skupnosti\, ki jih bomo nato ponosno nosile_i tudi na paradni povorki teden dni kasneje.
URL:https://ljubljanapride.org/2023/event/festivalska-sqvot-dnevna/
LOCATION:Klub Monokel\, Škuc\, AKC Metelkova mesto\, Masarykova 24\, Ljubljana
ATTACH;FMTTYPE=image/png:https://ljubljanapride.org/2023/wp-content/uploads/2023/04/Skupnostni_ig-4.png
END:VEVENT
BEGIN:VEVENT
DTSTART;TZID=Europe/Helsinki:20230607T190000
DTEND;TZID=Europe/Helsinki:20230607T203000
DTSTAMP:20260421T081516
CREATED:20230425T081739Z
LAST-MODIFIED:20230524T114349Z
UID:249-1686164400-1686169800@ljubljanapride.org
SUMMARY:Mednarodna kvir solidarnost: Podobe trdoživosti in upanja (I)
DESCRIPTION:Mednarodna kvir solidarnost: Podobe trdoživosti in upanja (I)\nRazstava\n________________\nDogodek bo potekal v slovenščini. \nOrganizira: Društvo Parada ponosa v sodelovanju z Mestno občino Ljubljana. \nSvečano bomo odprle_i razstavo vizualne umetnosti Mednarodna kvir solidarnost: Podobe trdoživosti in upanja. Z njo želimo spodbuditi razmislek\, ozaveščanje in zavedanje o pomembni vlogi mednarodne kvir solidarnosti v življenju LGBTIQ+ oseb v najbolj ranljivih okoliščinah in krajih v Evropi in po svetu. Ustvariti želimo prostor za umetniško in kulturno izražanje\, ki nam daje v času zoperstavljanja kruti realnosti vojne in drugim oblikam zatiranja\, s katerimi se soočajo skupnosti LGBTIQ+\, upanje in moč za nadaljnji boj\, hkrati pa krepi našo kolektivno trdoživost. \nRazstavo si bo v Desnem atriju ljubljanske Mestne hiše mogoče ogledati do 29. junija\, vabimo pa tudi na drugi del razstave v Galeriji Alkatraz (AKC Metelkova mesto). \n  \nUmetnice_ki: Aleksandar Crnogorac (Srbija)\, Katarina Babič Derenda (Slovenija)\, Hassan Dib – Queen of Virginity (Libanon\, Nemčija)\, Francesco Giordano (Nemčija)\, Sandra Grbić (Srbija)\, Edvinas Grinkevičius (Litva)\, Oleksandr Halishchuk (Avstrija)\, Nuka Horvat (Slovenija) in Meta Mežan (Slovenija\, Združeno kraljestvo). \nKuratorka: Iris Pokovec
URL:https://ljubljanapride.org/2023/event/mednarodna-kvir-solidarnost-podobe-trdozivosti-in-upanja-i/
LOCATION:Desni Atrij Mestne hiše Ljubljana\, Mestni trg 1\, Ljubljana
ATTACH;FMTTYPE=image/png:https://ljubljanapride.org/2023/wp-content/uploads/2023/04/Otvoritev-razstave_ig-3.png
END:VEVENT
BEGIN:VEVENT
DTSTART;TZID=Europe/Helsinki:20230607T110000
DTEND;TZID=Europe/Helsinki:20230607T120000
DTSTAMP:20260421T081516
CREATED:20230424T121152Z
LAST-MODIFIED:20230512T100520Z
UID:195-1686135600-1686139200@ljubljanapride.org
SUMMARY:Tiskovna konferenca
DESCRIPTION:Več skupnosti\, en boj\nTiskovna konferenca________________\nDogodek bo potekal v slovenščini. \nNa tiskovni konferenci bomo predstavile_i politično sporočilo ter program Festivala Parada ponosa 2023. Letos bomo raziskovale_i temo mednarodne LGBTIQ+ solidarnosti skozi prizmo trdoživosti\, preživetvenih strategij in vzajemne podpore. LGBTIQ+ skupnost je raznolika in mora živeti ter preživeti tudi v vojnem stanju\, revščini\, zatiranju in na robu družbenega obstoja. Prav to pa nas združuje v skupni boj. \nSlogan Več skupnosti\, en boj tako zaobjame raznolikost LGBTIQ+ gibanj\, identitet in bojev\, obenem pa poziva k mednarodni solidarizaciji\, vzajemni podpori in k skupnemu boju za človekovo dostojanstvo povsod po svetu. Skozi pester nabor kulturno-političnih dogodkov ter lokalnih in mednarodnih gostij_ov festival prinaša edinstven pogled na skupni boj za človekove pravice LGBTIQ+ oseb. V boj za opolnomočenje\, enakopravnost\, raznolikost\, svobodo in varno prihodnost nas vodita upanje in zavedanje\, da smo skupaj močnejše_i.
URL:https://ljubljanapride.org/2023/event/tiskovna-konferenca/
LOCATION:Pritličje\, Mestni trg 2\, Ljubljana\, Slovenija
ATTACH;FMTTYPE=image/png:https://ljubljanapride.org/2023/wp-content/uploads/2023/04/Tiskovka_ig-3.png
END:VEVENT
END:VCALENDAR