BEGIN:VCALENDAR
VERSION:2.0
PRODID:-//Ljubljana Pride 2023 - ECPv6.0.13.1//NONSGML v1.0//EN
CALSCALE:GREGORIAN
METHOD:PUBLISH
X-WR-CALNAME:Ljubljana Pride 2023
X-ORIGINAL-URL:https://ljubljanapride.org/2023/en/
X-WR-CALDESC:Events for Ljubljana Pride 2023
REFRESH-INTERVAL;VALUE=DURATION:PT1H
X-Robots-Tag:noindex
X-PUBLISHED-TTL:PT1H
BEGIN:VTIMEZONE
TZID:Europe/Helsinki
BEGIN:DAYLIGHT
TZOFFSETFROM:+0200
TZOFFSETTO:+0300
TZNAME:EEST
DTSTART:20230326T010000
END:DAYLIGHT
BEGIN:STANDARD
TZOFFSETFROM:+0300
TZOFFSETTO:+0200
TZNAME:EET
DTSTART:20231029T010000
END:STANDARD
END:VTIMEZONE
BEGIN:VEVENT
DTSTART;TZID=Europe/Helsinki:20230617T110000
DTEND;TZID=Europe/Helsinki:20230617T160000
DTSTAMP:20260423T230838
CREATED:20230502T104220Z
LAST-MODIFIED:20230614T091244Z
UID:668-1686999600-1687017600@ljubljanapride.org
SUMMARY:Pride Village
DESCRIPTION:Pride Village\n________________\nEvent will be held in Slovene and English\, \nPride Village is now a traditional Pride Day event that brings together LGBTIQ+ organisations\, individuals and supporters. This year you will be able to experience: \n\ninfo stalls of LGBTIQ+ and ally organisations\,\nLiving Library\,\nmake-up corner\,\nred carpet where you can take fabulous photos with LGBTIQ+ celebrities\,\ngreen corner addressing the importance of the impact of climate change on young people (part of the Sustainable Activism project)\,\nraffle\,\nchildren’s corner for arts and crafts\,\nfairy tale reading with Alenka Spacal and\nface painting.\n\nAnd like every year you will be able to purchase all the necessary accessories for a truly rainbow Pride Day – flags\, jewelry\, fans and other materials in all colours.
URL:https://ljubljanapride.org/2023/en/event/pride-village/
LOCATION:Park Zvezda\, Kongresni trg\, Kongresni trg\, Ljubljana
ATTACH;FMTTYPE=image/png:https://ljubljanapride.org/2023/wp-content/uploads/2023/05/Paradno-mesto_ig-2.png
END:VEVENT
END:VCALENDAR