BEGIN:VCALENDAR
VERSION:2.0
PRODID:-//Ljubljana Pride 2023 - ECPv6.0.13.1//NONSGML v1.0//EN
CALSCALE:GREGORIAN
METHOD:PUBLISH
X-WR-CALNAME:Ljubljana Pride 2023
X-ORIGINAL-URL:https://ljubljanapride.org/2023/en/
X-WR-CALDESC:Events for Ljubljana Pride 2023
REFRESH-INTERVAL;VALUE=DURATION:PT1H
X-Robots-Tag:noindex
X-PUBLISHED-TTL:PT1H
BEGIN:VTIMEZONE
TZID:Europe/Helsinki
BEGIN:DAYLIGHT
TZOFFSETFROM:+0200
TZOFFSETTO:+0300
TZNAME:EEST
DTSTART:20230326T010000
END:DAYLIGHT
BEGIN:STANDARD
TZOFFSETFROM:+0300
TZOFFSETTO:+0200
TZNAME:EET
DTSTART:20231029T010000
END:STANDARD
END:VTIMEZONE
BEGIN:VEVENT
DTSTART;TZID=Europe/Helsinki:20230609T130000
DTEND;TZID=Europe/Helsinki:20230609T170000
DTSTAMP:20260424T005013
CREATED:20230425T082327Z
LAST-MODIFIED:20230524T114800Z
UID:577-1686315600-1686330000@ljubljanapride.org
SUMMARY:SQVOT Living Room – festival edition
DESCRIPTION:SQVOT Living Room – festival edition\nCommunity Event\n________________\nEvent will be held in Slovene and English. \nOrganised by: Ljubljana Pride Association in cooperation with Škuc association \nVisibility of LGBTIQ+ people is of the utmost importance both for individuals and for the community as a whole\, and being a part of the LGBTIQ+ community can give us a sense of belonging\, it feels like we are seen\, like we are stronger together. Having similar challenges and experiences makes it easier for us to support and encourage each other\, which is especially important when we feel lonely and overlooked.\nThe community events that we organise at SQVOT serve as visible symbols of our existence and the importance of community for the individual. The same goes for the festival version of our SQVOT Living Room\, where we will be making products in the colours of the community to support our visibility\, while reflecting on what visibility and belonging to the LGBTIQ+ community mean to each and every one of us. We will translate our thoughts and creativity into small indicators of our community\, which we will then proudly wear to the Parade a week later.
URL:https://ljubljanapride.org/2023/en/event/sqvot-living-room-festival-edition/
LOCATION:Klub Monokel\, Škuc\, AKC Metelkova mesto\, Masarykova 24\, Ljubljana
ATTACH;FMTTYPE=image/png:https://ljubljanapride.org/2023/wp-content/uploads/2023/04/Skupnostni_ig-4.png
END:VEVENT
END:VCALENDAR