BEGIN:VCALENDAR
VERSION:2.0
PRODID:-//Ljubljana Pride 2023 - ECPv6.0.13.1//NONSGML v1.0//EN
CALSCALE:GREGORIAN
METHOD:PUBLISH
X-WR-CALNAME:Ljubljana Pride 2023
X-ORIGINAL-URL:https://ljubljanapride.org/2023
X-WR-CALDESC:Events for Ljubljana Pride 2023
REFRESH-INTERVAL;VALUE=DURATION:PT1H
X-Robots-Tag:noindex
X-PUBLISHED-TTL:PT1H
BEGIN:VTIMEZONE
TZID:Europe/Helsinki
BEGIN:DAYLIGHT
TZOFFSETFROM:+0200
TZOFFSETTO:+0300
TZNAME:EEST
DTSTART:20230326T010000
END:DAYLIGHT
BEGIN:STANDARD
TZOFFSETFROM:+0300
TZOFFSETTO:+0200
TZNAME:EET
DTSTART:20231029T010000
END:STANDARD
END:VTIMEZONE
BEGIN:VEVENT
DTSTART;TZID=Europe/Helsinki:20230612T190000
DTEND;TZID=Europe/Helsinki:20230612T203000
DTSTAMP:20260421T045038
CREATED:20230426T090459Z
LAST-MODIFIED:20230512T114225Z
UID:364-1686596400-1686601800@ljubljanapride.org
SUMMARY:Antirasistični bralni klub
DESCRIPTION:Antirasistični bralni klub\n________________\nDogodek bo potekal v slovenščini. \nAntirasistični bralni klub je na Društvu Parada ponosa nastal iz razmisleka\, kako kot primarno belska organizacija odpirati teme antirasizma. Spraševale_i smo se\, o čem imamo pravico govoriti\, kaj lahko naredimo in s kakšnim namenom. Kako se pozicionirati – tako kot posameznice_ki kot na ravni organizacije? Zanimalo nas je\, kako priti do relevantnih informacij in predvsem\, na kakšen način se lahko naša ekipa na tem področju izobražuje. Lotile_i smo se branja knjig\, kot so The New Age of Empire Kehindeja Andrewsa\, Why We Matter? Emilie Roig in Dekle\, ženska\, druga_i Bernardine Evaristo\, in debate o prebranem. Na festivalu odpiramo naš antirasistični bralni klub tudi širši javnosti. V fokusu bosta knjigi Manifest Bernardine Evaristo in Feminizem je za vsakogar bell hooks\, ki sta nedavno izšli v slovenskih prevodih Katje Zakrajšek in Ane Makuc.
URL:https://ljubljanapride.org/2023/event/antirasisticni-bralni-klub/
LOCATION:Galerija Alkatraz\, AKC Metelkova mesto\, Metelkova 8\, Ljubljana
ATTACH;FMTTYPE=image/png:https://ljubljanapride.org/2023/wp-content/uploads/2023/04/Antiracist_ig.png
END:VEVENT
END:VCALENDAR