BEGIN:VCALENDAR
VERSION:2.0
PRODID:-//Ljubljana Pride 2023 - ECPv6.0.13.1//NONSGML v1.0//EN
CALSCALE:GREGORIAN
METHOD:PUBLISH
X-WR-CALNAME:Ljubljana Pride 2023
X-ORIGINAL-URL:https://ljubljanapride.org/2023
X-WR-CALDESC:Events for Ljubljana Pride 2023
REFRESH-INTERVAL;VALUE=DURATION:PT1H
X-Robots-Tag:noindex
X-PUBLISHED-TTL:PT1H
BEGIN:VTIMEZONE
TZID:Europe/Helsinki
BEGIN:DAYLIGHT
TZOFFSETFROM:+0200
TZOFFSETTO:+0300
TZNAME:EEST
DTSTART:20230326T010000
END:DAYLIGHT
BEGIN:STANDARD
TZOFFSETFROM:+0300
TZOFFSETTO:+0200
TZNAME:EET
DTSTART:20231029T010000
END:STANDARD
END:VTIMEZONE
BEGIN:VEVENT
DTSTART;TZID=Europe/Helsinki:20230613T190000
DTEND;TZID=Europe/Helsinki:20230613T203000
DTSTAMP:20260421T045224
CREATED:20230428T052025Z
LAST-MODIFIED:20230612T073210Z
UID:439-1686682800-1686688200@ljubljanapride.org
SUMMARY:Izrazi kvir solidarnosti na Balkanu
DESCRIPTION:Izrazi kvir solidarnosti na Balkanu\nPanel\n________________\nDogodek bo potekal v angleščini. \nLGBTIQ+ gibanja na Balkanu si delimo veliko skupnih izkušenj nasilja\, marginalizacije in populističnih napadov. Razvile_i pa smo tudi številne preživetvene strategije\, trdoživost in podporne mehanizme za LGBTIQ+ skupnosti in aktivistke_e\, ki so v ospredju bojev za človekove pravice. Skupaj bomo raziskovale_i načine mednarodne solidarnosti znotraj LGBTIQ+ gibanj\, tako regionalno kot širše. Razpravljale_i bomo o vplivu in pomenu krepitve sodelovanja in solidarnosti v regiji. \nGostje_i: \n\nDina Bajrektarević\, izvršna direktorica “Tuzlanski Otvoreni centar” in članica organizacijskega odbora bosanske parade ponosa;\nDoria Jukić\, aktivistka\, Hrvaška;\nBiljana Ginova\, borka_ec za LGBTIQ+ človekove pravice\, Severna Makedonija;\n\nModeracija: Mateja Morić\, Društvo Parada ponosa. \n____ \nDina Bajrektarević je dolgoletna aktivistka za pravice LGBTI oseb in pravice oseb z oviranostjo. Trenutno opravlja funkcijo izvršne direktorice “Tuzlanski Otvoreni centar”\, lokalne organizacije LGBTI\, ki zagotavlja vrsto storitev skupnosti LGBTI\, in je članica organizacijskega odbora bosanske parade ponosa. Dina se je ukvarjala tudi z mladinskimi politikami\, protidiskriminacijskimi politikami in varstvom človekovih pravic z medsektorskim pristopom. \nDoria Jukić je socialna delavka v varni hiši za otroke in odrasle\, ki se soočajo z nasiljem v družini – Duga Zagreb. V tej vlogi Doria nudi individualno in skupinsko podporo žrtvam in preživelim nasilja v družini\, da si povrnejo samozavest in se ponovno vključijo na trg dela. Poleg te vloge neposrednega dela\, ima Doria veliko izkušenj z vodenjem predavanj in delavnic na temo nasilja na podlagi spola in senzibiliziranega pristopa do LGBTIQ oseb. Znanje črpa iz izkušenj z delom v nevladni organizaciji Zagreb Pride ter organizacije vrste obsežnih dogodkov in družbenih gibanj v svoji skupnosti.  \nDoria je dolgoletna članica skupine forumskega gledališča in se je v svojem akademskem delu ukvarjala s temo presečišča socialnega dela in koncepta gledališča zatiranih. Je tudi članica bobnarskega kolektiva\, ki se zbira okoli queer-feminističnih antikapitalističnih vrednot. Prek kolektiva opolnomoča mlade ženske in queer osebe za družbeno delovanje na lokalni ravni in organiziranje protestov. \nBiljana Ginova je LGBTIQ+ zagovornica_k človekovih pravic in transfeministična_i aktivist_ka. Zadnjih dvajset let deluje v civilni družbi in se zavzema za pravice različnih zgodovinsko marginaliziranih skupin\, vključno s spolnimi in seksualnimi manjšinami\, Romkinjami_i\, begunkami_ci in migrantkami_i ter žrtvami trgovine z ljudmi. Je neodvisna_en svetovalka_ec s strokovnim znanjem in izkušnjami na področju strateškega zagovorništva v okviru človekovih pravic in razvoja za LGBTIQ+. Na Univerzi Sussex v Združenem kraljestvu je magistriral_a iz (queer) mednarodnih odnosov. \n 
URL:https://ljubljanapride.org/2023/event/izrazi-kvir-solidarnosti-na-balkanu/
LOCATION:Mladinski center Legebitra\, Trubarjeva 76a\, Ljubljana
ATTACH;FMTTYPE=image/png:https://ljubljanapride.org/2023/wp-content/uploads/2023/04/Balkan_ig-2.png
END:VEVENT
END:VCALENDAR