BEGIN:VCALENDAR
VERSION:2.0
PRODID:-//Ljubljana Pride 2023 - ECPv6.0.13.1//NONSGML v1.0//EN
CALSCALE:GREGORIAN
METHOD:PUBLISH
X-WR-CALNAME:Ljubljana Pride 2023
X-ORIGINAL-URL:https://ljubljanapride.org/2023
X-WR-CALDESC:Events for Ljubljana Pride 2023
REFRESH-INTERVAL;VALUE=DURATION:PT1H
X-Robots-Tag:noindex
X-PUBLISHED-TTL:PT1H
BEGIN:VTIMEZONE
TZID:Europe/Helsinki
BEGIN:DAYLIGHT
TZOFFSETFROM:+0200
TZOFFSETTO:+0300
TZNAME:EEST
DTSTART:20230326T010000
END:DAYLIGHT
BEGIN:STANDARD
TZOFFSETFROM:+0300
TZOFFSETTO:+0200
TZNAME:EET
DTSTART:20231029T010000
END:STANDARD
END:VTIMEZONE
BEGIN:VEVENT
DTSTART;TZID=Europe/Helsinki:20230613T130000
DTEND;TZID=Europe/Helsinki:20230613T170000
DTSTAMP:20260421T045304
CREATED:20230426T132723Z
LAST-MODIFIED:20230524T114056Z
UID:383-1686661200-1686675600@ljubljanapride.org
SUMMARY:Mreža vključujočih šol Slovenije
DESCRIPTION:Mreža vključujočih šol Slovenije\nPosvet\n________________\nDogodek bo potekal v slovenščini in angleščini. \nMreža vključujočih šol Slovenije združuje osnovne in srednje šole v Sloveniji ter Društvo Parada ponosa z namenom ustvarjanja varnejšega in vključujočega šolskega prostora za mlade LGBTIQ+ osebe. Prva javna konferenca Mreže vključujočih šol Slovenije je namenjena zaposlenim v izobraževalnem sektorju\, od vrtcev\, osnovnih in srednjih šol do fakultet ter odločevalk_cev s področja. Prisluhniti bo mogoče tako izobraževalnim vsebinam tujih gostij_ov kot predstavitvam dobrih praks in politik\, sledila bo tudi okrogla miza članic mreže. \nKonferenca je odprta le za sodelavke_ce izobraževalnih ustanov.
URL:https://ljubljanapride.org/2023/event/mreza-vkljucujocih-sol-slovenije/
LOCATION:+MSUM\, Muzej sodobne umetnosti Metelkova\, Maistrova 3\, Ljubljana
ATTACH;FMTTYPE=image/png:https://ljubljanapride.org/2023/wp-content/uploads/2023/04/Mreza-vkljucujocih-sol_ig-3.png
END:VEVENT
END:VCALENDAR