BEGIN:VCALENDAR
VERSION:2.0
PRODID:-//Ljubljana Pride 2023 - ECPv6.0.13.1//NONSGML v1.0//EN
CALSCALE:GREGORIAN
METHOD:PUBLISH
X-WR-CALNAME:Ljubljana Pride 2023
X-ORIGINAL-URL:https://ljubljanapride.org/2023
X-WR-CALDESC:Events for Ljubljana Pride 2023
REFRESH-INTERVAL;VALUE=DURATION:PT1H
X-Robots-Tag:noindex
X-PUBLISHED-TTL:PT1H
BEGIN:VTIMEZONE
TZID:Europe/Helsinki
BEGIN:DAYLIGHT
TZOFFSETFROM:+0200
TZOFFSETTO:+0300
TZNAME:EEST
DTSTART:20230326T010000
END:DAYLIGHT
BEGIN:STANDARD
TZOFFSETFROM:+0300
TZOFFSETTO:+0200
TZNAME:EET
DTSTART:20231029T010000
END:STANDARD
END:VTIMEZONE
BEGIN:VEVENT
DTSTART;TZID=Europe/Helsinki:20230615T170000
DTEND;TZID=Europe/Helsinki:20230615T183000
DTSTAMP:20260421T045336
CREATED:20230428T064339Z
LAST-MODIFIED:20230612T171705Z
UID:475-1686848400-1686853800@ljubljanapride.org
SUMMARY:Perspektive trajnostnih prireditev in festivalov
DESCRIPTION:Perspektive trajnostnih prireditev in festivalov\nPanel\n________________\nDogodek bo potekal v angleščini. \nV času\, ko postaja družba vedno bolj ozaveščena glede učinka\, ki ga imamo na okolje\, si tudi mnoge organizacije prizadevamo za bolj trajnostno prihodnost na več področjih svojega delovanja. Trajnostni razvoj sestavljajo trije stebri: okoljski\, družbeni in ekonomski. Kako organizacija večjih dogodkov oziroma festivalov vključuje te ravni trajnosti? Kakšne so praktične izkušnje pri organizaciji različnih mednarodnih festivalov\, povork\, dogodkov? Na dogodku bodo v sproščenem vzdušju gostje_i predstavile_i svoje izkušnje pri vključevanju trajnostnih praks v organizacijo in izvedbo aktivnosti. \nGostje_i: \n\nWendla Schaper\, aktivist_ka\, Nemčija;\nMateja Morić\, Festival Reciklart\, Slovenija;\nDina Bajrektarević\, članica organizacijskega odbora bosanske parade ponosa;\n\nModeracija: Manneira Aja Solei\,  koordinatorka programa pri Društvu Parada ponosa. \n_____ \nMateja Morić od leta 2012 pri svojem delu uporablja neformalno metodologijo izobraževanja. Delala je tako z odraslimi\, ki so bile_i storilke_ci kriminalnih dejanj\, z ranljivimi skupinami mladih ter z otroki. V zadnjih 3 letih ustvarja\, izvaja in evalvira različne delavnice in treninge za LGBTIQ+ skupnost in mlade\, ki pripadajo drugim marginaliziranim skupinam. Znanje pridobiva s sodelovanjem in organiziranjem različnih dejavnosti\, ki mobilizirajo mlade in spremembe v družbi. Področja zanimanja: sovražni govor\, vrstniško nasilja\, LGBTIQ+\, restorativna pravičnost\, spodbujanje prostovoljstva in solidarnosti. Mateja\, ki je navdušena nad diy kulturo in obsesivno upcyklira vse\, zadnjih nekaj let sodeluje s festivalom Reciklart. \nDina Bajrektarević je dolgoletna aktivistka za pravice LGBTI oseb in pravice oseb z oviranostjo. Trenutno opravlja funkcijo izvršne direktorice “Tuzlanski Otvoreni centar”\, lokalne organizacije LGBTI\, ki zagotavlja vrsto storitev skupnosti LGBTI\, in je članica organizacijskega odbora bosanske parade ponosa. Dina se je ukvarjala tudi z mladinskimi politikami\, protidiskriminacijskimi politikami in varstvom človekovih pravic z medsektorskim pristopom. \nPreko sodelovanja na protestih se je Wendla zgodaj vključila v gibanja za podnebno pravičnost. Kasneje je sodelovala v mladinski politiki in na evropskih mladinskih konferencah za ozaveščanje o podnebnih spremembah\, izgubi biotske raznovrstnosti in človekovih pravicah\, s posebnim poudarkom na pravicah LGBTIQ+. Sodelovala je v mladinskih projektih\, katerih cilj je bil\, da se mladi iz različnih okolij neposredno pogovarjajo z nosilci (političnih) odločitev. Po enoletnem sodelovanju z Društvom Parada ponosa in po intenzivnem delu na področju prepletanja LGBTIQ+ z okoljskimi in trajnostnimi temami je Wendla pričela s študijem politologije in trajnostnih ved. Trenutno organizira Parado ponosa v Lüneburgu v Nemčiji\, kjer si prizadeva za raznolik program in ozaveščanje o presečiščih med kvirnostjo in trajnostnim delovanjem. \nAktivnost poteka v sklopu projekta Trajnostni aktivizem\, ki ga financira Evropska unija. \nIzvajanje aktivnosti sofinancira tudi URSM. \n \n 
URL:https://ljubljanapride.org/2023/event/perspektive-trajnostnih-prireditev-in-festivalov/
LOCATION:Vodnikova domačija Center\, Stritarjeva 7\, Ljubljana
ATTACH;FMTTYPE=image/png:https://ljubljanapride.org/2023/wp-content/uploads/2023/04/Sustainable_ig.png
END:VEVENT
END:VCALENDAR