BEGIN:VCALENDAR
VERSION:2.0
PRODID:-//Ljubljana Pride 2023 - ECPv6.0.13.1//NONSGML v1.0//EN
CALSCALE:GREGORIAN
METHOD:PUBLISH
X-WR-CALNAME:Ljubljana Pride 2023
X-ORIGINAL-URL:https://ljubljanapride.org/2023
X-WR-CALDESC:Events for Ljubljana Pride 2023
REFRESH-INTERVAL;VALUE=DURATION:PT1H
X-Robots-Tag:noindex
X-PUBLISHED-TTL:PT1H
BEGIN:VTIMEZONE
TZID:Europe/Helsinki
BEGIN:DAYLIGHT
TZOFFSETFROM:+0200
TZOFFSETTO:+0300
TZNAME:EEST
DTSTART:20230326T010000
END:DAYLIGHT
BEGIN:STANDARD
TZOFFSETFROM:+0300
TZOFFSETTO:+0200
TZNAME:EET
DTSTART:20231029T010000
END:STANDARD
END:VTIMEZONE
BEGIN:VEVENT
DTSTART;TZID=Europe/Helsinki:20230613T180000
DTEND;TZID=Europe/Helsinki:20230729T190000
DTSTAMP:20260421T063653
CREATED:20230428T043339Z
LAST-MODIFIED:20230512T105554Z
UID:426-1686679200-1690657200@ljubljanapride.org
SUMMARY:Vodstvo po razstavi Mednarodna kvir solidarnost: Podobe trdoživosti in upanja (II)
DESCRIPTION:Vodstvo po razstavi Mednarodna kvir solidarnost: Podobe trdoživosti in upanja (II)\n________________\nDogodek bo potekal v angleščini. \nVabimo vas na vodstvo po razstavi Mednarodna kvir solidarnost: Podobe trdoživosti in upanja v Galeriji Alkatraz s kuratorko Iris Pokovec. Dobimo se ob 18. uri pred hostlom Celica v AKC Metelkova mesto. Skupaj si bomo ogledale_i razstavo del ukrajinskih LGBTIQ+ umetnic_kov in izvedele_i več o zgodbah za njihovimi deli in temi razstave nasploh. Opozorilo: vodstvo bo v angleškem jeziku. \nHkrati vabimo tudi na drugi drugi del oz. nadaljevanje vodstva po razstavi Mednarodna kvir solidarnost: Podobe trdoživosti in upanja\, ki bo v sredo\, 14. junija\, ob 18. uri v Desnem atriju ljubljanske Mestne hiše.
URL:https://ljubljanapride.org/2023/event/vodstvo-po-razstavi-mednarodna-kvir-solidarnost-podobe-trdozivosti-in-upanja-ii/
LOCATION:Galerija Alkatraz\, AKC Metelkova mesto\, Metelkova 8\, Ljubljana
ATTACH;FMTTYPE=image/png:https://ljubljanapride.org/2023/wp-content/uploads/2023/04/Vodstvo-po-razstavii-2_ig.png
END:VEVENT
END:VCALENDAR