BEGIN:VCALENDAR
VERSION:2.0
PRODID:-//Društvo Parada Ponosa - ECPv6.15.17.1//NONSGML v1.0//EN
CALSCALE:GREGORIAN
METHOD:PUBLISH
X-WR-CALNAME:Društvo Parada Ponosa
X-ORIGINAL-URL:https://ljubljanapride.org
X-WR-CALDESC:Dogodki za Društvo Parada Ponosa
REFRESH-INTERVAL;VALUE=DURATION:PT1H
X-Robots-Tag:noindex
X-PUBLISHED-TTL:PT1H
BEGIN:VTIMEZONE
TZID:Europe/Ljubljana
BEGIN:DAYLIGHT
TZOFFSETFROM:+0100
TZOFFSETTO:+0200
TZNAME:CEST
DTSTART:20240331T010000
END:DAYLIGHT
BEGIN:STANDARD
TZOFFSETFROM:+0200
TZOFFSETTO:+0100
TZNAME:CET
DTSTART:20241027T010000
END:STANDARD
BEGIN:DAYLIGHT
TZOFFSETFROM:+0100
TZOFFSETTO:+0200
TZNAME:CEST
DTSTART:20250330T010000
END:DAYLIGHT
BEGIN:STANDARD
TZOFFSETFROM:+0200
TZOFFSETTO:+0100
TZNAME:CET
DTSTART:20251026T010000
END:STANDARD
BEGIN:DAYLIGHT
TZOFFSETFROM:+0100
TZOFFSETTO:+0200
TZNAME:CEST
DTSTART:20260329T010000
END:DAYLIGHT
BEGIN:STANDARD
TZOFFSETFROM:+0200
TZOFFSETTO:+0100
TZNAME:CET
DTSTART:20261025T010000
END:STANDARD
END:VTIMEZONE
BEGIN:VEVENT
DTSTART;VALUE=DATE:20250606
DTEND;VALUE=DATE:20250616
DTSTAMP:20260422T165657
CREATED:20250603T140635Z
LAST-MODIFIED:20250603T140635Z
UID:10537-1749196800-1749974399@ljubljanapride.org
SUMMARY:Teden ponosa - Parada ponosa 2025
DESCRIPTION:Teden ponosa 2025 bo ponovno oživel Ljubljano s pestrim naborom dogodkov\, ki bodo slavili raznolikost\, spodbujali dialog in krepili skupnost. Skozi celoten teden se bodo odvijali kulturni\, izobraževalni in aktivistični dogodki\, ki bodo poudarjali pomen enakopravnosti in spoštovanja za vse. \nProgram vključuje: \n\nVodene LGBTIQ+ ture po Ljubljani: Odkrijte zgodovino in sedanjost LGBTIQ+ skupnosti skozi oči mladih vodnic_kov\nRazstave in performansi: Umetniški dogodki\, ki raziskujejo identiteto\, spol in ljubezen v vseh njenih oblikah.\nDelavnice in okrogle mize: Prostori za izmenjavo izkušenj\, znanja in strategij za bolj vključujočo družbo.\nKoncerti in zabave: Glasbeni dogodki\, ki združujejo skupnost v duhu praznovanja in solidarnosti.\n\nTeden ponosa je priložnost za povezovanje\, učenje in praznovanje naše skupnosti v vsej njeni raznolikosti. \nVeč informacij o Tednu ponosa na spletni strani https://www.ljubljanapridefestival.org/
URL:https://ljubljanapride.org/event/teden-ponosa-parada-ponosa-2025/
CATEGORIES:Parada Ponosa
ATTACH;FMTTYPE=image/png:https://ljubljanapride.org/wp-content/uploads/2025/06/CGP_Post_Formats_Post_format.png
END:VEVENT
END:VCALENDAR