BEGIN:VCALENDAR
VERSION:2.0
PRODID:-//Društvo Parada Ponosa - ECPv6.15.17.1//NONSGML v1.0//EN
CALSCALE:GREGORIAN
METHOD:PUBLISH
X-ORIGINAL-URL:https://ljubljanapride.org
X-WR-CALDESC:Dogodki za Društvo Parada Ponosa
REFRESH-INTERVAL;VALUE=DURATION:PT1H
X-Robots-Tag:noindex
X-PUBLISHED-TTL:PT1H
BEGIN:VTIMEZONE
TZID:Europe/Ljubljana
BEGIN:DAYLIGHT
TZOFFSETFROM:+0100
TZOFFSETTO:+0200
TZNAME:CEST
DTSTART:20250330T010000
END:DAYLIGHT
BEGIN:STANDARD
TZOFFSETFROM:+0200
TZOFFSETTO:+0100
TZNAME:CET
DTSTART:20251026T010000
END:STANDARD
BEGIN:DAYLIGHT
TZOFFSETFROM:+0100
TZOFFSETTO:+0200
TZNAME:CEST
DTSTART:20260329T010000
END:DAYLIGHT
BEGIN:STANDARD
TZOFFSETFROM:+0200
TZOFFSETTO:+0100
TZNAME:CET
DTSTART:20261025T010000
END:STANDARD
BEGIN:DAYLIGHT
TZOFFSETFROM:+0100
TZOFFSETTO:+0200
TZNAME:CEST
DTSTART:20270328T010000
END:DAYLIGHT
BEGIN:STANDARD
TZOFFSETFROM:+0200
TZOFFSETTO:+0100
TZNAME:CET
DTSTART:20271031T010000
END:STANDARD
END:VTIMEZONE
BEGIN:VEVENT
DTSTART;TZID=Europe/Ljubljana:20260101T150000
DTEND;TZID=Europe/Ljubljana:20261231T170000
DTSTAMP:20260419T160731
CREATED:20241001T093508Z
LAST-MODIFIED:20260106T123723Z
UID:9691-1767279600-1798736400@ljubljanapride.org
SUMMARY:SQVOT Dnevna soba - varen prostor za LGBTIQ+ prosilke_ce za mednarodno zaščito
DESCRIPTION:V Društvu Parada ponosa nudimo varen prostor za vse LGBTIQ+ prosilke_ce za mednarodno zaščito v Sloveniji.  \nVsak torek med 15.00 in 17.00 se lahko pridružite našim srečanjem\, kjer skupaj naslavljamo izzive in potrebe skupnosti. Srečanja potekajo v prostorih Društva Parada ponosa na Dunajski 10 v Ljubljani\, kjer ustvarjamo podporno okolje za povezovanje\, izmenjavo izkušenj in iskanje rešitev. \nVabimo vse\, ki iščete podporo\, varnost in prostor\, kjer se lahko izrazite. Če ste LGBTIQ+ prosilka_ec za azil ali begunka_ec\, ki se želite pridružiti ali iščete podporo\, nam pišite na sqvot@ljubljanapride.org \nSkupaj smo močnejši!
URL:https://ljubljanapride.org/event/sqvot-dnevna-soba-varen-prostor-za-lgbtiq-prosilke_ce-za-mednarodno-zascito/
LOCATION:Društvo Parada ponosa\, Dunajska cesta 10
ATTACH;FMTTYPE=image/png:https://ljubljanapride.org/wp-content/uploads/2024/10/Untitled-design.png
END:VEVENT
BEGIN:VEVENT
DTSTART;TZID=Europe/Ljubljana:20260101T150000
DTEND;TZID=Europe/Ljubljana:20261221T170000
DTSTAMP:20260419T160731
CREATED:20260414T052555Z
LAST-MODIFIED:20260414T052723Z
UID:11592-1767279600-1797872400@ljubljanapride.org
SUMMARY:Podporna skupina - varen prostor za LGBTIQ+ osebe z izkušnjo brezdomnosti in/ali stanovanjske izključenosti
DESCRIPTION:Vabljen_a na podporno skupino za LGBTIQ+ polnoletne osebe\, ki se srečujejo (ali pa so se v preteklosti) z brezdomnostjo in/ali stanovanjsko izključenostjo. \nSkupina je namenjena ustvarjanju varnejšega in zaupnega prostora. Delile_i bomo svoje izkušnje in raziskale_i lastne potrebe\, z namenom zmanjšanja stresa\, tesnobe in notranjih stisk. \nPridružiš se nam lahko vsako sredo od 15:00 do 17:00\, v prostorih Društva Parada ponosa na Dunajski 10 v Ljubljani. \nPrijaviš se lahko na spletnem obrazcu\, če pa želiš več informacij\, se nam oglasi preko socialnih omrežij\, telefonske številke 040 179 177 ali na sqvot@ljubljanapride.org. \nSe vidimo!
URL:https://ljubljanapride.org/event/sqvot-podporna-skupina-2/
LOCATION:Društvo Parada ponosa\, Dunajska cesta 10
ATTACH;FMTTYPE=image/png:https://ljubljanapride.org/wp-content/uploads/2026/04/SQVOT-1.png
END:VEVENT
BEGIN:VEVENT
DTSTART;TZID=Europe/Ljubljana:20260311T170000
DTEND;TZID=Europe/Ljubljana:20260311T200000
DTSTAMP:20260419T160731
CREATED:20260330T081019Z
LAST-MODIFIED:20260330T081019Z
UID:11532-1773248400-1773259200@ljubljanapride.org
SUMMARY:Povej kdo si skozi nakit
DESCRIPTION:To pomlad se vračamo s trajnostnimi delavnicami\, na katerih bomo delile eko pristope in znanja ter skupaj ustvarjale atraktivne izdelke\, ki jih bomo na Paradi ponosa ponujale za prostovoljne denarne prispevke. Vabljene vse kreativne osebe\, kvir ali ne! \nPrva delavnica 11.3. ob 17:00 na Dunajski 10 v Ljubljani bo posvečena izražanju kvir (ali zavezniške) identitete skozi nakit. Zakaj bi na internetu kupovale_i masovno proizvedene zadeve sumljivega izvora\, če pa ga lahko same_i izdelamo iz ostankov doma? \nPoleg tega je delavnica možnost\, da spoznaš prijateljice_e in daš svoji domišljiji prosto pot. 🙂Pridi in oblikuj zapestnico\, ogrlico\, uhane v barvah svoje najljubše zastave ponosa\, ali pa na vrvico nanizaj uporniški slogan. Možnosti so neskončne\, materiali in dobra družba pa zagotovljeni. \nČe imaš doma višek perlic ali drugih materialov za ustvarjanje nakita\, bomo z veseljem sprejele_i tvojo donacijo\, prav tako pa vas prosimo za izposojo vaših klešč in podobnega orodja! Z izposojo pripomočkov in uporabo odvečnega materiala se izogibamo nakupu novih izdelkov in skrbimo\, da bo delavnica res čim bolj trajnostna.
URL:https://ljubljanapride.org/event/povej-kdo-si-skozi-nakit/
ATTACH;FMTTYPE=image/jpeg:https://ljubljanapride.org/wp-content/uploads/2026/03/Povej-kdo-si-skozi-nakit-Express-yourself-through-jewellery.jpg
END:VEVENT
BEGIN:VEVENT
DTSTART;TZID=Europe/Ljubljana:20260312T080000
DTEND;TZID=Europe/Ljubljana:20260312T170000
DTSTAMP:20260419T160731
CREATED:20260206T125931Z
LAST-MODIFIED:20260206T125931Z
UID:11202-1773302400-1773334800@ljubljanapride.org
SUMMARY:Simpozij: Varne in vključujoče šole
DESCRIPTION:Kako graditi šole\, kjer je res prostor za vse\, tudi LGBTIQ+ mlade? \nVabimo vas na simpozij o vključujočih šolah\, ki bo 12. marca 2026 združil radovedne\, angažirane in srčne strokovne delavke_ce v vzgoji in izobraževanju – ter vse\, ki jim je mar za varne\, vključujoče in podporne šolske skupnosti. \nKaj vas čaka? \n\npogovor o resničnih dilemah vključevanja LGBTIQ+ tematik in LGBTIQ+ učenk_cev in dijakinj_ov v šolah (brez olepševanja)\,\npraktična orodja za vsakdanje situacije iz učilnic in hodnikov\,\nkreativni in interaktivni pristopi\, ki dejansko delujejo\,\nnavdih iz dobrih praks iz tujine\,\nspoznavanje Mreže vključujočih šol Slovenije\n\nSimpozij je ovrednoten z 0\,5 KATIS točke.MVI krije 50 % kotizacije\, ki nato znaša 18.07€. \nPrijavite se lahko preko sistema KATIS\, najdete nas pod naslovom aktivnosti – Simpozij: varne in vključujoče šole. \nPridite po znanje\, ideje in malo zagona za naprej!
URL:https://ljubljanapride.org/event/simpozij-varne-in-vkljucujoce-sole/
ATTACH;FMTTYPE=image/png:https://ljubljanapride.org/wp-content/uploads/2026/02/simpozij.png
END:VEVENT
BEGIN:VEVENT
DTSTART;TZID=Europe/Ljubljana:20260314T210000
DTEND;TZID=Europe/Ljubljana:20260314T233000
DTSTAMP:20260419T160731
CREATED:20260225T123349Z
LAST-MODIFIED:20260225T123349Z
UID:11314-1773522000-1773531000@ljubljanapride.org
SUMMARY:Drag show za volitve - "Volim te!"
DESCRIPTION:Spet prišel je čas da se vprašaš koga boš izbral_a! A od vseh teh snubcev in ljubimk te boli glava! \nDržavnozborske volitve se že približujejo in čas je da tudi ti dregneš tistga enga prjatučka\, ki se mu volitve zdijo “brezveze” ker je “vseen če sam jst ne volim”. Če mu ne znaš obrazložiti zakaj je njegov glas pomemben\, ga pripelji s sabo v klub Tiffany\, v soboto 14. marca s pričetkom ob 21. uri! Naši kralji in kraljice preobleke vam pomagamo\, da izberete pravo stran(ko). \nBuren in revolucionarno zabaven dreg šov bo pometel s prahom skritim pod preprogo in te zavrtel po plesišču. V slogu in strasti se bomo razpičkavale_i čez fašiste\, ki se sploh ne skrivajo več\, spreminjanje kvir oseb v grešne kozle\, izkoriščanje delavskega razreda\, nadležne strejt tipe\, lažne novice\, PA ŠE KAJ! Uff\, bomo zgovorne_i. \nVse kar rabiš vedet: \n\n💥 Dogodek se začne ob 21h\, VSTOP JE BREZPLAČEN\n💥 Lahko se ustaviš na stojnici in si vzameš letake z navodili in informacijami za volit (kako\, kje\, kaj rabiš\, vse izveš!)\n💥 Dreg šov se začne ob 22.00\n💥 Host večera: Divji Oskar\n💥 Nastopajoče_i: Bujta Diva\, Divji Oskar\, Eric Dagger\, Kataklizma\, Mehki Fant\, Niko Lega in Tomi Deli\n💥 DJ: Mentalika\n💥 Po šovu sledi partyyy 23h-03h: za že poštempljane zastonj\, za prišleke 6€\n\nLahko samo gledaš in se pritožuješ kako gre vse v kurac\, lahko pa uporabiš svoj glas in nekaj dejansko spremeniš! Zato ne zamudi; nič te ne stane da se pridružiš in se dereš skupaj z nami! To soboto v Tifli\, naslednjo nedeljo pa na svojem lokalnem volišču. \nDizajn: Ivan Nikolić
URL:https://ljubljanapride.org/event/drag-show-za-volitve-volim-te/
ATTACH;FMTTYPE=image/png:https://ljubljanapride.org/wp-content/uploads/2026/02/OBJAVA_DRAG_SHOW__VOLIM_TE-scaled.png
END:VEVENT
BEGIN:VEVENT
DTSTART;TZID=Europe/Ljubljana:20260318T150000
DTEND;TZID=Europe/Ljubljana:20260318T180000
DTSTAMP:20260419T160731
CREATED:20260330T082619Z
LAST-MODIFIED:20260330T083053Z
UID:11541-1773846000-1773856800@ljubljanapride.org
SUMMARY:Delavnica izbrisne poezije
DESCRIPTION:Pridi in preživi popoldne z nami ob ustvarjanju sporočil in sloganov o stvareh\, ki so nam resnično pomembne. \nTokrat se bomo na ustvarjalen način posvetili temam okolja\, trajnosti\, narave in ekologije ter jih skupaj raziskovali. \nDelali bomo z metodo blackout poezije. Z premišljenim izbiranjem\, kaj v že obstoječem besedilu izbrišemo in kaj poudarimo\, bomo odkrivali nove pomene in nepričakovana sporočila. Predhodne izkušnje niso potrebne\, dovolj sta radovednost in želja po igranju z besedami. \nNekatera besedila\, ki bodo nastala na delavnici\, bodo morda kasneje postala del plakatov\, razstavljenih v Ponosni vasi na dan Parade ponosa\, 13. junija 2026. \nPrijava ni potrebna\, samo pridi! Pridružiš se lahko kadarkoli med delavnico; z veseljem te bomo uvedli v proces\, nato pa lahko ustvarjaš v svojem tempu. Če moraš oditi prej\, je tudi to povsem v redu. \nDelavnico bo vodil Aron Kovač.\nČe imaš kakršnakoli vprašanja\, nam piši na artur@ljubljanapride.org.
URL:https://ljubljanapride.org/event/delavnica-izbrisne-poezije/
ATTACH;FMTTYPE=image/jpeg:https://ljubljanapride.org/wp-content/uploads/2026/03/kreativna-delavnica-izbrisne-poezije.jpg
END:VEVENT
BEGIN:VEVENT
DTSTART;TZID=Europe/Ljubljana:20260318T160000
DTEND;TZID=Europe/Ljubljana:20260318T200000
DTSTAMP:20260419T160731
CREATED:20260330T081501Z
LAST-MODIFIED:20260330T081501Z
UID:11535-1773849600-1773864000@ljubljanapride.org
SUMMARY:Trèš šik: Cvetlični lončki + makrame
DESCRIPTION:Pridruži se nam v sredo\, 18.3.2026 na drugi delavnici trajnostnega promocijskega materiala za letošnji festival Parada ponosa! Dogodek bo potekal med 16:00 in 20:00 v naši pisarni na Dunajski 10 v Ljubljani\, prideš lahko kadarkoli. \n🪴 Tokrat bomo prazne konzerve nadciklirale_i v cvetlične lončke\, nato pa iz starih električnih kablov in vrvic zanje spletle_i še obešala. \n🌿 Vabljene\, da prinesete tudi odrezke svojih sobnih rastlin za izmenjavo in presajanje v končne izdelke. Sprejemamo tudi donacije manjših starih kablov\, paracord vrvic in verig! \n🌸 Seveda tudi tokrat lahko kakšen izdelek odnesete tudi s seboj domov\, med ustvarjanjem pa bo polno priložnosti za spoznavanje novih prijateljic_ev. \nSe veselimo\, da te spoznamo 💜
URL:https://ljubljanapride.org/event/tres-sik-cvetlicni-loncki-makrame/
ATTACH;FMTTYPE=image/jpeg:https://ljubljanapride.org/wp-content/uploads/2026/03/TrC3A8C5A0_C5A0ik___CvetliC48Dni_lonC48Dki_2B_makrame_.jpg
END:VEVENT
BEGIN:VEVENT
DTSTART;TZID=Europe/Ljubljana:20260320T080000
DTEND;TZID=Europe/Ljubljana:20260320T170000
DTSTAMP:20260419T160731
CREATED:20260224T104119Z
LAST-MODIFIED:20260224T104119Z
UID:11298-1773993600-1774026000@ljubljanapride.org
SUMMARY:KATIS usposabljanje: Spolna vzgoja
DESCRIPTION:VABILO NA USPOSABLJANJE: Spolna vzgoja  \nSpolna vzgoja ni le tema biologije ali osebnega zdravja. Je prostor učenja o telesni avtonomiji\, privolitvi\, spoštovanju\, enakopravnosti in človekovih pravicah. Je pomemben del vzgojno-izobraževalnega procesa\, ki prispeva k preprečevanju nasilja ter krepitvi zdravih odnosov med mladimi. \nDelavnica je namenjena učiteljicam_em\, svetovalnim delavkam_cem\, ravnateljicam_em in drugim strokovnim delavkam_cem v vzgoji in izobraževanju\, ki želijo samozavestno in strokovno naslavljati teme spolne vzgoje v svojem vsakdanjem delu. \nNamen usposabljanja: \nOpolnomočiti šolske delavke_ce za strokovno\, vključujoče in odgovorno naslavljanje tem spolne vzgoje v šolskem prostoru. \nCilji usposabljanja: \n\npoglobiti znanje o spolni vzgoji in njenenm pomenu v šolskih prostorih;\nrazviti kompetence za prenos teh vsebin v delo z mladimi;\nokrepiti samozavest pri odpiranju občutljivih tem v razredu;\nusmeriti se v konkretne\, praktične pristope in rešitve za delo z učenkami_ci.\n\nUsposabljanje temelji na interaktivnem delu\, primerih iz prakse\, izmenjavi izkušenj ter konkretnih pedagoških orodjih\, ki jih lahko udeleženke_ci neposredno vključijo v pouk\, svetovalno delo ali druge vzgojno-izobraževalne dejavnosti. \nDatum: 20.3.2026\n📍 Lokacijo bomo sporočile naknadno.  \n📌 Prijava poteka preko kataloga KATIS. \n  \nUsposabljanje poteka ob podpori Ministrstva za izobraževanje\, znanost\, kulturo in šport.  \n 
URL:https://ljubljanapride.org/event/katis-usposabljanje-spolna-vzgoja/
ATTACH;FMTTYPE=image/jpeg:https://ljubljanapride.org/wp-content/uploads/2026/02/KATIS_SEXED_1-1-scaled.jpg
END:VEVENT
END:VCALENDAR