BEGIN:VCALENDAR
VERSION:2.0
PRODID:-//Društvo Parada Ponosa - ECPv6.15.17.1//NONSGML v1.0//EN
CALSCALE:GREGORIAN
METHOD:PUBLISH
X-WR-CALNAME:Društvo Parada Ponosa
X-ORIGINAL-URL:https://ljubljanapride.org
X-WR-CALDESC:Dogodki za Društvo Parada Ponosa
REFRESH-INTERVAL;VALUE=DURATION:PT1H
X-Robots-Tag:noindex
X-PUBLISHED-TTL:PT1H
BEGIN:VTIMEZONE
TZID:Europe/Ljubljana
BEGIN:DAYLIGHT
TZOFFSETFROM:+0100
TZOFFSETTO:+0200
TZNAME:CEST
DTSTART:20240331T010000
END:DAYLIGHT
BEGIN:STANDARD
TZOFFSETFROM:+0200
TZOFFSETTO:+0100
TZNAME:CET
DTSTART:20241027T010000
END:STANDARD
BEGIN:DAYLIGHT
TZOFFSETFROM:+0100
TZOFFSETTO:+0200
TZNAME:CEST
DTSTART:20250330T010000
END:DAYLIGHT
BEGIN:STANDARD
TZOFFSETFROM:+0200
TZOFFSETTO:+0100
TZNAME:CET
DTSTART:20251026T010000
END:STANDARD
BEGIN:DAYLIGHT
TZOFFSETFROM:+0100
TZOFFSETTO:+0200
TZNAME:CEST
DTSTART:20260329T010000
END:DAYLIGHT
BEGIN:STANDARD
TZOFFSETFROM:+0200
TZOFFSETTO:+0100
TZNAME:CET
DTSTART:20261025T010000
END:STANDARD
END:VTIMEZONE
BEGIN:VEVENT
DTSTART;TZID=Europe/Ljubljana:20250227T170000
DTEND;TZID=Europe/Ljubljana:20250227T200000
DTSTAMP:20260419T234348
CREATED:20250131T125231Z
LAST-MODIFIED:20250131T125231Z
UID:10115-1740675600-1740686400@ljubljanapride.org
SUMMARY:Kofetkanje!
DESCRIPTION:☕ Dobrodošle_i na Kofetkanju – našem novem forumu za skupnost! ✨\nTo je prostor\, kjer se pogovarjamo\, bentimo in ustvarjamo občutek pripadnosti. Ne glede na to\, ali želiš deliti svoje misli\, štartati pomembne debate ali pa preprosto biti del skupnosti in kofetkati—ta prostor je zate! 💬💜 \n🌈 Kako deluje:\n📌 Srečujemo se dvakrat mesečno!\n➡️ Prvo srečanje: Strukturiran pogovor o temah\, ki so nam pomembne 🧠💖\n➡️ Drugo srečanje: Sproščena druženja—prinesi svoje ideje\, rant ali pa samo pridi čvekat! \nZakaj? Ker lahko iz bentenja nastane resnična sprememba. Ker so naše zgodbe pomembne. Ker skupnost raste skozi pogovor. 🏳️‍🌈 \n💡 Imaš kaj na mislih?\n👉 Bi rad_a bentil_a o nečem?\n👉 Imaš temo\, o kateri MORAMO govoriti?\n👉 Si želiš biti slišan_a? \nPošlji nam DM za prijavo ali predlog teme—komaj čakamo\, da te slišimo! 💌
URL:https://ljubljanapride.org/event/kofetkanje-2/
LOCATION:Društvo Parada ponosa\, Dunajska cesta 10
ATTACH;FMTTYPE=image/jpeg:https://ljubljanapride.org/wp-content/uploads/2025/01/What_is_it-1.jpg
END:VEVENT
BEGIN:VEVENT
DTSTART;TZID=Europe/Ljubljana:20250206T170000
DTEND;TZID=Europe/Ljubljana:20250206T200000
DTSTAMP:20260419T234348
CREATED:20250131T125058Z
LAST-MODIFIED:20250131T125058Z
UID:10111-1738861200-1738872000@ljubljanapride.org
SUMMARY:Kofetkanje!
DESCRIPTION:☕ Dobrodošle_i na Kofetkanju – našem novem forumu za skupnost! ✨\nTo je prostor\, kjer se pogovarjamo\, bentimo in ustvarjamo občutek pripadnosti. Ne glede na to\, ali želiš deliti svoje misli\, štartati pomembne debate ali pa preprosto biti del skupnosti in kofetkati—ta prostor je zate! 💬💜 \n🌈 Kako deluje:\n📌 Srečujemo se dvakrat mesečno!\n➡️ Prvo srečanje: Strukturiran pogovor o temah\, ki so nam pomembne 🧠💖\n➡️ Drugo srečanje: Sproščena druženja—prinesi svoje ideje\, rant ali pa samo pridi čvekat! \nZakaj? Ker lahko iz bentenja nastane resnična sprememba. Ker so naše zgodbe pomembne. Ker skupnost raste skozi pogovor. 🏳️‍🌈 \n💡 Imaš kaj na mislih?\n👉 Bi rad_a bentil_a o nečem?\n👉 Imaš temo\, o kateri MORAMO govoriti?\n👉 Si želiš biti slišan_a? \nPošlji nam DM za prijavo ali predlog teme—komaj čakamo\, da te slišimo! 💌
URL:https://ljubljanapride.org/event/kofetkanje/
LOCATION:Društvo Parada ponosa\, Dunajska cesta 10
ATTACH;FMTTYPE=image/jpeg:https://ljubljanapride.org/wp-content/uploads/2025/01/What_is_it-1.jpg
END:VEVENT
END:VCALENDAR