BEGIN:VCALENDAR
VERSION:2.0
PRODID:-//Društvo Parada Ponosa - ECPv6.15.17.1//NONSGML v1.0//EN
CALSCALE:GREGORIAN
METHOD:PUBLISH
X-WR-CALNAME:Društvo Parada Ponosa
X-ORIGINAL-URL:https://ljubljanapride.org/en/
X-WR-CALDESC:Events for Društvo Parada Ponosa
REFRESH-INTERVAL;VALUE=DURATION:PT1H
X-Robots-Tag:noindex
X-PUBLISHED-TTL:PT1H
BEGIN:VTIMEZONE
TZID:Europe/Ljubljana
BEGIN:DAYLIGHT
TZOFFSETFROM:+0100
TZOFFSETTO:+0200
TZNAME:CEST
DTSTART:20220327T010000
END:DAYLIGHT
BEGIN:STANDARD
TZOFFSETFROM:+0200
TZOFFSETTO:+0100
TZNAME:CET
DTSTART:20221030T010000
END:STANDARD
BEGIN:DAYLIGHT
TZOFFSETFROM:+0100
TZOFFSETTO:+0200
TZNAME:CEST
DTSTART:20230326T010000
END:DAYLIGHT
BEGIN:STANDARD
TZOFFSETFROM:+0200
TZOFFSETTO:+0100
TZNAME:CET
DTSTART:20231029T010000
END:STANDARD
BEGIN:DAYLIGHT
TZOFFSETFROM:+0100
TZOFFSETTO:+0200
TZNAME:CEST
DTSTART:20240331T010000
END:DAYLIGHT
BEGIN:STANDARD
TZOFFSETFROM:+0200
TZOFFSETTO:+0100
TZNAME:CET
DTSTART:20241027T010000
END:STANDARD
END:VTIMEZONE
BEGIN:VEVENT
DTSTART;VALUE=DATE:20230920
DTEND;VALUE=DATE:20230924
DTSTAMP:20260420T220942
CREATED:20230824T140516Z
LAST-MODIFIED:20230824T140744Z
UID:7979-1695196800-1695455999@ljubljanapride.org
SUMMARY:Advocacy training
DESCRIPTION:ADVOCACY? \nWhat exactly is advocacy? How should our association tackle it? What changes are we fighting for that can be achieved through advocacy activities? \nAt Ljubljana Pride Association\, we have invested a lot of effort and work in recent years in strategic development\, professionalization of the organization\, development of new expert programs… now the time has come when we will reach towards the next step – more systematic work for change at the political and legislative level. And of course\, first of all we have to learn new approaches and gain knowledge so that we can really achieve lasting impact and change. \nThus\, between September 20 and 22\, the entire team of the association will embark on a three-day intensive advocacy training. The key achievement we are striving for is the development of the advocacy strategy of the SQVOT program – a program for reducing the consequences of minority stress. \nThe training and strategic development in the field of advocacy is made possible by the financial support of ILGA Europe and its program No One Left Behind.
URL:https://ljubljanapride.org/en/event/advocacy-training/
LOCATION:Strunjan\, Strunjan\, Slovenija
ATTACH;FMTTYPE=image/jpeg:https://ljubljanapride.org/wp-content/uploads/2023/08/Picsart_23-08-24_16-03-04-815.jpg
END:VEVENT
END:VCALENDAR