BEGIN:VCALENDAR
VERSION:2.0
PRODID:-//Društvo Parada Ponosa - ECPv6.15.17.1//NONSGML v1.0//EN
CALSCALE:GREGORIAN
METHOD:PUBLISH
X-WR-CALNAME:Društvo Parada Ponosa
X-ORIGINAL-URL:https://ljubljanapride.org/en/
X-WR-CALDESC:Events for Društvo Parada Ponosa
REFRESH-INTERVAL;VALUE=DURATION:PT1H
X-Robots-Tag:noindex
X-PUBLISHED-TTL:PT1H
BEGIN:VTIMEZONE
TZID:Europe/Ljubljana
BEGIN:DAYLIGHT
TZOFFSETFROM:+0100
TZOFFSETTO:+0200
TZNAME:CEST
DTSTART:20240331T010000
END:DAYLIGHT
BEGIN:STANDARD
TZOFFSETFROM:+0200
TZOFFSETTO:+0100
TZNAME:CET
DTSTART:20241027T010000
END:STANDARD
BEGIN:DAYLIGHT
TZOFFSETFROM:+0100
TZOFFSETTO:+0200
TZNAME:CEST
DTSTART:20250330T010000
END:DAYLIGHT
BEGIN:STANDARD
TZOFFSETFROM:+0200
TZOFFSETTO:+0100
TZNAME:CET
DTSTART:20251026T010000
END:STANDARD
BEGIN:DAYLIGHT
TZOFFSETFROM:+0100
TZOFFSETTO:+0200
TZNAME:CEST
DTSTART:20260329T010000
END:DAYLIGHT
BEGIN:STANDARD
TZOFFSETFROM:+0200
TZOFFSETTO:+0100
TZNAME:CET
DTSTART:20261025T010000
END:STANDARD
END:VTIMEZONE
BEGIN:VEVENT
DTSTART;TZID=Europe/Ljubljana:20250308T120000
DTEND;TZID=Europe/Ljubljana:20250308T140000
DTSTAMP:20260420T002138
CREATED:20250305T182242Z
LAST-MODIFIED:20250305T182242Z
UID:10188-1741435200-1741442400@ljubljanapride.org
SUMMARY:Banner-Making for the Women's Day Protest
DESCRIPTION:Join us at Monokel\, where we will be making feminist and queer banners for the Women’s Day protest organized by @drustvo_iskra . We will put a special focus on our trans sisters\, whose rights are being stripped away daily. \nAt a time when Elon Musk denies the existence of his own trans child and JK Rowling is destroying what was once a safe haven for many queer kids\, we cannot stay silent. Women’s Day must be every day. Trans Women’s Day must be every day. \n🗓 When? March 8th at 12:00\n📍 Where? Klub Monokel\n✊ Why? Because we must stand strong for ALL women! \nCome\, create\, connect – and then let’s march together! The protest starts at 16:00 at Kongresni Trg. ✊🏳️‍⚧️
URL:https://ljubljanapride.org/en/event/banner-making-for-the-womens-day-protest/
LOCATION:Klub Monokel\, Masarykova cesta 24\, Ljubljana\, Slovenija
ATTACH;FMTTYPE=image/jpeg:https://ljubljanapride.org/wp-content/uploads/2025/03/Screenshot-2025-03-05-191134.jpg
END:VEVENT
END:VCALENDAR