BEGIN:VCALENDAR
VERSION:2.0
PRODID:-//Društvo Parada Ponosa - ECPv6.15.17.1//NONSGML v1.0//EN
CALSCALE:GREGORIAN
METHOD:PUBLISH
X-WR-CALNAME:Društvo Parada Ponosa
X-ORIGINAL-URL:https://ljubljanapride.org/en/
X-WR-CALDESC:Events for Društvo Parada Ponosa
REFRESH-INTERVAL;VALUE=DURATION:PT1H
X-Robots-Tag:noindex
X-PUBLISHED-TTL:PT1H
BEGIN:VTIMEZONE
TZID:Europe/Ljubljana
BEGIN:DAYLIGHT
TZOFFSETFROM:+0100
TZOFFSETTO:+0200
TZNAME:CEST
DTSTART:20220327T010000
END:DAYLIGHT
BEGIN:STANDARD
TZOFFSETFROM:+0200
TZOFFSETTO:+0100
TZNAME:CET
DTSTART:20221030T010000
END:STANDARD
BEGIN:DAYLIGHT
TZOFFSETFROM:+0100
TZOFFSETTO:+0200
TZNAME:CEST
DTSTART:20230326T010000
END:DAYLIGHT
BEGIN:STANDARD
TZOFFSETFROM:+0200
TZOFFSETTO:+0100
TZNAME:CET
DTSTART:20231029T010000
END:STANDARD
BEGIN:DAYLIGHT
TZOFFSETFROM:+0100
TZOFFSETTO:+0200
TZNAME:CEST
DTSTART:20240331T010000
END:DAYLIGHT
BEGIN:STANDARD
TZOFFSETFROM:+0200
TZOFFSETTO:+0100
TZNAME:CET
DTSTART:20241027T010000
END:STANDARD
END:VTIMEZONE
BEGIN:VEVENT
DTSTART;TZID=Europe/Ljubljana:20231118T140000
DTEND;TZID=Europe/Ljubljana:20231118T160000
DTSTAMP:20260420T224829
CREATED:20231120T122246Z
LAST-MODIFIED:20231120T122246Z
UID:8447-1700316000-1700323200@ljubljanapride.org
SUMMARY:Community hangout for asylum seekers and migrants
DESCRIPTION:Are you a LGBTQ+ asylum seeker\, migrant here in Slovenia? Ljubljana Pride Association is inviting you to a community hangout event which is happening on 18.11.2023 AT 14:00 PM at Ljubljana Pride offices\, adress: Dunajska cesta 10\, Ljubljana\nWe would like to welcome you in our community and offer you a safe space where you can freely be yourself without fear\, negative judgment and prejudices.\nWhat’s in store?\nBoard Games Galore\nDelicious Pizza Lunch\nMaking New Friends\nIt’s all about coming together\, sharing stories\, and creating a strong\nsupportive network (community). Let’s build bridges and have a blast while we’re at it!\nNo need to RSVP – just come as you are\, and bring your awesome self.\nSee you there!\n\n———————-\n\nÊtes-vous un demandeur d’asile LGBTQ+ ou migrant ici en\nSlovénie ?L’association Ljubljana Pride vous invite à un événement communautaire qui aura lieu samedi le\n18.11.2023 À 11H00 OU (14H00)\ndans les bureaux de Ljubljana Pride\, adresse:\nDunajska cesta 10 Ljubljana\nNous aimerions vous accueillir dans notre communauté et vous offrir un espace sûr où vous pouvez être librement vous-même sans peur de\njugement négatif ni préjugés.\nQu’y a-t-il au programme ?\nJeux de société à gogo\nDélicieux déjeuner pizza\nSe faire de nouveaux amis\nÇa sera une bonne occasion d’être ensemble\, de partager des histoires et de créer un solide réseau de soutien communautaire. Construisons des ponts et amusons-nous pendant que nous y sommes !\nPas besoin de confirmer votre présence – venez comme vous êtes et amenez votre personnalité géniale.\nOn se voit là-bas!
URL:https://ljubljanapride.org/en/event/community-hangout-for-asylum-seekers-and-migrants/
LOCATION:Društvo Parada ponosa\, Dunajska cesta 10
ATTACH;FMTTYPE=image/jpeg:https://ljubljanapride.org/wp-content/uploads/2023/11/Community-hangout_fb-scaled.jpg
END:VEVENT
END:VCALENDAR