BEGIN:VCALENDAR
VERSION:2.0
PRODID:-//Društvo Parada Ponosa - ECPv6.15.17.1//NONSGML v1.0//EN
CALSCALE:GREGORIAN
METHOD:PUBLISH
X-WR-CALNAME:Društvo Parada Ponosa
X-ORIGINAL-URL:https://ljubljanapride.org/en/
X-WR-CALDESC:Events for Društvo Parada Ponosa
REFRESH-INTERVAL;VALUE=DURATION:PT1H
X-Robots-Tag:noindex
X-PUBLISHED-TTL:PT1H
BEGIN:VTIMEZONE
TZID:Europe/Helsinki
BEGIN:DAYLIGHT
TZOFFSETFROM:+0200
TZOFFSETTO:+0300
TZNAME:EEST
DTSTART:20180325T010000
END:DAYLIGHT
BEGIN:STANDARD
TZOFFSETFROM:+0300
TZOFFSETTO:+0200
TZNAME:EET
DTSTART:20181028T010000
END:STANDARD
BEGIN:DAYLIGHT
TZOFFSETFROM:+0200
TZOFFSETTO:+0300
TZNAME:EEST
DTSTART:20190331T010000
END:DAYLIGHT
BEGIN:STANDARD
TZOFFSETFROM:+0300
TZOFFSETTO:+0200
TZNAME:EET
DTSTART:20191027T010000
END:STANDARD
BEGIN:DAYLIGHT
TZOFFSETFROM:+0200
TZOFFSETTO:+0300
TZNAME:EEST
DTSTART:20200329T010000
END:DAYLIGHT
BEGIN:STANDARD
TZOFFSETFROM:+0300
TZOFFSETTO:+0200
TZNAME:EET
DTSTART:20201025T010000
END:STANDARD
END:VTIMEZONE
BEGIN:VEVENT
DTSTART;TZID=Europe/Helsinki:20190406T070000
DTEND;TZID=Europe/Helsinki:20190406T220000
DTSTAMP:20260423T065937
CREATED:20190211T160213Z
LAST-MODIFIED:20190219T140048Z
UID:1790-1554534000-1554588000@ljubljanapride.org
SUMMARY:Day for Change
DESCRIPTION:All-Community Action Day for Change was created to encourage people to actively respond to the needs of each community. \nSince 2010 on the beginning of the spring\, the Day for Change is urging the inhabitants of Slovenia to roll up their sleeves and become volunteers for at least one day\, with the slogan: Ne prepuščaj se toku\, SPREMINJAJ tudi TI! \nWithin the framework of the 10th Day for Change\, municipalities\, NGOs and public institutions are invited to organize campaigns/activities aimed at eliminating discrimination. \nEncourage diversity and good relations between different groups in society in order to prevent and eliminate discrimination and intolerance. \n  \nWeb campaigns are being collected until Friday\, March 15\, 2019. \nhttps://www.filantropija.org/prijava-akcije-na-dan-za-spremembe/ \n  \nThis year’s action: \nhttps://www.filantropija.org/akcije-dan-za-spremembe \n  \n 
URL:https://ljubljanapride.org/en/event/day-for-change/
ATTACH;FMTTYPE=image/png:https://ljubljanapride.org/wp-content/uploads/2019/02/Dan-za-spremembe.png
END:VEVENT
END:VCALENDAR