BEGIN:VCALENDAR
VERSION:2.0
PRODID:-//Društvo Parada Ponosa - ECPv6.15.17.1//NONSGML v1.0//EN
CALSCALE:GREGORIAN
METHOD:PUBLISH
X-WR-CALNAME:Društvo Parada Ponosa
X-ORIGINAL-URL:https://ljubljanapride.org/en/
X-WR-CALDESC:Events for Društvo Parada Ponosa
REFRESH-INTERVAL;VALUE=DURATION:PT1H
X-Robots-Tag:noindex
X-PUBLISHED-TTL:PT1H
BEGIN:VTIMEZONE
TZID:Europe/Helsinki
BEGIN:DAYLIGHT
TZOFFSETFROM:+0200
TZOFFSETTO:+0300
TZNAME:EEST
DTSTART:20200329T010000
END:DAYLIGHT
BEGIN:STANDARD
TZOFFSETFROM:+0300
TZOFFSETTO:+0200
TZNAME:EET
DTSTART:20201025T010000
END:STANDARD
BEGIN:DAYLIGHT
TZOFFSETFROM:+0200
TZOFFSETTO:+0300
TZNAME:EEST
DTSTART:20210328T010000
END:DAYLIGHT
BEGIN:STANDARD
TZOFFSETFROM:+0300
TZOFFSETTO:+0200
TZNAME:EET
DTSTART:20211031T010000
END:STANDARD
BEGIN:DAYLIGHT
TZOFFSETFROM:+0200
TZOFFSETTO:+0300
TZNAME:EEST
DTSTART:20220327T010000
END:DAYLIGHT
BEGIN:STANDARD
TZOFFSETFROM:+0300
TZOFFSETTO:+0200
TZNAME:EET
DTSTART:20221030T010000
END:STANDARD
END:VTIMEZONE
BEGIN:VEVENT
DTSTART;TZID=Europe/Helsinki:20210423T150000
DTEND;TZID=Europe/Helsinki:20210423T170000
DTSTAMP:20260424T085001
CREATED:20210413T084948Z
LAST-MODIFIED:20210413T085026Z
UID:4787-1619190000-1619197200@ljubljanapride.org
SUMMARY:DecontRamination Workshop
DESCRIPTION:Have you noticed hateful graffiti in your neighbourhood? Does seeing bathroom graffiti targeting minorities – maybe even ones you belong to – in a pub or a club make you uncomfortable?\n\nIf you want to learn more about strategies for changing and subverting hate speech in graffiti\, stickers\, and tags\, join us at the DecontRamination workshop where we’ll explore precisely that.\n\nThe event will be held in english language.\nYou can apply to the workshop by writing us an email to info@ljubljanapride.org.
URL:https://ljubljanapride.org/en/event/decontramination-workshop/
LOCATION:preko spleta
ATTACH;FMTTYPE=image/png:https://ljubljanapride.org/wp-content/uploads/2021/04/DecontRamination_workshop_FB.png
END:VEVENT
END:VCALENDAR