BEGIN:VCALENDAR
VERSION:2.0
PRODID:-//Društvo Parada Ponosa - ECPv6.15.17.1//NONSGML v1.0//EN
CALSCALE:GREGORIAN
METHOD:PUBLISH
X-WR-CALNAME:Društvo Parada Ponosa
X-ORIGINAL-URL:https://ljubljanapride.org/en/
X-WR-CALDESC:Events for Društvo Parada Ponosa
REFRESH-INTERVAL;VALUE=DURATION:PT1H
X-Robots-Tag:noindex
X-PUBLISHED-TTL:PT1H
BEGIN:VTIMEZONE
TZID:Europe/Helsinki
BEGIN:DAYLIGHT
TZOFFSETFROM:+0200
TZOFFSETTO:+0300
TZNAME:EEST
DTSTART:20190331T010000
END:DAYLIGHT
BEGIN:STANDARD
TZOFFSETFROM:+0300
TZOFFSETTO:+0200
TZNAME:EET
DTSTART:20191027T010000
END:STANDARD
BEGIN:DAYLIGHT
TZOFFSETFROM:+0200
TZOFFSETTO:+0300
TZNAME:EEST
DTSTART:20200329T010000
END:DAYLIGHT
BEGIN:STANDARD
TZOFFSETFROM:+0300
TZOFFSETTO:+0200
TZNAME:EET
DTSTART:20201025T010000
END:STANDARD
BEGIN:DAYLIGHT
TZOFFSETFROM:+0200
TZOFFSETTO:+0300
TZNAME:EEST
DTSTART:20210328T010000
END:DAYLIGHT
BEGIN:STANDARD
TZOFFSETFROM:+0300
TZOFFSETTO:+0200
TZNAME:EET
DTSTART:20211031T010000
END:STANDARD
END:VTIMEZONE
BEGIN:VEVENT
DTSTART;TZID=Europe/Helsinki:20201221T180000
DTEND;TZID=Europe/Helsinki:20201221T200000
DTSTAMP:20260424T151045
CREATED:20201208T164715Z
LAST-MODIFIED:20201208T164801Z
UID:4544-1608573600-1608580800@ljubljanapride.org
SUMMARY:Druženje: Zahvala prostovoljkam_cem
DESCRIPTION:Dear volunteers\, colleagues\, supporters\, who helped us create the Pride Parade 2020 and with that\, helped us commemorate the 20 years of the Pride Parade in Ljubljana: without you\, we would not have succeeded! \nTHANK YOU for your help with tech setup\, visuals\, security\, food\, photos\, merchandise\, raffle\, preparing different applications and sending numerous emails and all the other less visible but also crucial tasks. You are noticed and valued. \nAs we would like to properly thank you for your cooperation and help\, we warmly welcome you to spend a very special evening with us on December 21 on Zoom at 18h. \nApply here: https://forms.gle/H71j9WJzreD89q9Z9  \n  \nWe can’t wait to see you again\, at least digitally.  \nLjubljana Pride team
URL:https://ljubljanapride.org/en/event/druzenje-zahvala-prostovoljkam_cem-2/
LOCATION:Zoom
ATTACH;FMTTYPE=image/png:https://ljubljanapride.org/wp-content/uploads/2020/12/Hvala-za-parado-fb.png
END:VEVENT
END:VCALENDAR