BEGIN:VCALENDAR
VERSION:2.0
PRODID:-//Društvo Parada Ponosa - ECPv6.15.17.1//NONSGML v1.0//EN
CALSCALE:GREGORIAN
METHOD:PUBLISH
X-WR-CALNAME:Društvo Parada Ponosa
X-ORIGINAL-URL:https://ljubljanapride.org/en/
X-WR-CALDESC:Events for Društvo Parada Ponosa
REFRESH-INTERVAL;VALUE=DURATION:PT1H
X-Robots-Tag:noindex
X-PUBLISHED-TTL:PT1H
BEGIN:VTIMEZONE
TZID:Europe/Ljubljana
BEGIN:DAYLIGHT
TZOFFSETFROM:+0100
TZOFFSETTO:+0200
TZNAME:CEST
DTSTART:20220327T010000
END:DAYLIGHT
BEGIN:STANDARD
TZOFFSETFROM:+0200
TZOFFSETTO:+0100
TZNAME:CET
DTSTART:20221030T010000
END:STANDARD
BEGIN:DAYLIGHT
TZOFFSETFROM:+0100
TZOFFSETTO:+0200
TZNAME:CEST
DTSTART:20230326T010000
END:DAYLIGHT
BEGIN:STANDARD
TZOFFSETFROM:+0200
TZOFFSETTO:+0100
TZNAME:CET
DTSTART:20231029T010000
END:STANDARD
BEGIN:DAYLIGHT
TZOFFSETFROM:+0100
TZOFFSETTO:+0200
TZNAME:CEST
DTSTART:20240331T010000
END:DAYLIGHT
BEGIN:STANDARD
TZOFFSETFROM:+0200
TZOFFSETTO:+0100
TZNAME:CET
DTSTART:20241027T010000
END:STANDARD
END:VTIMEZONE
BEGIN:VEVENT
DTSTART;TZID=Europe/Ljubljana:20231121T170000
DTEND;TZID=Europe/Ljubljana:20231121T190000
DTSTAMP:20260420T202937
CREATED:20231127T113933Z
LAST-MODIFIED:20231127T150732Z
UID:8516-1700586000-1700593200@ljubljanapride.org
SUMMARY:EU for climate justice
DESCRIPTION:oin us at the event where we will discuss key topics such as climate justice\, why we need to talk about food production systems in the context of the climate and ecosystem crisis\, energy strategies and European climate legislation. Be part of a fascinating debate through which we will learn about the impact of these topics on our planet. \nWhether you’re just curious or a political enthusiast\, this is a great opportunity to understand how your vote in next year’s European elections can shape the future of climate justice. 🇪🇺 \nWe will be joined by guests from Umanotera and Greenpeace Slovenia.\n____________\nFunded by the European Union.
URL:https://ljubljanapride.org/en/event/eu-for-climate-justice/
LOCATION:Mladinski center Mladi Zmaji Golovec\, Pesarska cesta 14\, Ljubljana
ATTACH;FMTTYPE=image/jpeg:https://ljubljanapride.org/wp-content/uploads/2023/11/Climate-change_fb-scaled.jpg
END:VEVENT
END:VCALENDAR