BEGIN:VCALENDAR
VERSION:2.0
PRODID:-//Društvo Parada Ponosa - ECPv6.15.17.1//NONSGML v1.0//EN
CALSCALE:GREGORIAN
METHOD:PUBLISH
X-WR-CALNAME:Društvo Parada Ponosa
X-ORIGINAL-URL:https://ljubljanapride.org/en/
X-WR-CALDESC:Events for Društvo Parada Ponosa
REFRESH-INTERVAL;VALUE=DURATION:PT1H
X-Robots-Tag:noindex
X-PUBLISHED-TTL:PT1H
BEGIN:VTIMEZONE
TZID:Europe/Helsinki
BEGIN:DAYLIGHT
TZOFFSETFROM:+0200
TZOFFSETTO:+0300
TZNAME:EEST
DTSTART:20180325T010000
END:DAYLIGHT
BEGIN:STANDARD
TZOFFSETFROM:+0300
TZOFFSETTO:+0200
TZNAME:EET
DTSTART:20181028T010000
END:STANDARD
BEGIN:DAYLIGHT
TZOFFSETFROM:+0200
TZOFFSETTO:+0300
TZNAME:EEST
DTSTART:20190331T010000
END:DAYLIGHT
BEGIN:STANDARD
TZOFFSETFROM:+0300
TZOFFSETTO:+0200
TZNAME:EET
DTSTART:20191027T010000
END:STANDARD
BEGIN:DAYLIGHT
TZOFFSETFROM:+0200
TZOFFSETTO:+0300
TZNAME:EEST
DTSTART:20200329T010000
END:DAYLIGHT
BEGIN:STANDARD
TZOFFSETFROM:+0300
TZOFFSETTO:+0200
TZNAME:EET
DTSTART:20201025T010000
END:STANDARD
END:VTIMEZONE
BEGIN:VEVENT
DTSTART;TZID=Europe/Helsinki:20190615T110000
DTEND;TZID=Europe/Helsinki:20190615T140000
DTSTAMP:20260425T045915
CREATED:20190603T183313Z
LAST-MODIFIED:20190603T183313Z
UID:2366-1560596400-1560607200@ljubljanapride.org
SUMMARY:Hate Speech DecontRamination
DESCRIPTION:Have you noticed hateful graffiti in your neighbourhood? Does seeing bathroom graffiti targeting minorities – maybe even ones you belong to – in a pub or a club make you uncomfortable? If you want to learn more about strategies for changing and subverting hate speech in graffiti\, stickers\, and tags\, join us at the DecontRamination workshop where we’ll explore precisely that. \nWorkshop will be led by Ljubljana Pride’s trainers and the initiators of the DecontRamination online map.
URL:https://ljubljanapride.org/en/event/hate-speech-decontramination/
LOCATION:YHD\, Metelkova\, Masarykova cesta 24\, Ljubljana\, 1000\, Slovenija
ATTACH;FMTTYPE=image/png:https://ljubljanapride.org/wp-content/uploads/2019/06/15.6._DekontRaminacija-Medium.png
ORGANIZER;CN="Dru%C5%A1tvo Parada ponosa":MAILTO:info@ljubljanapride.org
END:VEVENT
END:VCALENDAR