BEGIN:VCALENDAR
VERSION:2.0
PRODID:-//Društvo Parada Ponosa - ECPv6.15.17.1//NONSGML v1.0//EN
CALSCALE:GREGORIAN
METHOD:PUBLISH
X-WR-CALNAME:Društvo Parada Ponosa
X-ORIGINAL-URL:https://ljubljanapride.org/en/
X-WR-CALDESC:Events for Društvo Parada Ponosa
REFRESH-INTERVAL;VALUE=DURATION:PT1H
X-Robots-Tag:noindex
X-PUBLISHED-TTL:PT1H
BEGIN:VTIMEZONE
TZID:Europe/Helsinki
BEGIN:DAYLIGHT
TZOFFSETFROM:+0200
TZOFFSETTO:+0300
TZNAME:EEST
DTSTART:20190331T010000
END:DAYLIGHT
BEGIN:STANDARD
TZOFFSETFROM:+0300
TZOFFSETTO:+0200
TZNAME:EET
DTSTART:20191027T010000
END:STANDARD
BEGIN:DAYLIGHT
TZOFFSETFROM:+0200
TZOFFSETTO:+0300
TZNAME:EEST
DTSTART:20200329T010000
END:DAYLIGHT
BEGIN:STANDARD
TZOFFSETFROM:+0300
TZOFFSETTO:+0200
TZNAME:EET
DTSTART:20201025T010000
END:STANDARD
BEGIN:DAYLIGHT
TZOFFSETFROM:+0200
TZOFFSETTO:+0300
TZNAME:EEST
DTSTART:20210328T010000
END:DAYLIGHT
BEGIN:STANDARD
TZOFFSETFROM:+0300
TZOFFSETTO:+0200
TZNAME:EET
DTSTART:20211031T010000
END:STANDARD
END:VTIMEZONE
BEGIN:VEVENT
DTSTART;VALUE=DATE:20200420
DTEND;VALUE=DATE:20200421
DTSTAMP:20260424T193455
CREATED:20200406T110408Z
LAST-MODIFIED:20200406T113920Z
UID:3504-1587369600-1587369600@ljubljanapride.org
SUMMARY:We are looking for a coordinator of Pride parade march and security!
DESCRIPTION:? Ljubljana Pride is looking for a coordinator of Pride parade march and security! ? \n  \nOur team is in need of a motivated person who will support the coordination of the pride parade march at this year’s Pride Parade Festival\, who will be trained in this field with the desire for ongoing coordination in the future. \nWork includes procession coordination (directorate\, coordinating work with the security and police\, communication with the ambulance service)\, pre-parade supervision (support to the technical team)\, ensuring a smooth procession (timely start\, road closure with directors)\, and oversight the whole event until the end of the parade day. \n  \nCandidate should: \n ?be a part of the LGBTIQ + community or an ally \n?you have previous experience in leading and organizing groups of people or a strong interest in learning in the field \n?be interested in long-term involvement with the Ljubljana Pride associaton \n  \nWe offer: \n?training in the form of volunteer work \n? coordination support and mentoring delivered by an experienced person within the relevant \n     areas of work \n? an excellent development opportunity \n  \nIf you find yourself meeting this description\, we invite you to apply. After the applications have been received\, we will organize a meeting where we will get to know each other better\, discuss our expectations and needs\, and agree on further steps. \nVolunteer work will take place in June 2020 in Ljubljana\, or during the Pride Parade Festival (May 5 – June 13\, 2020) and further by appointment. The Festival may also be postponed to a later date\, most likely in September 2020. \nSIGN UP HERE! \nApplications are due by April 20\, 2020\n  \nYou can contact us at info@ljubljanapride.org for additional questions. \n_____________________
URL:https://ljubljanapride.org/en/event/iscemo-koordinatorko_ja-povorke-in-rediteljstva/
LOCATION:Društvo Parada ponosa\, Dunajska cesta 10\, Ljubljana
ATTACH;FMTTYPE=image/jpeg:https://ljubljanapride.org/wp-content/uploads/2020/04/Vodja-rediteljstva-Pride-2020_fb-scaled.jpg
ORGANIZER;CN="Dru%C5%A1tvo Parada ponosa":MAILTO:info@ljubljanapride.org
END:VEVENT
END:VCALENDAR