BEGIN:VCALENDAR
VERSION:2.0
PRODID:-//Društvo Parada Ponosa - ECPv6.15.17.1//NONSGML v1.0//EN
CALSCALE:GREGORIAN
METHOD:PUBLISH
X-WR-CALNAME:Društvo Parada Ponosa
X-ORIGINAL-URL:https://ljubljanapride.org/en/
X-WR-CALDESC:Events for Društvo Parada Ponosa
REFRESH-INTERVAL;VALUE=DURATION:PT1H
X-Robots-Tag:noindex
X-PUBLISHED-TTL:PT1H
BEGIN:VTIMEZONE
TZID:Europe/Ljubljana
BEGIN:DAYLIGHT
TZOFFSETFROM:+0100
TZOFFSETTO:+0200
TZNAME:CEST
DTSTART:20250330T010000
END:DAYLIGHT
BEGIN:STANDARD
TZOFFSETFROM:+0200
TZOFFSETTO:+0100
TZNAME:CET
DTSTART:20251026T010000
END:STANDARD
BEGIN:DAYLIGHT
TZOFFSETFROM:+0100
TZOFFSETTO:+0200
TZNAME:CEST
DTSTART:20260329T010000
END:DAYLIGHT
BEGIN:STANDARD
TZOFFSETFROM:+0200
TZOFFSETTO:+0100
TZNAME:CET
DTSTART:20261025T010000
END:STANDARD
BEGIN:DAYLIGHT
TZOFFSETFROM:+0100
TZOFFSETTO:+0200
TZNAME:CEST
DTSTART:20270328T010000
END:DAYLIGHT
BEGIN:STANDARD
TZOFFSETFROM:+0200
TZOFFSETTO:+0100
TZNAME:CET
DTSTART:20271031T010000
END:STANDARD
END:VTIMEZONE
BEGIN:VEVENT
DTSTART;TZID=Europe/Ljubljana:20260320T080000
DTEND;TZID=Europe/Ljubljana:20260320T170000
DTSTAMP:20260422T164642
CREATED:20260224T104025Z
LAST-MODIFIED:20260224T104025Z
UID:11294-1773993600-1774026000@ljubljanapride.org
SUMMARY:KATIS usposabljenje: Spolna vzgoja 
DESCRIPTION:VABILO NA USPOSABLJANJE: Spolna vzgoja  \nSpolna vzgoja ni le tema biologije ali osebnega zdravja. Je prostor učenja o telesni avtonomiji\, privolitvi\, spoštovanju\, enakopravnosti in človekovih pravicah. Je pomemben del vzgojno-izobraževalnega procesa\, ki prispeva k preprečevanju nasilja ter krepitvi zdravih odnosov med mladimi. \nDelavnica je namenjena učiteljicam_em\, svetovalnim delavkam_cem\, ravnateljicam_em in drugim strokovnim delavkam_cem v vzgoji in izobraževanju\, ki želijo samozavestno in strokovno naslavljati teme spolne vzgoje v svojem vsakdanjem delu. \nNamen usposabljanja: \nOpolnomočiti šolske delavke_ce za strokovno\, vključujoče in odgovorno naslavljanje tem spolne vzgoje v šolskem prostoru. \nCilji usposabljanja: \n\npoglobiti znanje o spolni vzgoji in njenenm pomenu v šolskih prostorih;\nrazviti kompetence za prenos teh vsebin v delo z mladimi;\nokrepiti samozavest pri odpiranju občutljivih tem v razredu;\nusmeriti se v konkretne\, praktične pristope in rešitve za delo z učenkami_ci.\n\nUsposabljanje temelji na interaktivnem delu\, primerih iz prakse\, izmenjavi izkušenj ter konkretnih pedagoških orodjih\, ki jih lahko udeleženke_ci neposredno vključijo v pouk\, svetovalno delo ali druge vzgojno-izobraževalne dejavnosti. \nDatum: 20.3.2026\n📍 Lokacijo bomo sporočile naknadno.  \n📌 Prijava poteka preko kataloga KATIS. \n  \nUsposabljanje poteka ob podpori Ministrstva za izobraževanje\, znanost\, kulturo in šport.  \n 
URL:https://ljubljanapride.org/en/event/katis-usposabljenje-spolna-vzgoja/
ATTACH;FMTTYPE=image/jpeg:https://ljubljanapride.org/wp-content/uploads/2026/02/KATIS_SEXED_1-1-scaled.jpg
END:VEVENT
END:VCALENDAR