BEGIN:VCALENDAR
VERSION:2.0
PRODID:-//Društvo Parada Ponosa - ECPv6.15.17.1//NONSGML v1.0//EN
CALSCALE:GREGORIAN
METHOD:PUBLISH
X-WR-CALNAME:Društvo Parada Ponosa
X-ORIGINAL-URL:https://ljubljanapride.org/en/
X-WR-CALDESC:Events for Društvo Parada Ponosa
REFRESH-INTERVAL;VALUE=DURATION:PT1H
X-Robots-Tag:noindex
X-PUBLISHED-TTL:PT1H
BEGIN:VTIMEZONE
TZID:Europe/Ljubljana
BEGIN:DAYLIGHT
TZOFFSETFROM:+0100
TZOFFSETTO:+0200
TZNAME:CEST
DTSTART:20230326T010000
END:DAYLIGHT
BEGIN:STANDARD
TZOFFSETFROM:+0200
TZOFFSETTO:+0100
TZNAME:CET
DTSTART:20231029T010000
END:STANDARD
BEGIN:DAYLIGHT
TZOFFSETFROM:+0100
TZOFFSETTO:+0200
TZNAME:CEST
DTSTART:20240331T010000
END:DAYLIGHT
BEGIN:STANDARD
TZOFFSETFROM:+0200
TZOFFSETTO:+0100
TZNAME:CET
DTSTART:20241027T010000
END:STANDARD
BEGIN:DAYLIGHT
TZOFFSETFROM:+0100
TZOFFSETTO:+0200
TZNAME:CEST
DTSTART:20250330T010000
END:DAYLIGHT
BEGIN:STANDARD
TZOFFSETFROM:+0200
TZOFFSETTO:+0100
TZNAME:CET
DTSTART:20251026T010000
END:STANDARD
END:VTIMEZONE
BEGIN:VEVENT
DTSTART;TZID=Europe/Ljubljana:20240313T090000
DTEND;TZID=Europe/Ljubljana:20240313T160000
DTSTAMP:20260423T032113
CREATED:20240222T104754Z
LAST-MODIFIED:20240222T104934Z
UID:8823-1710320400-1710345600@ljubljanapride.org
SUMMARY:Conference Youth in the European Parliament
DESCRIPTION:You are invited to a half-day conference Youth in the European Parliament on Wednesday\, 13th March 2024\, at House of the European Union from 9 am to 4 pm. \nThis event is organised in the framework of the Rainbow Europe project and is aimed at discovering more about the operation of the European Parliament and the political groups that represent us in it. We will carry out a simulation of the European Parliament’s response to a crisis situation\, which we will present at the event. \nSchedule: \n\n9.00: arrival and coffee\n9.30: opening remarks and keynote presentation on the role of the European Parliament\n10.35: coffee break\n10.50: introduction to the simulation\, team formation and instructions\n11.15: Crisis response planning (participants work in their assigned teams and roles)\n12.15: lunch break\n13.00: preparation of the statement\n13.30: Parliament session – presentation of positions 1-4 (teams present their proposed solutions)\n14.00: break\n14.15: Parliament session – presentation of positions 5-8\n14.45: reflection and summary\n15.45: final evaluation of the event and conclusion\n\nThe event will be held in English. \nTo participate in the event\, please register at Registration . \n  \nRegistrations will be open until the end of the day on Monday\, 4 March 2024.
URL:https://ljubljanapride.org/en/event/konferenca-mladi-v-evropskem-parlamentu/
LOCATION:Hiša EU\, Dunajska 20\, Ljubljana\, Slovenija
ATTACH;FMTTYPE=image/png:https://ljubljanapride.org/wp-content/uploads/2024/02/1-1.png
END:VEVENT
END:VCALENDAR