BEGIN:VCALENDAR
VERSION:2.0
PRODID:-//Društvo Parada Ponosa - ECPv6.15.17.1//NONSGML v1.0//EN
CALSCALE:GREGORIAN
METHOD:PUBLISH
X-WR-CALNAME:Društvo Parada Ponosa
X-ORIGINAL-URL:https://ljubljanapride.org/en/
X-WR-CALDESC:Events for Društvo Parada Ponosa
REFRESH-INTERVAL;VALUE=DURATION:PT1H
X-Robots-Tag:noindex
X-PUBLISHED-TTL:PT1H
BEGIN:VTIMEZONE
TZID:Europe/Ljubljana
BEGIN:DAYLIGHT
TZOFFSETFROM:+0100
TZOFFSETTO:+0200
TZNAME:CEST
DTSTART:20230326T010000
END:DAYLIGHT
BEGIN:STANDARD
TZOFFSETFROM:+0200
TZOFFSETTO:+0100
TZNAME:CET
DTSTART:20231029T010000
END:STANDARD
BEGIN:DAYLIGHT
TZOFFSETFROM:+0100
TZOFFSETTO:+0200
TZNAME:CEST
DTSTART:20240331T010000
END:DAYLIGHT
BEGIN:STANDARD
TZOFFSETFROM:+0200
TZOFFSETTO:+0100
TZNAME:CET
DTSTART:20241027T010000
END:STANDARD
BEGIN:DAYLIGHT
TZOFFSETFROM:+0100
TZOFFSETTO:+0200
TZNAME:CEST
DTSTART:20250330T010000
END:DAYLIGHT
BEGIN:STANDARD
TZOFFSETFROM:+0200
TZOFFSETTO:+0100
TZNAME:CET
DTSTART:20251026T010000
END:STANDARD
END:VTIMEZONE
BEGIN:VEVENT
DTSTART;TZID=Europe/Ljubljana:20240514T180000
DTEND;TZID=Europe/Ljubljana:20240514T180000
DTSTAMP:20260420T090135
CREATED:20240430T112610Z
LAST-MODIFIED:20240513T131229Z
UID:9333-1715709600-1715709600@ljubljanapride.org
SUMMARY:Queer sustainable activism
DESCRIPTION:Are you ready to unleash your creativity and support a great cause? Come join us for Pride Connects on Tuesday\, May 14th at 6:00 PM at the Ljubljana Pride office!\n\n\nWe’re teaming up to transform empty cans into vibrant symbols of pride. Together\, we’ll plant flowers into recycled cans\, which will then be transformed into sustainable Pride merchandise for the Ljubljana Pride festival 2024. You’re welcome to bring plant cuttings from home if you have them\, but the most important thing you need is a willingness to roll up your sleeves and dive in! Let’s make a positive impact while having a blast getting our hands dirty. See you there!
URL:https://ljubljanapride.org/en/event/kvir-trajnostni-aktivizem/
LOCATION:Društvo Parada ponosa\, Dunajska cesta 10\, Ljubljana
ATTACH;FMTTYPE=image/jpeg:https://ljubljanapride.org/wp-content/uploads/2024/04/pride-connect-2.jpg
END:VEVENT
END:VCALENDAR