BEGIN:VCALENDAR
VERSION:2.0
PRODID:-//Društvo Parada Ponosa - ECPv6.15.17.1//NONSGML v1.0//EN
CALSCALE:GREGORIAN
METHOD:PUBLISH
X-WR-CALNAME:Društvo Parada Ponosa
X-ORIGINAL-URL:https://ljubljanapride.org/en/
X-WR-CALDESC:Events for Društvo Parada Ponosa
REFRESH-INTERVAL;VALUE=DURATION:PT1H
X-Robots-Tag:noindex
X-PUBLISHED-TTL:PT1H
BEGIN:VTIMEZONE
TZID:Europe/Helsinki
BEGIN:DAYLIGHT
TZOFFSETFROM:+0200
TZOFFSETTO:+0300
TZNAME:EEST
DTSTART:20180325T010000
END:DAYLIGHT
BEGIN:STANDARD
TZOFFSETFROM:+0300
TZOFFSETTO:+0200
TZNAME:EET
DTSTART:20181028T010000
END:STANDARD
BEGIN:DAYLIGHT
TZOFFSETFROM:+0200
TZOFFSETTO:+0300
TZNAME:EEST
DTSTART:20190331T010000
END:DAYLIGHT
BEGIN:STANDARD
TZOFFSETFROM:+0300
TZOFFSETTO:+0200
TZNAME:EET
DTSTART:20191027T010000
END:STANDARD
BEGIN:DAYLIGHT
TZOFFSETFROM:+0200
TZOFFSETTO:+0300
TZNAME:EEST
DTSTART:20200329T010000
END:DAYLIGHT
BEGIN:STANDARD
TZOFFSETFROM:+0300
TZOFFSETTO:+0200
TZNAME:EET
DTSTART:20201025T010000
END:STANDARD
END:VTIMEZONE
BEGIN:VEVENT
DTSTART;TZID=Europe/Helsinki:20190612T100000
DTEND;TZID=Europe/Helsinki:20190612T170000
DTSTAMP:20260424T182414
CREATED:20190603T183140Z
LAST-MODIFIED:20190603T183140Z
UID:2322-1560333600-1560358800@ljubljanapride.org
SUMMARY:Let's tackle Hate Speech!
DESCRIPTION:The culture of hate has crept deep into every pore of society\, and youth settings are no exception. As youth workers\, youth leaders\, trainers\, activists\, and experts\, we have not only the power\, but also the responsibility to respond to hate speech when it happens in a group of young people. All these “jokes” and comments where the young person “is just repeating what they learned at home” and/or “doesn’t mean it seriously” perpetuate social inequalities stemming from the systems of oppression. \nQuite often\, though\, we are unable to invest the time to respond to hate\, either because we are burdened with the planned outcomes of the activities\, or because we simply do not know how to. This workshop strives to tackle these issues by exploring the possibilities of overcoming hate speech via the use of transformative practices. It introduces practices that aim not only to react to hate speech that only causes the person to abstain from using the hate speech in that particular environment\, but to start a process of transformation in order to overcome the hate itself. \nThe workshop is open to everyone who works with young people.
URL:https://ljubljanapride.org/en/event/lets-tackle-hate-speech/
LOCATION:Društvo Parada ponosa\, Dunajska cesta 10\, Ljubljana
ATTACH;FMTTYPE=image/png:https://ljubljanapride.org/wp-content/uploads/2019/06/12.6._Zgrabimo-sovražni-govor-za-roge-Medium.png
ORGANIZER;CN="Dru%C5%A1tvo Parada ponosa":MAILTO:info@ljubljanapride.org
END:VEVENT
END:VCALENDAR