BEGIN:VCALENDAR
VERSION:2.0
PRODID:-//Društvo Parada Ponosa - ECPv6.15.17.1//NONSGML v1.0//EN
CALSCALE:GREGORIAN
METHOD:PUBLISH
X-WR-CALNAME:Društvo Parada Ponosa
X-ORIGINAL-URL:https://ljubljanapride.org/en/
X-WR-CALDESC:Events for Društvo Parada Ponosa
REFRESH-INTERVAL;VALUE=DURATION:PT1H
X-Robots-Tag:noindex
X-PUBLISHED-TTL:PT1H
BEGIN:VTIMEZONE
TZID:Europe/Ljubljana
BEGIN:DAYLIGHT
TZOFFSETFROM:+0100
TZOFFSETTO:+0200
TZNAME:CEST
DTSTART:20240331T010000
END:DAYLIGHT
BEGIN:STANDARD
TZOFFSETFROM:+0200
TZOFFSETTO:+0100
TZNAME:CET
DTSTART:20241027T010000
END:STANDARD
BEGIN:DAYLIGHT
TZOFFSETFROM:+0100
TZOFFSETTO:+0200
TZNAME:CEST
DTSTART:20250330T010000
END:DAYLIGHT
BEGIN:STANDARD
TZOFFSETFROM:+0200
TZOFFSETTO:+0100
TZNAME:CET
DTSTART:20251026T010000
END:STANDARD
BEGIN:DAYLIGHT
TZOFFSETFROM:+0100
TZOFFSETTO:+0200
TZNAME:CEST
DTSTART:20260329T010000
END:DAYLIGHT
BEGIN:STANDARD
TZOFFSETFROM:+0200
TZOFFSETTO:+0100
TZNAME:CET
DTSTART:20261025T010000
END:STANDARD
END:VTIMEZONE
BEGIN:VEVENT
DTSTART;TZID=Europe/Ljubljana:20250303T160000
DTEND;TZID=Europe/Ljubljana:20250303T180000
DTSTAMP:20260419T191835
CREATED:20250119T162134Z
LAST-MODIFIED:20250119T163045Z
UID:10019-1741017600-1741024800@ljubljanapride.org
SUMMARY:LGBT TOUR: EXPLORING LGBTIQ+ LJUBLJANA WITH OUR YOUTH
DESCRIPTION:LGBT tours are a great opportunity to get to know Ljubljana through the eyes of young LGBTIQ+ guides! Together we will discover the places and stories that marked the struggle for the rights and lives of the LGBTIQ+ community in our country. It’s not just a history lesson – it’s also a way to better understand life\, activism and the space we live in. Join us and get to know a different\, rainbow side of the capital! \nParticipation is free\, but due to the limited number of places in the group\, registration is mandatory at info@ljubljanapride.org. You can apply up to one day before the event. \n25.2. at 4:00 p.m.\, around the center of Ljubljana (the starting location will be communicated to those who have registered) – tour in Slovenian\n3.3. at 4:00 p.m.\, around the center of Ljubljana (the starting location will be communicated to registrants) – tour in English \nMore information coming soon! \nThe event takes place as part of the LUV festival. You can read more about the festival here:\nhttps://www.visitljubljana.com/sl/obiskovalci/znamenitosti-in-aktivnosti/izpostavlje/luv-fest/ \nAuthor of the cover photo: Nika Vidnjevič
URL:https://ljubljanapride.org/en/event/lgbt-tour-z-mladimi-po-lgbtiq-ljubljani/
ATTACH;FMTTYPE=image/jpeg:https://ljubljanapride.org/wp-content/uploads/2025/01/unnamed-scaled.jpg
END:VEVENT
END:VCALENDAR