BEGIN:VCALENDAR
VERSION:2.0
PRODID:-//Društvo Parada Ponosa - ECPv6.15.17.1//NONSGML v1.0//EN
CALSCALE:GREGORIAN
METHOD:PUBLISH
X-WR-CALNAME:Društvo Parada Ponosa
X-ORIGINAL-URL:https://ljubljanapride.org/en/
X-WR-CALDESC:Events for Društvo Parada Ponosa
REFRESH-INTERVAL;VALUE=DURATION:PT1H
X-Robots-Tag:noindex
X-PUBLISHED-TTL:PT1H
BEGIN:VTIMEZONE
TZID:Europe/Ljubljana
BEGIN:DAYLIGHT
TZOFFSETFROM:+0100
TZOFFSETTO:+0200
TZNAME:CEST
DTSTART:20230326T010000
END:DAYLIGHT
BEGIN:STANDARD
TZOFFSETFROM:+0200
TZOFFSETTO:+0100
TZNAME:CET
DTSTART:20231029T010000
END:STANDARD
BEGIN:DAYLIGHT
TZOFFSETFROM:+0100
TZOFFSETTO:+0200
TZNAME:CEST
DTSTART:20240331T010000
END:DAYLIGHT
BEGIN:STANDARD
TZOFFSETFROM:+0200
TZOFFSETTO:+0100
TZNAME:CET
DTSTART:20241027T010000
END:STANDARD
BEGIN:DAYLIGHT
TZOFFSETFROM:+0100
TZOFFSETTO:+0200
TZNAME:CEST
DTSTART:20250330T010000
END:DAYLIGHT
BEGIN:STANDARD
TZOFFSETFROM:+0200
TZOFFSETTO:+0100
TZNAME:CET
DTSTART:20251026T010000
END:STANDARD
END:VTIMEZONE
BEGIN:VEVENT
DTSTART;VALUE=DATE:20240609
DTEND;VALUE=DATE:20240611
DTSTAMP:20260422T120615
CREATED:20240430T112936Z
LAST-MODIFIED:20240522T073730Z
UID:9362-1717920000-1718006399@ljubljanapride.org
SUMMARY:Mavrični brunch
DESCRIPTION:This relaxed rainbow brunch gathering is designed to strengthen the LGBTIQ+ community and celebrate our participation in the elections of the MEPs to the European Parliament. LGBTIQ+ individuals will come together in a relaxed yet safe environment\, having the opportunity to chat and enjoy socialising with people who value civic participation and share common democratic values.\nWhether you are an experienced activist or someone exploring your civic duty for the first time\, you are all welcome to attend our joint celebration. You can count on good company\, nice music and great snacks! \n  \nSofinanced by European Union
URL:https://ljubljanapride.org/en/event/mavricni-brunch/
LOCATION:Hana Karim Studio\, Vilharjeva 3\, Ljubljana\, Slovenija
ATTACH;FMTTYPE=image/jpeg:https://ljubljanapride.org/wp-content/uploads/2024/04/Happy-Europe-Day-Instagram-Post-.jpg
END:VEVENT
END:VCALENDAR