BEGIN:VCALENDAR
VERSION:2.0
PRODID:-//Društvo Parada Ponosa - ECPv6.15.17.1//NONSGML v1.0//EN
CALSCALE:GREGORIAN
METHOD:PUBLISH
X-WR-CALNAME:Društvo Parada Ponosa
X-ORIGINAL-URL:https://ljubljanapride.org/en/
X-WR-CALDESC:Events for Društvo Parada Ponosa
REFRESH-INTERVAL;VALUE=DURATION:PT1H
X-Robots-Tag:noindex
X-PUBLISHED-TTL:PT1H
BEGIN:VTIMEZONE
TZID:Europe/Helsinki
BEGIN:DAYLIGHT
TZOFFSETFROM:+0200
TZOFFSETTO:+0300
TZNAME:EEST
DTSTART:20190331T010000
END:DAYLIGHT
BEGIN:STANDARD
TZOFFSETFROM:+0300
TZOFFSETTO:+0200
TZNAME:EET
DTSTART:20191027T010000
END:STANDARD
BEGIN:DAYLIGHT
TZOFFSETFROM:+0200
TZOFFSETTO:+0300
TZNAME:EEST
DTSTART:20200329T010000
END:DAYLIGHT
BEGIN:STANDARD
TZOFFSETFROM:+0300
TZOFFSETTO:+0200
TZNAME:EET
DTSTART:20201025T010000
END:STANDARD
BEGIN:DAYLIGHT
TZOFFSETFROM:+0200
TZOFFSETTO:+0300
TZNAME:EEST
DTSTART:20210328T010000
END:DAYLIGHT
BEGIN:STANDARD
TZOFFSETFROM:+0300
TZOFFSETTO:+0200
TZNAME:EET
DTSTART:20211031T010000
END:STANDARD
END:VTIMEZONE
BEGIN:VEVENT
DTSTART;VALUE=DATE:20200517
DTEND;VALUE=DATE:20200520
DTSTAMP:20260425T003816
CREATED:20200516T114509Z
LAST-MODIFIED:20200516T120058Z
UID:3609-1589702400-1589875199@ljubljanapride.org
SUMMARY:IDAHOBIT: International Day Against LGBTIQ+ phobia
DESCRIPTION:This year’s IDAHOBIT (International Day Against Homophobia\, Biphobia and Transphobia)\, one of the LGBTIQ+ community’s important commemoration days\, embraces the slogan “Break the Silence”. It comes in a strange time full of uncertainties: COVID-19 led to the fact that a lot of Prides and other LGBTIQ+ festivals and events have been canceled or postponed\, consequently resulting in weakening the sense of community and visibility within the LGBTIQ+ community. \nThat’s why it is important more than ever to engage\, mobilise\, show we are here\, we exist and our lives matter and that we will not tolerate the silence! Or\, as it is stated in this years statement: “By all coming together on one global day\, our “noise” will be so loud that all our LGBTQI+ sisters and brothers all over the world who cannot speak up will hear the sound of hope and solidarity.”\nBecause COVID-19 makes it harder for us to take over the streets\, some express their political opinion with the help of street art and graffiti. That’s why we have prepared a (upcoming) video for you about it – see how they break the silence! The video will be released on Sunday. \nYou can also show your support by:\n▪️ Changing frame on your Facebook cover photo – find the frames \nIDAHOBIT FRAME Megaphone1\nIDAHOBIT FRAME Megaphone2\nIDAHOBIT FRAME Black color\nIDAHOBIT FRAME White color\n▪️ Adding your statement to it here  →  Mednarodni dan boja proti lgbtiq+ \n?What are you breaking the silence about? ?What do you fight for? \n▪️ Joining us on Pride Connects event on Tuesday\, 19th of May\, where we will exchange our experience\, thoughts and wishes for the LGBTIQ+ community after the quarantine times. More info on the event HERE
URL:https://ljubljanapride.org/en/event/mednarodni-dan-boja-proti-lgbtiq-fobiji/
ATTACH;FMTTYPE=image/jpeg:https://ljubljanapride.org/wp-content/uploads/2020/05/IDAHOBIT.jpg
ORGANIZER;CN="Dru%C5%A1tvo Parada ponosa":MAILTO:info@ljubljanapride.org
END:VEVENT
END:VCALENDAR