BEGIN:VCALENDAR
VERSION:2.0
PRODID:-//Društvo Parada Ponosa - ECPv6.15.17.1//NONSGML v1.0//EN
CALSCALE:GREGORIAN
METHOD:PUBLISH
X-WR-CALNAME:Društvo Parada Ponosa
X-ORIGINAL-URL:https://ljubljanapride.org/en/
X-WR-CALDESC:Events for Društvo Parada Ponosa
REFRESH-INTERVAL;VALUE=DURATION:PT1H
X-Robots-Tag:noindex
X-PUBLISHED-TTL:PT1H
BEGIN:VTIMEZONE
TZID:Europe/Helsinki
BEGIN:DAYLIGHT
TZOFFSETFROM:+0200
TZOFFSETTO:+0300
TZNAME:EEST
DTSTART:20180325T010000
END:DAYLIGHT
BEGIN:STANDARD
TZOFFSETFROM:+0300
TZOFFSETTO:+0200
TZNAME:EET
DTSTART:20181028T010000
END:STANDARD
BEGIN:DAYLIGHT
TZOFFSETFROM:+0200
TZOFFSETTO:+0300
TZNAME:EEST
DTSTART:20190331T010000
END:DAYLIGHT
BEGIN:STANDARD
TZOFFSETFROM:+0300
TZOFFSETTO:+0200
TZNAME:EET
DTSTART:20191027T010000
END:STANDARD
BEGIN:DAYLIGHT
TZOFFSETFROM:+0200
TZOFFSETTO:+0300
TZNAME:EEST
DTSTART:20200329T010000
END:DAYLIGHT
BEGIN:STANDARD
TZOFFSETFROM:+0300
TZOFFSETTO:+0200
TZNAME:EET
DTSTART:20201025T010000
END:STANDARD
END:VTIMEZONE
BEGIN:VEVENT
DTSTART;TZID=Europe/Helsinki:20190613T200000
DTEND;TZID=Europe/Helsinki:20190613T220000
DTSTAMP:20260424T215156
CREATED:20190603T183210Z
LAST-MODIFIED:20190613T111048Z
UID:2333-1560456000-1560463200@ljubljanapride.org
SUMMARY:Mobilising for activism
DESCRIPTION:We invite you to a special Pride edition of Kavarniški večer (Cafe Evening) – a workshop on Mobilising for activism. We invite all activists – and all those interested in becoming one – to come and develop strategies for solidarity across different groups and struggles. With an informal educational approach and our intersectional glasses on\, the workshop aims at gathering people from different areas (LGBTIQ+ and others)\, and plant the seeds for intergroup cooperation and support. During the workshop we will try to answer two main questions: how can we mutually show up for each other as activists\, and how can different struggles create and maintain allyship? \nWe invite all activists from LGBTIQ+ fields and others to join us. This workshop is organised by Ljubljana Pride’s pool of trainers\, in cooperation with Kavarniški večeri. \nCafe Evenings (Kavarniški večeri) are organized by DIC\, Legebitra\, and Club Tiffany (ŠKUC – Cultural centre Q).
URL:https://ljubljanapride.org/en/event/mobilising-for-activism/
LOCATION:Klub Tiffany\, Masarykova cesta 24\, Ljubljana\, Slovenija
ATTACH;FMTTYPE=image/png:https://ljubljanapride.org/wp-content/uploads/2019/06/13.6._Mobilizacija-za-aktivizem-Medium.png
ORGANIZER;CN="Dru%C5%A1tvo Parada ponosa":MAILTO:info@ljubljanapride.org
END:VEVENT
END:VCALENDAR