BEGIN:VCALENDAR
VERSION:2.0
PRODID:-//Društvo Parada Ponosa - ECPv6.15.17.1//NONSGML v1.0//EN
CALSCALE:GREGORIAN
METHOD:PUBLISH
X-WR-CALNAME:Društvo Parada Ponosa
X-ORIGINAL-URL:https://ljubljanapride.org/en/
X-WR-CALDESC:Events for Društvo Parada Ponosa
REFRESH-INTERVAL;VALUE=DURATION:PT1H
X-Robots-Tag:noindex
X-PUBLISHED-TTL:PT1H
BEGIN:VTIMEZONE
TZID:Europe/Ljubljana
BEGIN:DAYLIGHT
TZOFFSETFROM:+0100
TZOFFSETTO:+0200
TZNAME:CEST
DTSTART:20210328T010000
END:DAYLIGHT
BEGIN:STANDARD
TZOFFSETFROM:+0200
TZOFFSETTO:+0100
TZNAME:CET
DTSTART:20211031T010000
END:STANDARD
BEGIN:DAYLIGHT
TZOFFSETFROM:+0100
TZOFFSETTO:+0200
TZNAME:CEST
DTSTART:20220327T010000
END:DAYLIGHT
BEGIN:STANDARD
TZOFFSETFROM:+0200
TZOFFSETTO:+0100
TZNAME:CET
DTSTART:20221030T010000
END:STANDARD
BEGIN:DAYLIGHT
TZOFFSETFROM:+0100
TZOFFSETTO:+0200
TZNAME:CEST
DTSTART:20230326T010000
END:DAYLIGHT
BEGIN:STANDARD
TZOFFSETFROM:+0200
TZOFFSETTO:+0100
TZNAME:CET
DTSTART:20231029T010000
END:STANDARD
BEGIN:DAYLIGHT
TZOFFSETFROM:+0100
TZOFFSETTO:+0200
TZNAME:CEST
DTSTART:20240331T010000
END:DAYLIGHT
BEGIN:STANDARD
TZOFFSETFROM:+0200
TZOFFSETTO:+0100
TZNAME:CET
DTSTART:20241027T010000
END:STANDARD
END:VTIMEZONE
BEGIN:VEVENT
DTSTART;VALUE=DATE:20221227
DTEND;VALUE=DATE:20230212
DTSTAMP:20260421T193007
CREATED:20221227T103751Z
LAST-MODIFIED:20221227T103751Z
UID:7331-1672128000-1676102399@ljubljanapride.org
SUMMARY:Open Call for Entries: Ljubljana Pride’s Visual Art Exhibition on International Queer Solidarity
DESCRIPTION:WHAT / WHERE / WHY\nWe are happy to announce we will be hosting an international visual art exhibition on the topic of International Queer Solidarity – Images of resilience and hope. We would like to stimulate reflection\, awareness and realisation of the important role international queer solidarity plays in the lives of LGBTIQ+ people in most vulnerable situations and places in Europe and the world. How does it reflect on the lives of LGBTIQ+ people in/from Ukraine and LGBTIQ+ people in other struggling and oppressive contexts? We would like to create a space where artistic and cultural expression that provides hope to withstand the harsh realities of war and other oppressions faced by the LGBTIQ+ communities gives us all strength to keep on fighting and builds our collective resilience.\nA physical exhibition will be organized during Ljubljana Pride Festival 2023 in June 2023 in the gallery Alkatraz and the gallery spaces of City Hall in Ljubljana\, Slovenia. A digital exhibition will be implemented and promoted on social media in the form of a digital gallery and a social media campaign. A reflection panel and workshops with some of the selected artists will be organized as an accompanying programme to the exhibition in order to further raise awareness of the issues.\n\nAPPLY HERE\n\nWHO CAN PARTICIPATE:\n>LGBTIQ+ artists from Ukraine with artworks that represent images of resilience and hope in the harsh realities of war and act for a peaceful future of Ukraine and Europe.\n(a minimum 5 out of 20 places are reserved to Ukrainian LGBTIQ+ artists – both those living in Ukraine and those who fled due to war).\n>Artwork of LGBTIQ+ artists from different countries and backgrounds who reflect on concepts of Queer international solidarity\, resilience and hope within very difficult times (for example formal ban of Belgrade Pride\, impossible barriers for LGBTIQ+ people outside of EU to obtain Schengen visas\, energy poverty …).\n\nWHAT ARE WE LOOKING FOR:\n>Visual art of LGBTIQ+ artists about their experience and/or view on international solidarity needed and/or coming from the wider LGBTIQ+ movements.\n>Visual art that you as artist already created on the topics of the exhibition.\n>Visual art that you will create as new\, original art by the end of March 2023\, as long as you can submit a sketch or concept by the end of the application deadline.\n>With visual art we are in particular looking for digital art such as poster art\, digital graphics and or prints; traditional works on canvas; visual art in forms of collage or interdisciplinary works like videos or sound-video installations …\n>In case the art is not digital\, it should be transportable.\n\nWHAT CAN YOU EXPECT IF YOU GET SELECTED\n>200 EUR gross artist fee.\n>Your art will be exhibited live at the Ljubljana Pride Festival 2023 exhibition in June 2023 in Ljubljana\, Slovenia and possibly during ILGA Europe annual conference in October 2023.\n>Your art will be digitally exhibited and promoted\, with possibility of printed reproduction for a local visibility campaign.\n>Possibility of costs covered to visit Ljubljana during the festival and participation at the panel.\n\nAPPLICATION AND SELECTION PROCESS\n>To apply\, fill out this application by 10th of February 2023\n>The jury that will be selecting the artists consists of:\n→ Iris Pokovec (visual artist\, curator of the exhibition)\n→ Pierra Ravnikar (cultural manager and gallerist)\n→ Ana Čigon (video\, film\, animation and performance artist)\nSelected artists will be notified by 28th February\, via email submitted in the application form.\nEach chosen artist will be contacted individually by Ljubljana Pride to consolidate a written agreement and the logistics of possible transportation.\n\nABOUT LJUBLJANA PRIDE FESTIVAL\nLjubljana Pride Association is the organizer of Ljubljana Pride festival – annual international cultural and political festival of LGBTIQ+ culture with a distinctly political note. Its aim is to break the silence and the suppression of LGBTIQ+ identities\, to occupy public space\, to present the life and work of the LGBTIQ+ community\, and to promote human rights\, equal opportunities and freedom of choice. Each year it unfolds around a certain topic that addresses the current political circumstances and realities of LGBTIQ+ communities. The upcoming festival that will take place in Ljubljana in June 2023 will explore ways on how we can support each other internationally as queer people. International solidarity\, resilience and hope are the concepts that will inspire the bigger part of the Festival’s programme\, the exhibition being one of the focal points.\n\nAPPLY HERE\n\nApplication deadline is 10th of February 2023.\nIf you have any questions regarding the application you can reach us at info@ljubljanapride.org.
URL:https://ljubljanapride.org/en/event/open-call-for-entries-ljubljana-prides-visual-art-exhibition-on-international-queer-solidarity/
ATTACH;FMTTYPE=image/jpeg:https://ljubljanapride.org/wp-content/uploads/2022/12/Call-for-artists_deadline-scaled.jpg
ORGANIZER;CN="Dru%C5%A1tvo Parada Ponosa":MAILTO:info@ljubljanapride.org
END:VEVENT
END:VCALENDAR