BEGIN:VCALENDAR
VERSION:2.0
PRODID:-//Društvo Parada Ponosa - ECPv6.15.17.1//NONSGML v1.0//EN
CALSCALE:GREGORIAN
METHOD:PUBLISH
X-WR-CALNAME:Društvo Parada Ponosa
X-ORIGINAL-URL:https://ljubljanapride.org/en/
X-WR-CALDESC:Events for Društvo Parada Ponosa
REFRESH-INTERVAL;VALUE=DURATION:PT1H
X-Robots-Tag:noindex
X-PUBLISHED-TTL:PT1H
BEGIN:VTIMEZONE
TZID:Europe/Helsinki
BEGIN:DAYLIGHT
TZOFFSETFROM:+0200
TZOFFSETTO:+0300
TZNAME:EEST
DTSTART:20180325T010000
END:DAYLIGHT
BEGIN:STANDARD
TZOFFSETFROM:+0300
TZOFFSETTO:+0200
TZNAME:EET
DTSTART:20181028T010000
END:STANDARD
BEGIN:DAYLIGHT
TZOFFSETFROM:+0200
TZOFFSETTO:+0300
TZNAME:EEST
DTSTART:20190331T010000
END:DAYLIGHT
BEGIN:STANDARD
TZOFFSETFROM:+0300
TZOFFSETTO:+0200
TZNAME:EET
DTSTART:20191027T010000
END:STANDARD
BEGIN:DAYLIGHT
TZOFFSETFROM:+0200
TZOFFSETTO:+0300
TZNAME:EEST
DTSTART:20200329T010000
END:DAYLIGHT
BEGIN:STANDARD
TZOFFSETFROM:+0300
TZOFFSETTO:+0200
TZNAME:EET
DTSTART:20201025T010000
END:STANDARD
END:VTIMEZONE
BEGIN:VEVENT
DTSTART;TZID=Europe/Helsinki:20190614T180000
DTEND;TZID=Europe/Helsinki:20190614T190000
DTSTAMP:20260425T013516
CREATED:20190603T183226Z
LAST-MODIFIED:20190603T183226Z
UID:2345-1560535200-1560538800@ljubljanapride.org
SUMMARY:Overcoming the Culture of Humiliation
DESCRIPTION:By young people\, for young people\, this exhibition is an opportunity to see\, hear\, and feel the experiences of bullying\, as told by LGBTIQ+ people who have survived it. Over the course of six months\, with the technical support of artists and the pedagogical support of trainers (all from the LGBTIQ+ community!)\, these young people have worked together in order to reclaim their story and reach out to their peers in similar situations. \nPoetry\, illustration\, comics\, and intermedia art have never been so honest and intimate while addressing violence. The opening event will also feature testimonials about the process itself from the perspective of the people involved. \nThe exhibition features the art of Strmecki\, Nurlama Vidrih\, Rianne\, Verity Ritchie\, Kozole E.\, Lan Aidan Remec\, Tom Veber\, and Žan Safran. \nMentoring artists: Filip Vurnik\, Nika Lapkovski\, Ana Marija Garafol\, Verity Ritchie. \nPedagogical support: Vesna Štefanec\, Katja Štefanec\, Neja Berlič\, and Mateja Morić. \nThe mayor of Ljubljana\, Mr. Zoran Janković\, will address the audience during the exhibition opening.
URL:https://ljubljanapride.org/en/event/overcoming-the-culture-of-humiliation/
LOCATION:Stekleni atrij Mestne hiše\, Mestni trg 1\, Ljubljana\, Slovenija
ATTACH;FMTTYPE=image/png:https://ljubljanapride.org/wp-content/uploads/2019/06/14.6._Preseganje-kulture-poniževanja-Medium.png
ORGANIZER;CN="Dru%C5%A1tvo Parada ponosa":MAILTO:info@ljubljanapride.org
END:VEVENT
END:VCALENDAR