BEGIN:VCALENDAR
VERSION:2.0
PRODID:-//Društvo Parada Ponosa - ECPv6.15.17.1//NONSGML v1.0//EN
CALSCALE:GREGORIAN
METHOD:PUBLISH
X-WR-CALNAME:Društvo Parada Ponosa
X-ORIGINAL-URL:https://ljubljanapride.org/en/
X-WR-CALDESC:Events for Društvo Parada Ponosa
REFRESH-INTERVAL;VALUE=DURATION:PT1H
X-Robots-Tag:noindex
X-PUBLISHED-TTL:PT1H
BEGIN:VTIMEZONE
TZID:Europe/Helsinki
BEGIN:DAYLIGHT
TZOFFSETFROM:+0200
TZOFFSETTO:+0300
TZNAME:EEST
DTSTART:20190331T010000
END:DAYLIGHT
BEGIN:STANDARD
TZOFFSETFROM:+0300
TZOFFSETTO:+0200
TZNAME:EET
DTSTART:20191027T010000
END:STANDARD
BEGIN:DAYLIGHT
TZOFFSETFROM:+0200
TZOFFSETTO:+0300
TZNAME:EEST
DTSTART:20200329T010000
END:DAYLIGHT
BEGIN:STANDARD
TZOFFSETFROM:+0300
TZOFFSETTO:+0200
TZNAME:EET
DTSTART:20201025T010000
END:STANDARD
BEGIN:DAYLIGHT
TZOFFSETFROM:+0200
TZOFFSETTO:+0300
TZNAME:EEST
DTSTART:20210328T010000
END:DAYLIGHT
BEGIN:STANDARD
TZOFFSETFROM:+0300
TZOFFSETTO:+0200
TZNAME:EET
DTSTART:20211031T010000
END:STANDARD
END:VTIMEZONE
BEGIN:VEVENT
DTSTART;TZID=Europe/Helsinki:20200926T170000
DTEND;TZID=Europe/Helsinki:20200926T200000
DTSTAMP:20260424T200821
CREATED:20200831T060826Z
LAST-MODIFIED:20200918T131343Z
UID:3835-1601139600-1601150400@ljubljanapride.org
SUMMARY:Pride Parade 2020
DESCRIPTION:Organised by: Ljubljana Pride Association \nLanguage: Slovene\, English\, Sign language \n  \nThere WILL BE a pride parade! \n  \nWelcome to the Pride Parade 2020! Due to the current situation\, existing measures and recommendations\, this year’s Pride Parade will be different. It will be held in the form of 10 consecutive small gatherings/rallies (up to 50 people). For official participation in the Pride Parade\, registration is required via the form at this link. \n  \nBy filling out the application form\, you confirm your participation in one of the smaller rallies. Each small rally will be marked with one of the colors of the rainbow flag. Applications are open until 24.9. until 12:00 h. You will receive all the detailed instructions in the next week\, where your group color\, coordinator\, time and location of the collection point will be stated. You will also receive information regarding the measures we will need to follow. Please follow all the recommendations of the National Institute of Public Health\, as we will. Time is unpredictable\, intertwined with instructions and recommendations. We invite you to follow our program and any changes on the website http://www.ljubljanapride.org/2020 \n  \nIf you do not want to get involved in the officially organized form of smaller rallies\, the route of the Pride Parade 2020 and the program will be announced next week. Every year the Pride Parade is accompanied by more and more observers and random passers-by\, and we are also looking forward to this kind of support. \n  \nParticipants are asked to familiarize themselves with the National institute of public health’s recommendations for preventing the spread of SARS-CoV-2 virus before the event. \n  \nThanks for signing up and understanding!
URL:https://ljubljanapride.org/en/event/parada-ponosa-2020-2/
LOCATION:Metelkova\, Ljubljana center
ATTACH;FMTTYPE=image/png:https://ljubljanapride.org/wp-content/uploads/2020/08/26.9._Parada-ponosa-Small.png
END:VEVENT
END:VCALENDAR