BEGIN:VCALENDAR
VERSION:2.0
PRODID:-//Društvo Parada Ponosa - ECPv6.15.17.1//NONSGML v1.0//EN
CALSCALE:GREGORIAN
METHOD:PUBLISH
X-WR-CALNAME:Društvo Parada Ponosa
X-ORIGINAL-URL:https://ljubljanapride.org/en/
X-WR-CALDESC:Events for Društvo Parada Ponosa
REFRESH-INTERVAL;VALUE=DURATION:PT1H
X-Robots-Tag:noindex
X-PUBLISHED-TTL:PT1H
BEGIN:VTIMEZONE
TZID:Europe/Helsinki
BEGIN:DAYLIGHT
TZOFFSETFROM:+0200
TZOFFSETTO:+0300
TZNAME:EEST
DTSTART:20180325T010000
END:DAYLIGHT
BEGIN:STANDARD
TZOFFSETFROM:+0300
TZOFFSETTO:+0200
TZNAME:EET
DTSTART:20181028T010000
END:STANDARD
BEGIN:DAYLIGHT
TZOFFSETFROM:+0200
TZOFFSETTO:+0300
TZNAME:EEST
DTSTART:20190331T010000
END:DAYLIGHT
BEGIN:STANDARD
TZOFFSETFROM:+0300
TZOFFSETTO:+0200
TZNAME:EET
DTSTART:20191027T010000
END:STANDARD
BEGIN:DAYLIGHT
TZOFFSETFROM:+0200
TZOFFSETTO:+0300
TZNAME:EEST
DTSTART:20200329T010000
END:DAYLIGHT
BEGIN:STANDARD
TZOFFSETFROM:+0300
TZOFFSETTO:+0200
TZNAME:EET
DTSTART:20201025T010000
END:STANDARD
END:VTIMEZONE
BEGIN:VEVENT
DTSTART;TZID=Europe/Helsinki:20190620T210000
DTEND;TZID=Europe/Helsinki:20190620T230000
DTSTAMP:20260426T035106
CREATED:20190603T183928Z
LAST-MODIFIED:20190603T183928Z
UID:2449-1561064400-1561071600@ljubljanapride.org
SUMMARY:Perera Elsewhere (UK/DE)\, Pride x Selekcija I.
DESCRIPTION:Sasha Perera\, aka Perera Elsewhere\, always has one ear tilted toward the future. As the vocalist in the Berlin trio\, Jahcoozi\, Perera and her bandmates made forward-thinking bass music before the onset of polyglot dance music boom of the last decade. She describes the music on her latest solo album\, All Of This\, as “doom folk\,” teeming with dark pop\, trip-hop\, and R&B. Among other things\, she sings about hopeful escapism (“Tomorrow South”) and the increasingly confounding idea that identity and corporate language—self-branding\, as it were—are becoming one in the same (“All Of This”). Perera’s palette is global\, but not just as a producer and artist—she’s an accomplished DJ and instructor\, as well. \nFrom the grit of dark club to the absorption of indigenous and extra-terrestrial sounds\, Perera melds these inspirations into her very own semi-abstract\, dystopian\, pop-tinged bliss\, creating her own signature sound and intricately-crafted backdrop for her songs. \nWhile incorporating organic elements that seamlessly co-exist with electronic elements\, she has carefully reserved space for her haunting-yet-soothing vocal passes : Eerie ambient meets psychedelic\, avant R&B and experimental folk that addresses issues such as gated communities\, over-consumption\, the self-obsessive ego\, and the constant background noise and echo chamber of the world in which we live.
URL:https://ljubljanapride.org/en/event/perera-elsewhere-uk-de-pride-x-selekcija-i/
LOCATION:Pritličje\, Mestni trg 2\, Ljubljana\, Slovenija
ATTACH;FMTTYPE=image/png:https://ljubljanapride.org/wp-content/uploads/2019/06/20.6._Perera-Elsewhere-Medium.png
END:VEVENT
END:VCALENDAR