BEGIN:VCALENDAR
VERSION:2.0
PRODID:-//Društvo Parada Ponosa - ECPv6.15.17.1//NONSGML v1.0//EN
CALSCALE:GREGORIAN
METHOD:PUBLISH
X-WR-CALNAME:Društvo Parada Ponosa
X-ORIGINAL-URL:https://ljubljanapride.org/en/
X-WR-CALDESC:Events for Društvo Parada Ponosa
REFRESH-INTERVAL;VALUE=DURATION:PT1H
X-Robots-Tag:noindex
X-PUBLISHED-TTL:PT1H
BEGIN:VTIMEZONE
TZID:Europe/Helsinki
BEGIN:DAYLIGHT
TZOFFSETFROM:+0200
TZOFFSETTO:+0300
TZNAME:EEST
DTSTART:20190331T010000
END:DAYLIGHT
BEGIN:STANDARD
TZOFFSETFROM:+0300
TZOFFSETTO:+0200
TZNAME:EET
DTSTART:20191027T010000
END:STANDARD
BEGIN:DAYLIGHT
TZOFFSETFROM:+0200
TZOFFSETTO:+0300
TZNAME:EEST
DTSTART:20200329T010000
END:DAYLIGHT
BEGIN:STANDARD
TZOFFSETFROM:+0300
TZOFFSETTO:+0200
TZNAME:EET
DTSTART:20201025T010000
END:STANDARD
BEGIN:DAYLIGHT
TZOFFSETFROM:+0200
TZOFFSETTO:+0300
TZNAME:EEST
DTSTART:20210328T010000
END:DAYLIGHT
BEGIN:STANDARD
TZOFFSETFROM:+0300
TZOFFSETTO:+0200
TZNAME:EET
DTSTART:20211031T010000
END:STANDARD
END:VTIMEZONE
BEGIN:VEVENT
DTSTART;TZID=Europe/Helsinki:20200924T190000
DTEND;TZID=Europe/Helsinki:20200924T210000
DTSTAMP:20260425T050532
CREATED:20200909T074806Z
LAST-MODIFIED:20200909T075048Z
UID:3965-1600974000-1600981200@ljubljanapride.org
SUMMARY:Performance: QHologram 2070: Museum of Diversity
DESCRIPTION:Organised by: Ljubljana Pride Association \nLanguage: English \n  \n  \nThe event is going to take place in Cirkulacija 2 (Podhod Ajdovščina) on 24th of September at 7PM and 8PM. \n  \n Due to the restriction of gathering registration to the event is desirable. You can apply HERE . \n  \nAbout Avraam Vrohidis: \nAvraam is a proud fat queer activist and performer from Greece. He has studied Social Work and he currently works with children with different abilities. He is the founder of a greek fat positive collective called “Fat Unicorns”. His everyday activity is to inspire people\, make them trust and love their body and express themselves no matter what. His greatest wish is to empower all those queer and fat teenagers out there\, who are confronted with discrimination and oppression by the society at large. As a result of this\, Avraam created the project “QHologram 2070: Museum of Diversity” and aims to travel with it all around Europe and use it to educate and sensitize a wide variety of different people. \n  \nAbout the project: \nThe museum will be set up in the year 2070 in a utopian future where discrimination and inequality between different social groups don’t exist anymore. It will show what the attitude of the society towards marginalized groups was like in 2020. \n  \nIt is an imaginary vision of the world 50 years from now where there is no room for any kind of discrimination. It represents the concept of how vulnerable social groups were treated back in 2020 such as homophobia\, transphobia\, fatphobia\, discrimination based on physical characteristics\, mental health\, racism\, sexism\, etc.  \n  \nThe hostess will welcome museum visitors and guide them around the museum. Through the spaces\, visitors will have the chance to experience a tour that narrates the situation of minority groups “back in 2020”. \n  \nSpace will be divided into ssmaller rooms and each room will tell a story of a certain topic that is related to discrimination\, bullying\, oppression\, abuse\, or violence that our performers have experienced so far\, based on who they are.  \n  \nPerformers: \nFilip Vurnik\, Neja Kolbl\, Lan Aidan\, Tom Veber\, Petra HD \n  \nIf you would like to be part of this story and join the event\, we kindly ask you to fill out an application form HERE. \n  \nAvraam Vrohidis (GR) in collaboration with Ljubljana Pride and Cirkulacija 2. \n  \n———————————————- \n  \nIMPORTANT! \n  \n\nBring your own mask. Keep a distance of 1\,5 m from other participants of the activity.\nDisinfecting your hands is OBLIGATORY before entering and after exiting the premises. \nIf you join the event later\, you will have to fill in your data on a prepared list which will be available at the event.\n\n  \nAll data from the application and registration form are gathered for the purposes of project reporting and in accordance with the Ordinance amending the Ordinance on the temporary general restriction or prohibition of gathering of people in the Republic of Slovenia. Access to the data will be provided to the National Institute for Public Health upon request.  \n  \nProject is co-financed by the Municipality of Ljubljana (MOL).
URL:https://ljubljanapride.org/en/event/performance-qhologram-2070-museum-of-diversity/
LOCATION:Cirkulacija 2 (podhod Ajdovščina)
ATTACH;FMTTYPE=image/png:https://ljubljanapride.org/wp-content/uploads/2020/09/24.9.-q-hologram_fb-event-cover-Small.png
END:VEVENT
END:VCALENDAR