BEGIN:VCALENDAR
VERSION:2.0
PRODID:-//Društvo Parada Ponosa - ECPv6.15.17.1//NONSGML v1.0//EN
CALSCALE:GREGORIAN
METHOD:PUBLISH
X-WR-CALNAME:Društvo Parada Ponosa
X-ORIGINAL-URL:https://ljubljanapride.org/en/
X-WR-CALDESC:Events for Društvo Parada Ponosa
REFRESH-INTERVAL;VALUE=DURATION:PT1H
X-Robots-Tag:noindex
X-PUBLISHED-TTL:PT1H
BEGIN:VTIMEZONE
TZID:Europe/Ljubljana
BEGIN:DAYLIGHT
TZOFFSETFROM:+0100
TZOFFSETTO:+0200
TZNAME:CEST
DTSTART:20230326T010000
END:DAYLIGHT
BEGIN:STANDARD
TZOFFSETFROM:+0200
TZOFFSETTO:+0100
TZNAME:CET
DTSTART:20231029T010000
END:STANDARD
BEGIN:DAYLIGHT
TZOFFSETFROM:+0100
TZOFFSETTO:+0200
TZNAME:CEST
DTSTART:20240331T010000
END:DAYLIGHT
BEGIN:STANDARD
TZOFFSETFROM:+0200
TZOFFSETTO:+0100
TZNAME:CET
DTSTART:20241027T010000
END:STANDARD
BEGIN:DAYLIGHT
TZOFFSETFROM:+0100
TZOFFSETTO:+0200
TZNAME:CEST
DTSTART:20250330T010000
END:DAYLIGHT
BEGIN:STANDARD
TZOFFSETFROM:+0200
TZOFFSETTO:+0100
TZNAME:CET
DTSTART:20251026T010000
END:STANDARD
END:VTIMEZONE
BEGIN:VEVENT
DTSTART;TZID=Europe/Ljubljana:20241022T090000
DTEND;TZID=Europe/Ljubljana:20241022T170000
DTSTAMP:20260419T164109
CREATED:20240927T071058Z
LAST-MODIFIED:20240927T071149Z
UID:9645-1729587600-1729616400@ljubljanapride.org
SUMMARY:Symposium on the topic of the position of young LGBTIQ+ people in the Municipality of Ljubljana
DESCRIPTION:We invite you to a symposium on the topic of the position of young LGBTIQ+ people in the Municipality of Ljubljana\, which will take place on Tuesday\, 22 October 2024 between 9:00 a.m. and 5:00 p.m. in the premises of the City Hall in Ljubljana (Banquet Hall and Club 15). \nThe consultation is intended for all of you who work in the field of youth work\, LGBTIQ+ organisations and local decision makers\, because together we can ensure a more inclusive and supportive environment for LGBTIQ+ young people.\nThe event is an opportunity to jointly explore and deepen the understanding of the needs of LGBTIQ+ young people in the Municipality of Ljubljana and to reflect on the possibilities of including these needs in local policies and structures. \n\nThe second part of the symposium will be dedicated to the presentation of two good practices in the context of addressing the specific needs of LGBTIQ+ youth:\n1. First one will explore\, through the presentation of the concepts of inclusive organizations\, how they contribute to non-discrimination and the inclusion of LGBTIQ+ young people or contribute to the creation of a supportive environment for LGBTIQ+ youth at the local level\, including a perspective on why such approaches are important in youth work in general.\n2. Second part will present the concept of peer education and how it can be used in youth work to empower (LGBTIQ+) young people and how we can support young people in this type of work\, by presenting a concrete mentoring scheme for female peer educators. We are especially proud that some of our LGBTIQ+ peer educators will be present at the conference\, who will present their work.\n\nIf you would like to engage more in these topics\, please write to us at infoATljubljanapride.org\n\nThe event will be in Slovene language only.\n\nEvent is co-funded by the Municipality of Ljubljana and Erasmus+ programme.
URL:https://ljubljanapride.org/en/event/polozaj-mladih-lgbtiq-oseb-v-mestni-obcini-ljubljana/
LOCATION:Mestna občina Ljubljana\, Mestni trg 1\, Ljubljana\, 1000\, Slovenia
ATTACH;FMTTYPE=image/jpeg:https://ljubljanapride.org/wp-content/uploads/2024/09/insta-test-2@4x-100.jpg
END:VEVENT
END:VCALENDAR