BEGIN:VCALENDAR
VERSION:2.0
PRODID:-//Društvo Parada Ponosa - ECPv6.15.17.1//NONSGML v1.0//EN
CALSCALE:GREGORIAN
METHOD:PUBLISH
X-WR-CALNAME:Društvo Parada Ponosa
X-ORIGINAL-URL:https://ljubljanapride.org/en/
X-WR-CALDESC:Events for Društvo Parada Ponosa
REFRESH-INTERVAL;VALUE=DURATION:PT1H
X-Robots-Tag:noindex
X-PUBLISHED-TTL:PT1H
BEGIN:VTIMEZONE
TZID:Europe/Helsinki
BEGIN:DAYLIGHT
TZOFFSETFROM:+0200
TZOFFSETTO:+0300
TZNAME:EEST
DTSTART:20180325T010000
END:DAYLIGHT
BEGIN:STANDARD
TZOFFSETFROM:+0300
TZOFFSETTO:+0200
TZNAME:EET
DTSTART:20181028T010000
END:STANDARD
BEGIN:DAYLIGHT
TZOFFSETFROM:+0200
TZOFFSETTO:+0300
TZNAME:EEST
DTSTART:20190331T010000
END:DAYLIGHT
BEGIN:STANDARD
TZOFFSETFROM:+0300
TZOFFSETTO:+0200
TZNAME:EET
DTSTART:20191027T010000
END:STANDARD
BEGIN:DAYLIGHT
TZOFFSETFROM:+0200
TZOFFSETTO:+0300
TZNAME:EEST
DTSTART:20200329T010000
END:DAYLIGHT
BEGIN:STANDARD
TZOFFSETFROM:+0300
TZOFFSETTO:+0200
TZNAME:EET
DTSTART:20201025T010000
END:STANDARD
END:VTIMEZONE
BEGIN:VEVENT
DTSTART;TZID=Europe/Helsinki:20190416T190000
DTEND;TZID=Europe/Helsinki:20190416T210000
DTSTAMP:20260423T122753
CREATED:20190415T140037Z
LAST-MODIFIED:20190415T140037Z
UID:2027-1555441200-1555448400@ljubljanapride.org
SUMMARY:Pride connects
DESCRIPTION:Have you ever participated in European youth exchanges addressed to LGBTIQ+ people?\nHave you already done your short/long-term EVS/ESC that was LGBTIQ+-themed?\nHave you ever participated in a training or seminar supported by Erasmus+?\nAre you interested in being informed about the opportunities for people 18-30 provided by the European Union?\nAre you interested in learning how to get involved in future European projects related to LGBTIQ+ topic? \nLet’s meet next Tuesday to share our experiences\, promote the importance of volunteering and give more information to new people that want to attend future LGBTIQ+ themed projects. It will be also a good chance to create short video messages to support the European Youth Week 2019.
URL:https://ljubljanapride.org/en/event/pride-connects-7/
LOCATION:Društvo Parada ponosa\, Dunajska cesta 10\, Ljubljana
ATTACH;FMTTYPE=image/png:https://ljubljanapride.org/wp-content/uploads/2019/04/PCE-Evropski-teden-mladih.png
ORGANIZER;CN="Dru%C5%A1tvo Parada ponosa":MAILTO:info@ljubljanapride.org
END:VEVENT
END:VCALENDAR