BEGIN:VCALENDAR
VERSION:2.0
PRODID:-//Društvo Parada Ponosa - ECPv6.15.17.1//NONSGML v1.0//EN
CALSCALE:GREGORIAN
METHOD:PUBLISH
X-WR-CALNAME:Društvo Parada Ponosa
X-ORIGINAL-URL:https://ljubljanapride.org/en/
X-WR-CALDESC:Events for Društvo Parada Ponosa
REFRESH-INTERVAL;VALUE=DURATION:PT1H
X-Robots-Tag:noindex
X-PUBLISHED-TTL:PT1H
BEGIN:VTIMEZONE
TZID:Europe/Ljubljana
BEGIN:DAYLIGHT
TZOFFSETFROM:+0100
TZOFFSETTO:+0200
TZNAME:CEST
DTSTART:20200329T010000
END:DAYLIGHT
BEGIN:STANDARD
TZOFFSETFROM:+0200
TZOFFSETTO:+0100
TZNAME:CET
DTSTART:20201025T010000
END:STANDARD
BEGIN:DAYLIGHT
TZOFFSETFROM:+0100
TZOFFSETTO:+0200
TZNAME:CEST
DTSTART:20210328T010000
END:DAYLIGHT
BEGIN:STANDARD
TZOFFSETFROM:+0200
TZOFFSETTO:+0100
TZNAME:CET
DTSTART:20211031T010000
END:STANDARD
BEGIN:DAYLIGHT
TZOFFSETFROM:+0100
TZOFFSETTO:+0200
TZNAME:CEST
DTSTART:20220327T010000
END:DAYLIGHT
BEGIN:STANDARD
TZOFFSETFROM:+0200
TZOFFSETTO:+0100
TZNAME:CET
DTSTART:20221030T010000
END:STANDARD
END:VTIMEZONE
BEGIN:VEVENT
DTSTART;TZID=Europe/Ljubljana:20211026T180000
DTEND;TZID=Europe/Ljubljana:20211026T180000
DTSTAMP:20260424T184756
CREATED:20211015T105518Z
LAST-MODIFIED:20211022T093939Z
UID:5259-1635271200-1635271200@ljubljanapride.org
SUMMARY:Pride Connects: How will you sleep tonight?
DESCRIPTION:On 10th of October we commemorated International Mental Health Day and International Homelessnes Day. \nIn the light of those events we will dedicate the next Pride Connects to those topics and connect them to the LGBTIQ+ community. During the event we will share our personal experiences\, be creative and open up conversations about homelesness and housing exclusion\, since they are still overlooked a lot of times. We will address the risks and problems of housing exclusion\, which is often connected with people in the LGBTIQ+ community. \nAlthough we can´t change the world within one evening\, we definitely can exchange our stories and experiences in a safe space we create ourselves. \n Who is it for? It is aimed at young LGBTIQ+ people facing precarious housing situations as well as everyone in the community who wants to learn about it/ address the issue. \n The workshop will be held in English. \n If you are experiencing a housing crisis or you are in need of a talk\, you can contact programme Sqvot that deals with housing exclusion and homelessness of LGBTIQ+ youth and offers support\, short-term crisis accommodations and works on prevention. Write to sqvot@ljubljanapride.org for more information. \n__________________________________________________________________________ \n With ‘Pride Connects’\, we strive to connect the local LGBTIQ+ youth\, activists\, and all those interested in the political side of Pride(s) and LGBTIQ+ Human Rights Struggles in Slovenia and across the world. \nWe know that being an openly LGBTIQ+ person and existing in any public space is a political act\, and we know it is not easy – so we want to create a safe(r) space for all LGBTIQ+ people and a place of empowerment.
URL:https://ljubljanapride.org/en/event/pride-connects-how-will-you-sleep-tonight/
LOCATION:Društvo Parada ponosa\, Dunajska cesta 10
ATTACH;FMTTYPE=image/png:https://ljubljanapride.org/wp-content/uploads/2021/10/PCE-How-will-you-sleep-IG.png
END:VEVENT
END:VCALENDAR