BEGIN:VCALENDAR
VERSION:2.0
PRODID:-//Društvo Parada Ponosa - ECPv6.15.17.1//NONSGML v1.0//EN
CALSCALE:GREGORIAN
METHOD:PUBLISH
X-WR-CALNAME:Društvo Parada Ponosa
X-ORIGINAL-URL:https://ljubljanapride.org/en/
X-WR-CALDESC:Events for Društvo Parada Ponosa
REFRESH-INTERVAL;VALUE=DURATION:PT1H
X-Robots-Tag:noindex
X-PUBLISHED-TTL:PT1H
BEGIN:VTIMEZONE
TZID:Europe/Helsinki
BEGIN:DAYLIGHT
TZOFFSETFROM:+0200
TZOFFSETTO:+0300
TZNAME:EEST
DTSTART:20180325T010000
END:DAYLIGHT
BEGIN:STANDARD
TZOFFSETFROM:+0300
TZOFFSETTO:+0200
TZNAME:EET
DTSTART:20181028T010000
END:STANDARD
BEGIN:DAYLIGHT
TZOFFSETFROM:+0200
TZOFFSETTO:+0300
TZNAME:EEST
DTSTART:20190331T010000
END:DAYLIGHT
BEGIN:STANDARD
TZOFFSETFROM:+0300
TZOFFSETTO:+0200
TZNAME:EET
DTSTART:20191027T010000
END:STANDARD
BEGIN:DAYLIGHT
TZOFFSETFROM:+0200
TZOFFSETTO:+0300
TZNAME:EEST
DTSTART:20200329T010000
END:DAYLIGHT
BEGIN:STANDARD
TZOFFSETFROM:+0300
TZOFFSETTO:+0200
TZNAME:EET
DTSTART:20201025T010000
END:STANDARD
END:VTIMEZONE
BEGIN:VEVENT
DTSTART;TZID=Europe/Helsinki:20190423T190000
DTEND;TZID=Europe/Helsinki:20190423T210000
DTSTAMP:20260423T151625
CREATED:20190419T131945Z
LAST-MODIFIED:20190419T131945Z
UID:2052-1556046000-1556053200@ljubljanapride.org
SUMMARY:Pride connects // Lesbian identity(ies)
DESCRIPTION:April 26th marks the Lesbian Visibility Day. On that note\, we want to dedicate our next Pride Connects (23.04) to lesbian identity(ies). \nWe invite you to come and share your experiences on how you connect to this important date. How are butch – femme distinctions significant for you\, how much do they shape your life and which role they play? How are lesbians creating community and a sense belonging within LGBTIQ+? \nHow does identifying as lesbian shape your other intersecting identities? \nThese are just some of the questions we’d like to discuss together next Tuesday. Lesbians as well as anyone identifying within the queer umbrella is welcome to join the discussion. \nSee you! \nWith ‘PRIDE CONNECTS’\, we strive to connect the local LGBTIQ+ youth\, activists\, and all those interested in the political side of Pride(s) and LGBTIQ+ Human Rights Struggles in Slovenia and across the world. We know that being an openly LGBTIQ+ person and walking down any public space is a political act\, and we know it is not easy – so we want to create a safe(r) space for all LGBTIQ+ people and a place of empowerment.
URL:https://ljubljanapride.org/en/event/pride-connects-lesbian-identityies/
LOCATION:Društvo Parada ponosa\, Dunajska cesta 10\, Ljubljana
ATTACH;FMTTYPE=image/png:https://ljubljanapride.org/wp-content/uploads/2019/04/PCE-Lezbična-identiteta.png
ORGANIZER;CN="Dru%C5%A1tvo Parada ponosa":MAILTO:info@ljubljanapride.org
END:VEVENT
END:VCALENDAR