BEGIN:VCALENDAR
VERSION:2.0
PRODID:-//Društvo Parada Ponosa - ECPv6.15.17.1//NONSGML v1.0//EN
CALSCALE:GREGORIAN
METHOD:PUBLISH
X-WR-CALNAME:Društvo Parada Ponosa
X-ORIGINAL-URL:https://ljubljanapride.org/en/
X-WR-CALDESC:Events for Društvo Parada Ponosa
REFRESH-INTERVAL;VALUE=DURATION:PT1H
X-Robots-Tag:noindex
X-PUBLISHED-TTL:PT1H
BEGIN:VTIMEZONE
TZID:Europe/Ljubljana
BEGIN:DAYLIGHT
TZOFFSETFROM:+0100
TZOFFSETTO:+0200
TZNAME:CEST
DTSTART:20220327T010000
END:DAYLIGHT
BEGIN:STANDARD
TZOFFSETFROM:+0200
TZOFFSETTO:+0100
TZNAME:CET
DTSTART:20221030T010000
END:STANDARD
BEGIN:DAYLIGHT
TZOFFSETFROM:+0100
TZOFFSETTO:+0200
TZNAME:CEST
DTSTART:20230326T010000
END:DAYLIGHT
BEGIN:STANDARD
TZOFFSETFROM:+0200
TZOFFSETTO:+0100
TZNAME:CET
DTSTART:20231029T010000
END:STANDARD
BEGIN:DAYLIGHT
TZOFFSETFROM:+0100
TZOFFSETTO:+0200
TZNAME:CEST
DTSTART:20240331T010000
END:DAYLIGHT
BEGIN:STANDARD
TZOFFSETFROM:+0200
TZOFFSETTO:+0100
TZNAME:CET
DTSTART:20241027T010000
END:STANDARD
END:VTIMEZONE
BEGIN:VEVENT
DTSTART;TZID=Europe/Ljubljana:20230424T170000
DTEND;TZID=Europe/Ljubljana:20230424T193000
DTSTAMP:20260421T013415
CREATED:20230413T113140Z
LAST-MODIFIED:20230413T113334Z
UID:7732-1682355600-1682364600@ljubljanapride.org
SUMMARY:Pride connects: Let's play about the climate change!
DESCRIPTION:Have you ever wondered what climate justice has in common with LGBTIQ+ activism? \n‌ \nNow you have the chance to get an answer\, or several\, from young climate change activists and experts who will be taking part in the “Let’s play about climate change!” event. \n‌ \nJoin us at the “kick-off” event\, where we will\, for the first time\, play the board game called “Planet Queer”\, which addresses the intersection between climate change and LGBTIQ+ issues. After the game\, there will be a short discussion where we can also share our own ways of coping with climate change. \n‌ \nWhere? \nAt PLAC – Participativna Ljubljanska Avtonomna Cona \n‌ \nWhen? \nMonday 24th of April form 17:00 – 19:30 \n‌ \nSee you at the “kick-off” event and the first ever test play of the board game “Planet Queer”! \n\nThe activity is part of the project Sustainable Activism\, financed by the European Union. \nThe activity is co-financed by the Office of Youth RS.
URL:https://ljubljanapride.org/en/event/pride-connects-lets-play-about-the-climate-change/
LOCATION:Plac\, Linhartova cesta 43\, Ljubljana
ATTACH;FMTTYPE=image/png:https://ljubljanapride.org/wp-content/uploads/2023/04/Pride-connects_Climate-change_IG.png
END:VEVENT
END:VCALENDAR