BEGIN:VCALENDAR
VERSION:2.0
PRODID:-//Društvo Parada Ponosa - ECPv6.15.17.1//NONSGML v1.0//EN
CALSCALE:GREGORIAN
METHOD:PUBLISH
X-WR-CALNAME:Društvo Parada Ponosa
X-ORIGINAL-URL:https://ljubljanapride.org/en/
X-WR-CALDESC:Events for Društvo Parada Ponosa
REFRESH-INTERVAL;VALUE=DURATION:PT1H
X-Robots-Tag:noindex
X-PUBLISHED-TTL:PT1H
BEGIN:VTIMEZONE
TZID:Europe/Helsinki
BEGIN:DAYLIGHT
TZOFFSETFROM:+0200
TZOFFSETTO:+0300
TZNAME:EEST
DTSTART:20180325T010000
END:DAYLIGHT
BEGIN:STANDARD
TZOFFSETFROM:+0300
TZOFFSETTO:+0200
TZNAME:EET
DTSTART:20181028T010000
END:STANDARD
BEGIN:DAYLIGHT
TZOFFSETFROM:+0200
TZOFFSETTO:+0300
TZNAME:EEST
DTSTART:20190331T010000
END:DAYLIGHT
BEGIN:STANDARD
TZOFFSETFROM:+0300
TZOFFSETTO:+0200
TZNAME:EET
DTSTART:20191027T010000
END:STANDARD
BEGIN:DAYLIGHT
TZOFFSETFROM:+0200
TZOFFSETTO:+0300
TZNAME:EEST
DTSTART:20200329T010000
END:DAYLIGHT
BEGIN:STANDARD
TZOFFSETFROM:+0300
TZOFFSETTO:+0200
TZNAME:EET
DTSTART:20201025T010000
END:STANDARD
END:VTIMEZONE
BEGIN:VEVENT
DTSTART;TZID=Europe/Helsinki:20190326T190000
DTEND;TZID=Europe/Helsinki:20190326T210000
DTSTAMP:20260422T181211
CREATED:20190325T164428Z
LAST-MODIFIED:20190325T164428Z
UID:1958-1553626800-1553634000@ljubljanapride.org
SUMMARY:Pride connects // Movie night
DESCRIPTION:Pride connects invites you to the screening of the documentary Breaking Free\, by the filmmaker and gay rights activist Sridhar Rangayan. The documentary makes visible the human rights violations faced by the LGBTIQ community in India due to the colonial law Section 377 and homophobic social mores of India’s patriarchal society. \nWhile homosexuality was decriminalized in 2009\, the Supreme Court reversed that decision in 2013. Breaking Free provides many personal testimonies that the law is being misused by police and blackmailers to exhort\, torture and rape LGBTIQ people. \nAfter the screening\, we invite you to an informal discussion circle. \nSee you at 19h! \nWith ‘PRIDE CONNECTS’\, we strive to connect the local LGBTIQ+ youth\, activists\, and all those interested in the political side of Pride(s) and LGBTIQ+ Human Rights Struggles in Slovenia and across the world. We know that being an openly LGBTIQ+ person and walking down any public space is a political act\, and we know it is not easy – so we want to create a safe(r) space for all LGBTIQ+ people and a place of empowerment.
URL:https://ljubljanapride.org/en/event/pride-connects-movie-night/
LOCATION:Društvo Parada ponosa\, Dunajska cesta 10\, Ljubljana
ATTACH;FMTTYPE=image/jpeg:https://ljubljanapride.org/wp-content/uploads/2019/03/Parada-povezuje.jpg
ORGANIZER;CN="Dru%C5%A1tvo Parada ponosa":MAILTO:info@ljubljanapride.org
END:VEVENT
END:VCALENDAR