BEGIN:VCALENDAR
VERSION:2.0
PRODID:-//Društvo Parada Ponosa - ECPv6.15.17.1//NONSGML v1.0//EN
CALSCALE:GREGORIAN
METHOD:PUBLISH
X-WR-CALNAME:Društvo Parada Ponosa
X-ORIGINAL-URL:https://ljubljanapride.org/en/
X-WR-CALDESC:Events for Društvo Parada Ponosa
REFRESH-INTERVAL;VALUE=DURATION:PT1H
X-Robots-Tag:noindex
X-PUBLISHED-TTL:PT1H
BEGIN:VTIMEZONE
TZID:Europe/Ljubljana
BEGIN:DAYLIGHT
TZOFFSETFROM:+0100
TZOFFSETTO:+0200
TZNAME:CEST
DTSTART:20220327T010000
END:DAYLIGHT
BEGIN:STANDARD
TZOFFSETFROM:+0200
TZOFFSETTO:+0100
TZNAME:CET
DTSTART:20221030T010000
END:STANDARD
BEGIN:DAYLIGHT
TZOFFSETFROM:+0100
TZOFFSETTO:+0200
TZNAME:CEST
DTSTART:20230326T010000
END:DAYLIGHT
BEGIN:STANDARD
TZOFFSETFROM:+0200
TZOFFSETTO:+0100
TZNAME:CET
DTSTART:20231029T010000
END:STANDARD
BEGIN:DAYLIGHT
TZOFFSETFROM:+0100
TZOFFSETTO:+0200
TZNAME:CEST
DTSTART:20240331T010000
END:DAYLIGHT
BEGIN:STANDARD
TZOFFSETFROM:+0200
TZOFFSETTO:+0100
TZNAME:CET
DTSTART:20241027T010000
END:STANDARD
END:VTIMEZONE
BEGIN:VEVENT
DTSTART;TZID=Europe/Ljubljana:20231205T170000
DTEND;TZID=Europe/Ljubljana:20231205T190000
DTSTAMP:20260420T222931
CREATED:20231129T101854Z
LAST-MODIFIED:20231204T112746Z
UID:8523-1701795600-1701802800@ljubljanapride.org
SUMMARY:Pride Connects: Queer sustainable holiday cards
DESCRIPTION:The winter holidays are approaching quickly… would you like to prepare for them in a more sustainable way?\nWhy not spare the planet and your wallet this season?\nInstead of opting for new purchases\, let’s embrace the art of upcycling—transforming what you already have into something extraordinary!\nAt the pre-St. Nicholas workshop\, we will show you how to make creative and sustainable greeting cards.\n\nNo need to be an artist!\n\nJoin us for a fun time at any point of the afternoon\, snacks and drinks are on us!\n\n\n_____________\nFunded by the European Union
URL:https://ljubljanapride.org/en/event/pride-connects-queer-sustainable-holiday-cards/
LOCATION:Društvo Parada ponosa\, Dunajska cesta 10
ATTACH;FMTTYPE=image/jpeg:https://ljubljanapride.org/wp-content/uploads/2023/11/PCE-Queer-sustainable-cards_fb-scaled.jpg
END:VEVENT
END:VCALENDAR