BEGIN:VCALENDAR
VERSION:2.0
PRODID:-//Društvo Parada Ponosa - ECPv6.15.17.1//NONSGML v1.0//EN
CALSCALE:GREGORIAN
METHOD:PUBLISH
X-WR-CALNAME:Društvo Parada Ponosa
X-ORIGINAL-URL:https://ljubljanapride.org/en/
X-WR-CALDESC:Events for Društvo Parada Ponosa
REFRESH-INTERVAL;VALUE=DURATION:PT1H
X-Robots-Tag:noindex
X-PUBLISHED-TTL:PT1H
BEGIN:VTIMEZONE
TZID:Europe/Helsinki
BEGIN:DAYLIGHT
TZOFFSETFROM:+0200
TZOFFSETTO:+0300
TZNAME:EEST
DTSTART:20190331T010000
END:DAYLIGHT
BEGIN:STANDARD
TZOFFSETFROM:+0300
TZOFFSETTO:+0200
TZNAME:EET
DTSTART:20191027T010000
END:STANDARD
BEGIN:DAYLIGHT
TZOFFSETFROM:+0200
TZOFFSETTO:+0300
TZNAME:EEST
DTSTART:20200329T010000
END:DAYLIGHT
BEGIN:STANDARD
TZOFFSETFROM:+0300
TZOFFSETTO:+0200
TZNAME:EET
DTSTART:20201025T010000
END:STANDARD
BEGIN:DAYLIGHT
TZOFFSETFROM:+0200
TZOFFSETTO:+0300
TZNAME:EEST
DTSTART:20210328T010000
END:DAYLIGHT
BEGIN:STANDARD
TZOFFSETFROM:+0300
TZOFFSETTO:+0200
TZNAME:EET
DTSTART:20211031T010000
END:STANDARD
END:VTIMEZONE
BEGIN:VEVENT
DTSTART;TZID=Europe/Helsinki:20201215T180000
DTEND;TZID=Europe/Helsinki:20201215T200000
DTSTAMP:20260424T165503
CREATED:20201207T114058Z
LAST-MODIFIED:20201207T114215Z
UID:4534-1608055200-1608062400@ljubljanapride.org
SUMMARY:Pride connects: Self-Care Zine-Making workshop
DESCRIPTION:Pride Connects is organising a zine-making workshop with the topic of self-care.\n\nTo register\, please send an email to asja@ljubljanapride.org.\n\nThis event will take place online via ZOOM.\n\nSelf-care does not always have to be about bubble-baths and scented candles; more often than not\, it’s about keeping promises to ourselves and learning how to say no.\nIn this workshop\, we will exchange some of our thoughts on and practices of self-care\, and use that conversation as a starting point for getting creative together. And since being creative and in community with each other can be a form of taking care of ourselves\, this will be a zine-making activity on self-care\, as self-care!\nBy the end of the event we will hopefully have learned some tips and tricks to help us through the gloomy winter days and the scariness of the world\, and have a tiny zine to show for it!\n\nThe event will be in English\, with a Slovene-speaker present for support if needed.\n\nWith ‘Pride Connects’\, we strive to connect the local LGBTIQ+ youth\, activists\, and all those interested in the political side of Pride(s) and LGBTIQ+ Human Rights Struggles in Slovenia and across the world.\n\nWe know that being an openly LGBTIQ+ person and existing in any public space is a political act\, and we know it is not easy – so we want to create a safe(r) space for all LGBTIQ+ people and a place of empowerment.
URL:https://ljubljanapride.org/en/event/pride-connects-self-care-zine-making-workshop/
LOCATION:Zoom
ATTACH;FMTTYPE=image/jpeg:https://ljubljanapride.org/wp-content/uploads/2020/12/PCE-Self-Care-Zine-Making-Workshop_fb-scaled.jpg
END:VEVENT
END:VCALENDAR