BEGIN:VCALENDAR
VERSION:2.0
PRODID:-//Društvo Parada Ponosa - ECPv6.15.17.1//NONSGML v1.0//EN
CALSCALE:GREGORIAN
METHOD:PUBLISH
X-WR-CALNAME:Društvo Parada Ponosa
X-ORIGINAL-URL:https://ljubljanapride.org/en/
X-WR-CALDESC:Events for Društvo Parada Ponosa
REFRESH-INTERVAL;VALUE=DURATION:PT1H
X-Robots-Tag:noindex
X-PUBLISHED-TTL:PT1H
BEGIN:VTIMEZONE
TZID:Europe/Ljubljana
BEGIN:DAYLIGHT
TZOFFSETFROM:+0100
TZOFFSETTO:+0200
TZNAME:CEST
DTSTART:20230326T010000
END:DAYLIGHT
BEGIN:STANDARD
TZOFFSETFROM:+0200
TZOFFSETTO:+0100
TZNAME:CET
DTSTART:20231029T010000
END:STANDARD
BEGIN:DAYLIGHT
TZOFFSETFROM:+0100
TZOFFSETTO:+0200
TZNAME:CEST
DTSTART:20240331T010000
END:DAYLIGHT
BEGIN:STANDARD
TZOFFSETFROM:+0200
TZOFFSETTO:+0100
TZNAME:CET
DTSTART:20241027T010000
END:STANDARD
BEGIN:DAYLIGHT
TZOFFSETFROM:+0100
TZOFFSETTO:+0200
TZNAME:CEST
DTSTART:20250330T010000
END:DAYLIGHT
BEGIN:STANDARD
TZOFFSETFROM:+0200
TZOFFSETTO:+0100
TZNAME:CET
DTSTART:20251026T010000
END:STANDARD
END:VTIMEZONE
BEGIN:VEVENT
DTSTART;TZID=Europe/Ljubljana:20240528T180000
DTEND;TZID=Europe/Ljubljana:20240528T200000
DTSTAMP:20260420T103930
CREATED:20240430T112832Z
LAST-MODIFIED:20240513T131053Z
UID:9330-1716919200-1716926400@ljubljanapride.org
SUMMARY:Sustainable merch
DESCRIPTION:The Pride Festival is approaching! \nWould you like to learn how to make sustainable merch? \nJoin us and other volunteers where we will show you how to make creative and sustainable merch for this year’s festival! \nNo need to be an artist! Join us for a fun time at any point of the afternoon\, snacks and drinks are on us!
URL:https://ljubljanapride.org/en/event/pride-connects-trajnostni-promocijski-materiali/
ATTACH;FMTTYPE=image/jpeg:https://ljubljanapride.org/wp-content/uploads/2024/04/pride-connect-1.jpg
END:VEVENT
END:VCALENDAR