BEGIN:VCALENDAR
VERSION:2.0
PRODID:-//Društvo Parada Ponosa - ECPv6.15.17.1//NONSGML v1.0//EN
CALSCALE:GREGORIAN
METHOD:PUBLISH
X-WR-CALNAME:Društvo Parada Ponosa
X-ORIGINAL-URL:https://ljubljanapride.org/en/
X-WR-CALDESC:Events for Društvo Parada Ponosa
REFRESH-INTERVAL;VALUE=DURATION:PT1H
X-Robots-Tag:noindex
X-PUBLISHED-TTL:PT1H
BEGIN:VTIMEZONE
TZID:Europe/Helsinki
BEGIN:DAYLIGHT
TZOFFSETFROM:+0200
TZOFFSETTO:+0300
TZNAME:EEST
DTSTART:20180325T010000
END:DAYLIGHT
BEGIN:STANDARD
TZOFFSETFROM:+0300
TZOFFSETTO:+0200
TZNAME:EET
DTSTART:20181028T010000
END:STANDARD
BEGIN:DAYLIGHT
TZOFFSETFROM:+0200
TZOFFSETTO:+0300
TZNAME:EEST
DTSTART:20190331T010000
END:DAYLIGHT
BEGIN:STANDARD
TZOFFSETFROM:+0300
TZOFFSETTO:+0200
TZNAME:EET
DTSTART:20191027T010000
END:STANDARD
BEGIN:DAYLIGHT
TZOFFSETFROM:+0200
TZOFFSETTO:+0300
TZNAME:EEST
DTSTART:20200329T010000
END:DAYLIGHT
BEGIN:STANDARD
TZOFFSETFROM:+0300
TZOFFSETTO:+0200
TZNAME:EET
DTSTART:20201025T010000
END:STANDARD
END:VTIMEZONE
BEGIN:VEVENT
DTSTART;TZID=Europe/Helsinki:20190614T230000
DTEND;TZID=Europe/Helsinki:20190615T050000
DTSTAMP:20260425T032334
CREATED:20190603T183258Z
LAST-MODIFIED:20190612T152034Z
UID:2359-1560553200-1560574800@ljubljanapride.org
SUMMARY:Pride Fundraiser
DESCRIPTION:Come and support Ljubljana Pride Festival 2019! \nThere are several different ways you can support the Pride Parade Festival. One of them is coming to the fundraiser\, partying with us\, drinking beer\, taking some badges in exchange for a donation\, having a great time and contribute to this year’s festival. Is there a better excuse for a party? \nDJ program \n*Club Monokel*\nDJ Annarch \n*Club Tiffany*\nDJ Dani \nCo-production: Ljubljana Pride with Club Monokel and Tiffany
URL:https://ljubljanapride.org/en/event/pride-fundraiser/
LOCATION:Klub Tiffany in Monokel\, Masarykova cesta 24\, Ljubljana\, 1000\, Slovenia
ATTACH;FMTTYPE=image/png:https://ljubljanapride.org/wp-content/uploads/2019/06/14.6._Pride-Fundraiser-Medium.png
ORGANIZER;CN="Dru%C5%A1tvo Parada ponosa":MAILTO:info@ljubljanapride.org
END:VEVENT
END:VCALENDAR