BEGIN:VCALENDAR
VERSION:2.0
PRODID:-//Društvo Parada Ponosa - ECPv6.15.17.1//NONSGML v1.0//EN
CALSCALE:GREGORIAN
METHOD:PUBLISH
X-WR-CALNAME:Društvo Parada Ponosa
X-ORIGINAL-URL:https://ljubljanapride.org/en/
X-WR-CALDESC:Events for Društvo Parada Ponosa
REFRESH-INTERVAL;VALUE=DURATION:PT1H
X-Robots-Tag:noindex
X-PUBLISHED-TTL:PT1H
BEGIN:VTIMEZONE
TZID:Europe/Helsinki
BEGIN:DAYLIGHT
TZOFFSETFROM:+0200
TZOFFSETTO:+0300
TZNAME:EEST
DTSTART:20190331T010000
END:DAYLIGHT
BEGIN:STANDARD
TZOFFSETFROM:+0300
TZOFFSETTO:+0200
TZNAME:EET
DTSTART:20191027T010000
END:STANDARD
BEGIN:DAYLIGHT
TZOFFSETFROM:+0200
TZOFFSETTO:+0300
TZNAME:EEST
DTSTART:20200329T010000
END:DAYLIGHT
BEGIN:STANDARD
TZOFFSETFROM:+0300
TZOFFSETTO:+0200
TZNAME:EET
DTSTART:20201025T010000
END:STANDARD
BEGIN:DAYLIGHT
TZOFFSETFROM:+0200
TZOFFSETTO:+0300
TZNAME:EEST
DTSTART:20210328T010000
END:DAYLIGHT
BEGIN:STANDARD
TZOFFSETFROM:+0300
TZOFFSETTO:+0200
TZNAME:EET
DTSTART:20211031T010000
END:STANDARD
END:VTIMEZONE
BEGIN:VEVENT
DTSTART;TZID=Europe/Helsinki:20200926T100000
DTEND;TZID=Europe/Helsinki:20200926T150000
DTSTAMP:20260425T013011
CREATED:20200831T061047Z
LAST-MODIFIED:20200901T080421Z
UID:3839-1601114400-1601132400@ljubljanapride.org
SUMMARY:Pride Village
DESCRIPTION:Organised by: Ljubljana Pride Association \nLanguage: Slovene\, English \n  \nLGBTIQ+ Bazaar and Living Library  \nLGBTIQ + organizations and organizations that address LGBTIQ + topics with their activities will be presented at the stands. A living library works like any other library\, except that  books  are persons who\, through dialogue with readers\, open the door to a world of personal stories and experiences. Living books are representatives of vulnerable social groups who face prejudices and stereotypes\, discrimination\, stigmatization and social marginalization. A reader can be anyone who is willing to face their own stereotypes and prejudices\, and reading is a conversation with a person to whom we attribute all these stereotypes and prejudices. \nLiving Library is organised by: Živa knjižnica Ljubljana\, DIC Legebitra.
URL:https://ljubljanapride.org/en/event/pride-village/
LOCATION:Stritarjeva ulica\, Stritarjeva ulica\, Ljubljana\, 1000\, Slovenija
ATTACH;FMTTYPE=image/png:https://ljubljanapride.org/wp-content/uploads/2020/08/26.9._Paradno-mesto-Small.png
END:VEVENT
END:VCALENDAR